BEGIN:VCALENDAR
VERSION:2.0
PRODID:-//Downtown OKC - ECPv6.15.20//NONSGML v1.0//EN
CALSCALE:GREGORIAN
METHOD:PUBLISH
X-ORIGINAL-URL:https://downtownokc.com
X-WR-CALDESC:Events for Downtown OKC
REFRESH-INTERVAL;VALUE=DURATION:PT1H
X-Robots-Tag:noindex
X-PUBLISHED-TTL:PT1H
BEGIN:VTIMEZONE
TZID:UTC
BEGIN:STANDARD
TZOFFSETFROM:+0000
TZOFFSETTO:+0000
TZNAME:UTC
DTSTART:20250101T000000
END:STANDARD
END:VTIMEZONE
BEGIN:VEVENT
DTSTART;TZID=UTC:20260510T110000
DTEND;TZID=UTC:20260510T140000
DTSTAMP:20260421T155610
CREATED:20260204T182555Z
LAST-MODIFIED:20260204T182555Z
UID:10039450-1778410800-1778421600@downtownokc.com
SUMMARY:Mother's Day Brunch
DESCRIPTION:Celebrate Mom with an unforgettable Mother’s Day Brunch at the historic Skirvin Hilton. Join us for a beautifully curated brunch experience featuring chef-driven seasonal favorites\, indulgent brunch classics\, and thoughtfully crafted sweets—perfect for honoring the women who do it all. \nSet within our iconicGrand Ballroom\, guests will enjoy an elegant yet inviting atmosphere ideal for gathering\, toasting\, and lingering a little longer. From sparkling sips and brunch cocktails to refined savory dishes and decadent desserts\, every detail is designed to make Mom feel celebrated. \nWhether you’re continuing a cherished tradition or starting a new one\, make this Mother’s Day one to remember at the Skirvin.
URL:https://downtownokc.com/event/mothers-day-brunch/
LOCATION:The Skirvin Hilton\, 1 Park Ave\, Oklahoma City\, OK\, 73102\, United States
CATEGORIES:City Center,Downtown OKC
ATTACH;FMTTYPE=image/png:https://downtownokc.com/wp-content/uploads/2026/02/Event-Banners-2.png
GEO:35.469145;-97.513801
X-APPLE-STRUCTURED-LOCATION;VALUE=URI;X-ADDRESS=The Skirvin Hilton 1 Park Ave Oklahoma City OK 73102 United States;X-APPLE-RADIUS=500;X-TITLE=1 Park Ave:geo:-97.513801,35.469145
END:VEVENT
END:VCALENDAR