BEGIN:VCALENDAR
VERSION:2.0
PRODID:-//Downtown OKC - ECPv6.15.20//NONSGML v1.0//EN
CALSCALE:GREGORIAN
METHOD:PUBLISH
X-WR-CALNAME:Downtown OKC
X-ORIGINAL-URL:https://downtownokc.com
X-WR-CALDESC:Events for Downtown OKC
REFRESH-INTERVAL;VALUE=DURATION:PT1H
X-Robots-Tag:noindex
X-PUBLISHED-TTL:PT1H
BEGIN:VTIMEZONE
TZID:UTC
BEGIN:STANDARD
TZOFFSETFROM:+0000
TZOFFSETTO:+0000
TZNAME:UTC
DTSTART:20240101T000000
END:STANDARD
END:VTIMEZONE
BEGIN:VEVENT
DTSTART;TZID=UTC:20250711T183000
DTEND;TZID=UTC:20250711T203000
DTSTAMP:20260419T124508
CREATED:20250212T223350Z
LAST-MODIFIED:20250212T223350Z
UID:10034666-1752258600-1752265800@downtownokc.com
SUMMARY:Coffee & Dessert Pairing
DESCRIPTION:July 11\, 2025 | 6:30-8:30pm |Coffee & Dessert Pairing \nGuests will be served mini desserts\, each paired with a unique coffee. A brief explanation will guide them on why certain flavors work well together. Then we will execute a blind-fold tasting challenge. The couple that gets the most correct will win a prize. \nSpace is limited to only 7 couples per class! Registration is required. \nCost is $100 per couple per class. Save money when you register for all 3! \nBe sure to subscribe to our newsletter and be notified when new classes are added!
URL:https://downtownokc.com/event/coffee-dessert-pairing/
LOCATION:Stitch Cafe\, OK\, United States
CATEGORIES:Downtown OKC,West Village
ATTACH;FMTTYPE=image/png:https://downtownokc.com/wp-content/uploads/2025/02/Screenshot-2025-02-12-161809.png
END:VEVENT
BEGIN:VEVENT
DTSTART;TZID=UTC:20250516T183000
DTEND;TZID=UTC:20250516T203000
DTSTAMP:20260419T124508
CREATED:20250212T222703Z
LAST-MODIFIED:20250212T222703Z
UID:10034665-1747420200-1747427400@downtownokc.com
SUMMARY:Latte Art Game
DESCRIPTION:May 16\, 2025 | 6:30-8:30pm | Latte Art Game \nA barista will demonstrate basic latte art techniques\, then couples will step behind the espresso machine to try their hand at creating hearts. Prizes will be given for the most creative heart design. \nPrice is per couple! A cozy\, after-hours event designed exclusively for couples to bond over coffee\, creativity\, and connection. The experience will feature hands-on activities\, guided tastings\, and a chance to learn more about each other through coffe \n\nSpace is limited to only 7 couples per class! Registration is required. \nCost is $100 per couple per class. Save money when you register for all 3! \nBe sure to subscribe to our newsletter and be notified when new classes are added! \n 
URL:https://downtownokc.com/event/latte-art-game/
LOCATION:Stitch Cafe\, OK\, United States
CATEGORIES:Downtown OKC,West Village
ATTACH;FMTTYPE=image/png:https://downtownokc.com/wp-content/uploads/2025/02/Screenshot-2025-02-12-161809.png
END:VEVENT
BEGIN:VEVENT
DTSTART;TZID=UTC:20250307T183000
DTEND;TZID=UTC:20250307T203000
DTSTAMP:20260419T124508
CREATED:20250212T222059Z
LAST-MODIFIED:20250212T222059Z
UID:10034664-1741372200-1741379400@downtownokc.com
SUMMARY:Home Brew & Terrarium Class
DESCRIPTION:March 7\, 2025 | 6:30-8:30pm | Home Brew & Terrarium Class \nGuests will enjoy a guided coffee-tasting flight of one coffee extracted three ways. Couples will then learn the basic principles to brewing coffee at home. The night will end with a chance to get your hands dirty through a terrarium workshop instructed by the Plant Shoppe. \nSpace is limited to only 7 couples per class! Registration is required. \nCost is $100 per couple per class. Save money when you register for all 3! \nBe sure to subscribe to our newsletter and be notified when new classes are added!
URL:https://downtownokc.com/event/home-brew-terrarium-class/
LOCATION:Stitch Cafe\, OK\, United States
CATEGORIES:Downtown OKC,West Village
ATTACH;FMTTYPE=image/png:https://downtownokc.com/wp-content/uploads/2025/02/Screenshot-2025-02-12-161809.png
END:VEVENT
END:VCALENDAR