BEGIN:VCALENDAR
VERSION:2.0
PRODID:-//Downtown OKC - ECPv6.15.20//NONSGML v1.0//EN
CALSCALE:GREGORIAN
METHOD:PUBLISH
X-ORIGINAL-URL:https://downtownokc.com
X-WR-CALDESC:Events for Downtown OKC
REFRESH-INTERVAL;VALUE=DURATION:PT1H
X-Robots-Tag:noindex
X-PUBLISHED-TTL:PT1H
BEGIN:VTIMEZONE
TZID:UTC
BEGIN:STANDARD
TZOFFSETFROM:+0000
TZOFFSETTO:+0000
TZNAME:UTC
DTSTART:20230101T000000
END:STANDARD
END:VTIMEZONE
BEGIN:VEVENT
DTSTART;TZID=UTC:20240915T180000
DTEND;TZID=UTC:20240915T220000
DTSTAMP:20260425T152456
CREATED:20230206T180341Z
LAST-MODIFIED:20230206T180341Z
UID:10015592-1726423200-1726437600@downtownokc.com
SUMMARY:Weekly Karaoke @ Blok Bar
DESCRIPTION:Karaoke every Sunday\, form 6-10pm\, with free parking and a smoke-free environment!
URL:https://downtownokc.com/event/weekly-karaoke-blok-bar/2024-09-15/
LOCATION:Blok Bar\, 30 NE 2nd St\, Oklahoma City\, OK\, 73104\, United States
CATEGORIES:Deep Deuce
END:VEVENT
BEGIN:VEVENT
DTSTART;TZID=UTC:20240908T180000
DTEND;TZID=UTC:20240908T220000
DTSTAMP:20260425T152456
CREATED:20230206T180341Z
LAST-MODIFIED:20230206T180341Z
UID:10015591-1725818400-1725832800@downtownokc.com
SUMMARY:Weekly Karaoke @ Blok Bar
DESCRIPTION:Karaoke every Sunday\, form 6-10pm\, with free parking and a smoke-free environment!
URL:https://downtownokc.com/event/weekly-karaoke-blok-bar/2024-09-08/
LOCATION:Blok Bar\, 30 NE 2nd St\, Oklahoma City\, OK\, 73104\, United States
CATEGORIES:Deep Deuce
END:VEVENT
BEGIN:VEVENT
DTSTART;TZID=UTC:20240901T180000
DTEND;TZID=UTC:20240901T220000
DTSTAMP:20260425T152456
CREATED:20230206T180341Z
LAST-MODIFIED:20230206T180341Z
UID:10015590-1725213600-1725228000@downtownokc.com
SUMMARY:Weekly Karaoke @ Blok Bar
DESCRIPTION:Karaoke every Sunday\, form 6-10pm\, with free parking and a smoke-free environment!
URL:https://downtownokc.com/event/weekly-karaoke-blok-bar/2024-09-01/
LOCATION:Blok Bar\, 30 NE 2nd St\, Oklahoma City\, OK\, 73104\, United States
CATEGORIES:Deep Deuce
END:VEVENT
BEGIN:VEVENT
DTSTART;TZID=UTC:20240825T180000
DTEND;TZID=UTC:20240825T220000
DTSTAMP:20260425T152456
CREATED:20230206T180341Z
LAST-MODIFIED:20230206T180341Z
UID:10015589-1724608800-1724623200@downtownokc.com
SUMMARY:Weekly Karaoke @ Blok Bar
DESCRIPTION:Karaoke every Sunday\, form 6-10pm\, with free parking and a smoke-free environment!
URL:https://downtownokc.com/event/weekly-karaoke-blok-bar/2024-08-25/
LOCATION:Blok Bar\, 30 NE 2nd St\, Oklahoma City\, OK\, 73104\, United States
CATEGORIES:Deep Deuce
END:VEVENT
BEGIN:VEVENT
DTSTART;TZID=UTC:20240818T180000
DTEND;TZID=UTC:20240818T220000
DTSTAMP:20260425T152456
CREATED:20230206T180341Z
LAST-MODIFIED:20230206T180341Z
UID:10015588-1724004000-1724018400@downtownokc.com
SUMMARY:Weekly Karaoke @ Blok Bar
DESCRIPTION:Karaoke every Sunday\, form 6-10pm\, with free parking and a smoke-free environment!
URL:https://downtownokc.com/event/weekly-karaoke-blok-bar/2024-08-18/
LOCATION:Blok Bar\, 30 NE 2nd St\, Oklahoma City\, OK\, 73104\, United States
CATEGORIES:Deep Deuce
END:VEVENT
BEGIN:VEVENT
DTSTART;TZID=UTC:20240811T180000
DTEND;TZID=UTC:20240811T220000
DTSTAMP:20260425T152456
CREATED:20230206T180341Z
LAST-MODIFIED:20230206T180341Z
UID:10015587-1723399200-1723413600@downtownokc.com
SUMMARY:Weekly Karaoke @ Blok Bar
DESCRIPTION:Karaoke every Sunday\, form 6-10pm\, with free parking and a smoke-free environment!
URL:https://downtownokc.com/event/weekly-karaoke-blok-bar/2024-08-11/
LOCATION:Blok Bar\, 30 NE 2nd St\, Oklahoma City\, OK\, 73104\, United States
CATEGORIES:Deep Deuce
END:VEVENT
BEGIN:VEVENT
DTSTART;TZID=UTC:20240804T180000
DTEND;TZID=UTC:20240804T220000
DTSTAMP:20260425T152456
CREATED:20230206T180341Z
LAST-MODIFIED:20230206T180341Z
UID:10015586-1722794400-1722808800@downtownokc.com
SUMMARY:Weekly Karaoke @ Blok Bar
DESCRIPTION:Karaoke every Sunday\, form 6-10pm\, with free parking and a smoke-free environment!
URL:https://downtownokc.com/event/weekly-karaoke-blok-bar/2024-08-04/
LOCATION:Blok Bar\, 30 NE 2nd St\, Oklahoma City\, OK\, 73104\, United States
CATEGORIES:Deep Deuce
END:VEVENT
BEGIN:VEVENT
DTSTART;TZID=UTC:20240728T180000
DTEND;TZID=UTC:20240728T220000
DTSTAMP:20260425T152456
CREATED:20230206T180341Z
LAST-MODIFIED:20230206T180341Z
UID:10015585-1722189600-1722204000@downtownokc.com
SUMMARY:Weekly Karaoke @ Blok Bar
DESCRIPTION:Karaoke every Sunday\, form 6-10pm\, with free parking and a smoke-free environment!
URL:https://downtownokc.com/event/weekly-karaoke-blok-bar/2024-07-28/
LOCATION:Blok Bar\, 30 NE 2nd St\, Oklahoma City\, OK\, 73104\, United States
CATEGORIES:Deep Deuce
END:VEVENT
BEGIN:VEVENT
DTSTART;TZID=UTC:20240721T180000
DTEND;TZID=UTC:20240721T220000
DTSTAMP:20260425T152456
CREATED:20230206T180341Z
LAST-MODIFIED:20230206T180341Z
UID:10015584-1721584800-1721599200@downtownokc.com
SUMMARY:Weekly Karaoke @ Blok Bar
DESCRIPTION:Karaoke every Sunday\, form 6-10pm\, with free parking and a smoke-free environment!
URL:https://downtownokc.com/event/weekly-karaoke-blok-bar/2024-07-21/
LOCATION:Blok Bar\, 30 NE 2nd St\, Oklahoma City\, OK\, 73104\, United States
CATEGORIES:Deep Deuce
END:VEVENT
BEGIN:VEVENT
DTSTART;TZID=UTC:20240714T180000
DTEND;TZID=UTC:20240714T220000
DTSTAMP:20260425T152456
CREATED:20230206T180341Z
LAST-MODIFIED:20230206T180341Z
UID:10015583-1720980000-1720994400@downtownokc.com
SUMMARY:Weekly Karaoke @ Blok Bar
DESCRIPTION:Karaoke every Sunday\, form 6-10pm\, with free parking and a smoke-free environment!
URL:https://downtownokc.com/event/weekly-karaoke-blok-bar/2024-07-14/
LOCATION:Blok Bar\, 30 NE 2nd St\, Oklahoma City\, OK\, 73104\, United States
CATEGORIES:Deep Deuce
END:VEVENT
BEGIN:VEVENT
DTSTART;TZID=UTC:20240707T180000
DTEND;TZID=UTC:20240707T220000
DTSTAMP:20260425T152456
CREATED:20230206T180341Z
LAST-MODIFIED:20230206T180341Z
UID:10015582-1720375200-1720389600@downtownokc.com
SUMMARY:Weekly Karaoke @ Blok Bar
DESCRIPTION:Karaoke every Sunday\, form 6-10pm\, with free parking and a smoke-free environment!
URL:https://downtownokc.com/event/weekly-karaoke-blok-bar/2024-07-07/
LOCATION:Blok Bar\, 30 NE 2nd St\, Oklahoma City\, OK\, 73104\, United States
CATEGORIES:Deep Deuce
END:VEVENT
BEGIN:VEVENT
DTSTART;TZID=UTC:20240630T180000
DTEND;TZID=UTC:20240630T220000
DTSTAMP:20260425T152456
CREATED:20230206T180341Z
LAST-MODIFIED:20230206T180341Z
UID:10015581-1719770400-1719784800@downtownokc.com
SUMMARY:Weekly Karaoke @ Blok Bar
DESCRIPTION:Karaoke every Sunday\, form 6-10pm\, with free parking and a smoke-free environment!
URL:https://downtownokc.com/event/weekly-karaoke-blok-bar/2024-06-30/
LOCATION:Blok Bar\, 30 NE 2nd St\, Oklahoma City\, OK\, 73104\, United States
CATEGORIES:Deep Deuce
END:VEVENT
BEGIN:VEVENT
DTSTART;TZID=UTC:20240623T180000
DTEND;TZID=UTC:20240623T220000
DTSTAMP:20260425T152456
CREATED:20230206T180341Z
LAST-MODIFIED:20230206T180341Z
UID:10015580-1719165600-1719180000@downtownokc.com
SUMMARY:Weekly Karaoke @ Blok Bar
DESCRIPTION:Karaoke every Sunday\, form 6-10pm\, with free parking and a smoke-free environment!
URL:https://downtownokc.com/event/weekly-karaoke-blok-bar/2024-06-23/
LOCATION:Blok Bar\, 30 NE 2nd St\, Oklahoma City\, OK\, 73104\, United States
CATEGORIES:Deep Deuce
END:VEVENT
BEGIN:VEVENT
DTSTART;TZID=UTC:20240616T180000
DTEND;TZID=UTC:20240616T220000
DTSTAMP:20260425T152456
CREATED:20230206T180341Z
LAST-MODIFIED:20230206T180341Z
UID:10015579-1718560800-1718575200@downtownokc.com
SUMMARY:Weekly Karaoke @ Blok Bar
DESCRIPTION:Karaoke every Sunday\, form 6-10pm\, with free parking and a smoke-free environment!
URL:https://downtownokc.com/event/weekly-karaoke-blok-bar/2024-06-16/
LOCATION:Blok Bar\, 30 NE 2nd St\, Oklahoma City\, OK\, 73104\, United States
CATEGORIES:Deep Deuce
END:VEVENT
BEGIN:VEVENT
DTSTART;TZID=UTC:20240609T180000
DTEND;TZID=UTC:20240609T220000
DTSTAMP:20260425T152456
CREATED:20230206T180341Z
LAST-MODIFIED:20230206T180341Z
UID:10015578-1717956000-1717970400@downtownokc.com
SUMMARY:Weekly Karaoke @ Blok Bar
DESCRIPTION:Karaoke every Sunday\, form 6-10pm\, with free parking and a smoke-free environment!
URL:https://downtownokc.com/event/weekly-karaoke-blok-bar/2024-06-09/
LOCATION:Blok Bar\, 30 NE 2nd St\, Oklahoma City\, OK\, 73104\, United States
CATEGORIES:Deep Deuce
END:VEVENT
BEGIN:VEVENT
DTSTART;TZID=UTC:20240602T180000
DTEND;TZID=UTC:20240602T220000
DTSTAMP:20260425T152456
CREATED:20230206T180341Z
LAST-MODIFIED:20230206T180341Z
UID:10015577-1717351200-1717365600@downtownokc.com
SUMMARY:Weekly Karaoke @ Blok Bar
DESCRIPTION:Karaoke every Sunday\, form 6-10pm\, with free parking and a smoke-free environment!
URL:https://downtownokc.com/event/weekly-karaoke-blok-bar/2024-06-02/
LOCATION:Blok Bar\, 30 NE 2nd St\, Oklahoma City\, OK\, 73104\, United States
CATEGORIES:Deep Deuce
END:VEVENT
BEGIN:VEVENT
DTSTART;TZID=UTC:20240526T180000
DTEND;TZID=UTC:20240526T220000
DTSTAMP:20260425T152456
CREATED:20230206T180341Z
LAST-MODIFIED:20230206T180341Z
UID:10015576-1716746400-1716760800@downtownokc.com
SUMMARY:Weekly Karaoke @ Blok Bar
DESCRIPTION:Karaoke every Sunday\, form 6-10pm\, with free parking and a smoke-free environment!
URL:https://downtownokc.com/event/weekly-karaoke-blok-bar/2024-05-26/
LOCATION:Blok Bar\, 30 NE 2nd St\, Oklahoma City\, OK\, 73104\, United States
CATEGORIES:Deep Deuce
END:VEVENT
BEGIN:VEVENT
DTSTART;TZID=UTC:20240519T180000
DTEND;TZID=UTC:20240519T220000
DTSTAMP:20260425T152456
CREATED:20230206T180341Z
LAST-MODIFIED:20230206T180341Z
UID:10015575-1716141600-1716156000@downtownokc.com
SUMMARY:Weekly Karaoke @ Blok Bar
DESCRIPTION:Karaoke every Sunday\, form 6-10pm\, with free parking and a smoke-free environment!
URL:https://downtownokc.com/event/weekly-karaoke-blok-bar/2024-05-19/
LOCATION:Blok Bar\, 30 NE 2nd St\, Oklahoma City\, OK\, 73104\, United States
CATEGORIES:Deep Deuce
END:VEVENT
BEGIN:VEVENT
DTSTART;TZID=UTC:20240512T180000
DTEND;TZID=UTC:20240512T220000
DTSTAMP:20260425T152456
CREATED:20230206T180341Z
LAST-MODIFIED:20230206T180341Z
UID:10015574-1715536800-1715551200@downtownokc.com
SUMMARY:Weekly Karaoke @ Blok Bar
DESCRIPTION:Karaoke every Sunday\, form 6-10pm\, with free parking and a smoke-free environment!
URL:https://downtownokc.com/event/weekly-karaoke-blok-bar/2024-05-12/
LOCATION:Blok Bar\, 30 NE 2nd St\, Oklahoma City\, OK\, 73104\, United States
CATEGORIES:Deep Deuce
END:VEVENT
BEGIN:VEVENT
DTSTART;TZID=UTC:20240505T180000
DTEND;TZID=UTC:20240505T220000
DTSTAMP:20260425T152456
CREATED:20230206T180341Z
LAST-MODIFIED:20230206T180341Z
UID:10015573-1714932000-1714946400@downtownokc.com
SUMMARY:Weekly Karaoke @ Blok Bar
DESCRIPTION:Karaoke every Sunday\, form 6-10pm\, with free parking and a smoke-free environment!
URL:https://downtownokc.com/event/weekly-karaoke-blok-bar/2024-05-05/
LOCATION:Blok Bar\, 30 NE 2nd St\, Oklahoma City\, OK\, 73104\, United States
CATEGORIES:Deep Deuce
END:VEVENT
BEGIN:VEVENT
DTSTART;TZID=UTC:20240428T180000
DTEND;TZID=UTC:20240428T220000
DTSTAMP:20260425T152456
CREATED:20230206T180341Z
LAST-MODIFIED:20230206T180341Z
UID:10015572-1714327200-1714341600@downtownokc.com
SUMMARY:Weekly Karaoke @ Blok Bar
DESCRIPTION:Karaoke every Sunday\, form 6-10pm\, with free parking and a smoke-free environment!
URL:https://downtownokc.com/event/weekly-karaoke-blok-bar/2024-04-28/
LOCATION:Blok Bar\, 30 NE 2nd St\, Oklahoma City\, OK\, 73104\, United States
CATEGORIES:Deep Deuce
END:VEVENT
BEGIN:VEVENT
DTSTART;TZID=UTC:20240421T180000
DTEND;TZID=UTC:20240421T220000
DTSTAMP:20260425T152456
CREATED:20230206T180341Z
LAST-MODIFIED:20230206T180341Z
UID:10015571-1713722400-1713736800@downtownokc.com
SUMMARY:Weekly Karaoke @ Blok Bar
DESCRIPTION:Karaoke every Sunday\, form 6-10pm\, with free parking and a smoke-free environment!
URL:https://downtownokc.com/event/weekly-karaoke-blok-bar/2024-04-21/
LOCATION:Blok Bar\, 30 NE 2nd St\, Oklahoma City\, OK\, 73104\, United States
CATEGORIES:Deep Deuce
END:VEVENT
BEGIN:VEVENT
DTSTART;TZID=UTC:20240414T180000
DTEND;TZID=UTC:20240414T220000
DTSTAMP:20260425T152456
CREATED:20230206T180341Z
LAST-MODIFIED:20230206T180341Z
UID:10015570-1713117600-1713132000@downtownokc.com
SUMMARY:Weekly Karaoke @ Blok Bar
DESCRIPTION:Karaoke every Sunday\, form 6-10pm\, with free parking and a smoke-free environment!
URL:https://downtownokc.com/event/weekly-karaoke-blok-bar/2024-04-14/
LOCATION:Blok Bar\, 30 NE 2nd St\, Oklahoma City\, OK\, 73104\, United States
CATEGORIES:Deep Deuce
END:VEVENT
BEGIN:VEVENT
DTSTART;TZID=UTC:20240407T180000
DTEND;TZID=UTC:20240407T220000
DTSTAMP:20260425T152456
CREATED:20230206T180341Z
LAST-MODIFIED:20230206T180341Z
UID:10015569-1712512800-1712527200@downtownokc.com
SUMMARY:Weekly Karaoke @ Blok Bar
DESCRIPTION:Karaoke every Sunday\, form 6-10pm\, with free parking and a smoke-free environment!
URL:https://downtownokc.com/event/weekly-karaoke-blok-bar/2024-04-07/
LOCATION:Blok Bar\, 30 NE 2nd St\, Oklahoma City\, OK\, 73104\, United States
CATEGORIES:Deep Deuce
END:VEVENT
BEGIN:VEVENT
DTSTART;TZID=UTC:20240331T180000
DTEND;TZID=UTC:20240331T220000
DTSTAMP:20260425T152456
CREATED:20230206T180341Z
LAST-MODIFIED:20230206T180341Z
UID:10015568-1711908000-1711922400@downtownokc.com
SUMMARY:Weekly Karaoke @ Blok Bar
DESCRIPTION:Karaoke every Sunday\, form 6-10pm\, with free parking and a smoke-free environment!
URL:https://downtownokc.com/event/weekly-karaoke-blok-bar/2024-03-31/
LOCATION:Blok Bar\, 30 NE 2nd St\, Oklahoma City\, OK\, 73104\, United States
CATEGORIES:Deep Deuce
END:VEVENT
BEGIN:VEVENT
DTSTART;TZID=UTC:20240324T180000
DTEND;TZID=UTC:20240324T220000
DTSTAMP:20260425T152456
CREATED:20230206T180341Z
LAST-MODIFIED:20230206T180341Z
UID:10015567-1711303200-1711317600@downtownokc.com
SUMMARY:Weekly Karaoke @ Blok Bar
DESCRIPTION:Karaoke every Sunday\, form 6-10pm\, with free parking and a smoke-free environment!
URL:https://downtownokc.com/event/weekly-karaoke-blok-bar/2024-03-24/
LOCATION:Blok Bar\, 30 NE 2nd St\, Oklahoma City\, OK\, 73104\, United States
CATEGORIES:Deep Deuce
END:VEVENT
BEGIN:VEVENT
DTSTART;TZID=UTC:20240317T180000
DTEND;TZID=UTC:20240317T220000
DTSTAMP:20260425T152456
CREATED:20230206T180341Z
LAST-MODIFIED:20230206T180341Z
UID:10015566-1710698400-1710712800@downtownokc.com
SUMMARY:Weekly Karaoke @ Blok Bar
DESCRIPTION:Karaoke every Sunday\, form 6-10pm\, with free parking and a smoke-free environment!
URL:https://downtownokc.com/event/weekly-karaoke-blok-bar/2024-03-17/
LOCATION:Blok Bar\, 30 NE 2nd St\, Oklahoma City\, OK\, 73104\, United States
CATEGORIES:Deep Deuce
END:VEVENT
BEGIN:VEVENT
DTSTART;TZID=UTC:20240310T180000
DTEND;TZID=UTC:20240310T220000
DTSTAMP:20260425T152456
CREATED:20230206T180341Z
LAST-MODIFIED:20230206T180341Z
UID:10015565-1710093600-1710108000@downtownokc.com
SUMMARY:Weekly Karaoke @ Blok Bar
DESCRIPTION:Karaoke every Sunday\, form 6-10pm\, with free parking and a smoke-free environment!
URL:https://downtownokc.com/event/weekly-karaoke-blok-bar/2024-03-10/
LOCATION:Blok Bar\, 30 NE 2nd St\, Oklahoma City\, OK\, 73104\, United States
CATEGORIES:Deep Deuce
END:VEVENT
BEGIN:VEVENT
DTSTART;TZID=UTC:20240303T180000
DTEND;TZID=UTC:20240303T220000
DTSTAMP:20260425T152456
CREATED:20230206T180341Z
LAST-MODIFIED:20230206T180341Z
UID:10015564-1709488800-1709503200@downtownokc.com
SUMMARY:Weekly Karaoke @ Blok Bar
DESCRIPTION:Karaoke every Sunday\, form 6-10pm\, with free parking and a smoke-free environment!
URL:https://downtownokc.com/event/weekly-karaoke-blok-bar/2024-03-03/
LOCATION:Blok Bar\, 30 NE 2nd St\, Oklahoma City\, OK\, 73104\, United States
CATEGORIES:Deep Deuce
END:VEVENT
BEGIN:VEVENT
DTSTART;TZID=UTC:20240225T180000
DTEND;TZID=UTC:20240225T220000
DTSTAMP:20260425T152456
CREATED:20230206T180341Z
LAST-MODIFIED:20230206T180341Z
UID:10015563-1708884000-1708898400@downtownokc.com
SUMMARY:Weekly Karaoke @ Blok Bar
DESCRIPTION:Karaoke every Sunday\, form 6-10pm\, with free parking and a smoke-free environment!
URL:https://downtownokc.com/event/weekly-karaoke-blok-bar/2024-02-25/
LOCATION:Blok Bar\, 30 NE 2nd St\, Oklahoma City\, OK\, 73104\, United States
CATEGORIES:Deep Deuce
END:VEVENT
END:VCALENDAR