BEGIN:VCALENDAR
VERSION:2.0
PRODID:-//Downtown OKC - ECPv6.15.20//NONSGML v1.0//EN
CALSCALE:GREGORIAN
METHOD:PUBLISH
X-WR-CALNAME:Downtown OKC
X-ORIGINAL-URL:https://downtownokc.com
X-WR-CALDESC:Events for Downtown OKC
REFRESH-INTERVAL;VALUE=DURATION:PT1H
X-Robots-Tag:noindex
X-PUBLISHED-TTL:PT1H
BEGIN:VTIMEZONE
TZID:UTC
BEGIN:STANDARD
TZOFFSETFROM:+0000
TZOFFSETTO:+0000
TZNAME:UTC
DTSTART:20230101T000000
END:STANDARD
END:VTIMEZONE
BEGIN:VEVENT
DTSTART;TZID=UTC:20250202T180000
DTEND;TZID=UTC:20250202T220000
DTSTAMP:20260425T122449
CREATED:20230206T180341Z
LAST-MODIFIED:20230206T180341Z
UID:10015612-1738519200-1738533600@downtownokc.com
SUMMARY:Weekly Karaoke @ Blok Bar
DESCRIPTION:Karaoke every Sunday\, form 6-10pm\, with free parking and a smoke-free environment!
URL:https://downtownokc.com/event/weekly-karaoke-blok-bar/2025-02-02/
LOCATION:Blok Bar\, 30 NE 2nd St\, Oklahoma City\, OK\, 73104\, United States
CATEGORIES:Deep Deuce
END:VEVENT
BEGIN:VEVENT
DTSTART;TZID=UTC:20250126T180000
DTEND;TZID=UTC:20250126T220000
DTSTAMP:20260425T122449
CREATED:20230206T180341Z
LAST-MODIFIED:20230206T180341Z
UID:10015611-1737914400-1737928800@downtownokc.com
SUMMARY:Weekly Karaoke @ Blok Bar
DESCRIPTION:Karaoke every Sunday\, form 6-10pm\, with free parking and a smoke-free environment!
URL:https://downtownokc.com/event/weekly-karaoke-blok-bar/2025-01-26/
LOCATION:Blok Bar\, 30 NE 2nd St\, Oklahoma City\, OK\, 73104\, United States
CATEGORIES:Deep Deuce
END:VEVENT
BEGIN:VEVENT
DTSTART;TZID=UTC:20250119T180000
DTEND;TZID=UTC:20250119T220000
DTSTAMP:20260425T122449
CREATED:20230206T180341Z
LAST-MODIFIED:20230206T180341Z
UID:10015610-1737309600-1737324000@downtownokc.com
SUMMARY:Weekly Karaoke @ Blok Bar
DESCRIPTION:Karaoke every Sunday\, form 6-10pm\, with free parking and a smoke-free environment!
URL:https://downtownokc.com/event/weekly-karaoke-blok-bar/2025-01-19/
LOCATION:Blok Bar\, 30 NE 2nd St\, Oklahoma City\, OK\, 73104\, United States
CATEGORIES:Deep Deuce
END:VEVENT
BEGIN:VEVENT
DTSTART;TZID=UTC:20250112T180000
DTEND;TZID=UTC:20250112T220000
DTSTAMP:20260425T122449
CREATED:20230206T180341Z
LAST-MODIFIED:20230206T180341Z
UID:10015609-1736704800-1736719200@downtownokc.com
SUMMARY:Weekly Karaoke @ Blok Bar
DESCRIPTION:Karaoke every Sunday\, form 6-10pm\, with free parking and a smoke-free environment!
URL:https://downtownokc.com/event/weekly-karaoke-blok-bar/2025-01-12/
LOCATION:Blok Bar\, 30 NE 2nd St\, Oklahoma City\, OK\, 73104\, United States
CATEGORIES:Deep Deuce
END:VEVENT
BEGIN:VEVENT
DTSTART;TZID=UTC:20250105T180000
DTEND;TZID=UTC:20250105T220000
DTSTAMP:20260425T122449
CREATED:20230206T180341Z
LAST-MODIFIED:20230206T180341Z
UID:10015608-1736100000-1736114400@downtownokc.com
SUMMARY:Weekly Karaoke @ Blok Bar
DESCRIPTION:Karaoke every Sunday\, form 6-10pm\, with free parking and a smoke-free environment!
URL:https://downtownokc.com/event/weekly-karaoke-blok-bar/2025-01-05/
LOCATION:Blok Bar\, 30 NE 2nd St\, Oklahoma City\, OK\, 73104\, United States
CATEGORIES:Deep Deuce
END:VEVENT
BEGIN:VEVENT
DTSTART;TZID=UTC:20241229T180000
DTEND;TZID=UTC:20241229T220000
DTSTAMP:20260425T122449
CREATED:20230206T180341Z
LAST-MODIFIED:20230206T180341Z
UID:10015607-1735495200-1735509600@downtownokc.com
SUMMARY:Weekly Karaoke @ Blok Bar
DESCRIPTION:Karaoke every Sunday\, form 6-10pm\, with free parking and a smoke-free environment!
URL:https://downtownokc.com/event/weekly-karaoke-blok-bar/2024-12-29/
LOCATION:Blok Bar\, 30 NE 2nd St\, Oklahoma City\, OK\, 73104\, United States
CATEGORIES:Deep Deuce
END:VEVENT
BEGIN:VEVENT
DTSTART;TZID=UTC:20241222T180000
DTEND;TZID=UTC:20241222T220000
DTSTAMP:20260425T122449
CREATED:20230206T180341Z
LAST-MODIFIED:20230206T180341Z
UID:10015606-1734890400-1734904800@downtownokc.com
SUMMARY:Weekly Karaoke @ Blok Bar
DESCRIPTION:Karaoke every Sunday\, form 6-10pm\, with free parking and a smoke-free environment!
URL:https://downtownokc.com/event/weekly-karaoke-blok-bar/2024-12-22/
LOCATION:Blok Bar\, 30 NE 2nd St\, Oklahoma City\, OK\, 73104\, United States
CATEGORIES:Deep Deuce
END:VEVENT
BEGIN:VEVENT
DTSTART;TZID=UTC:20241215T180000
DTEND;TZID=UTC:20241215T220000
DTSTAMP:20260425T122449
CREATED:20230206T180341Z
LAST-MODIFIED:20230206T180341Z
UID:10015605-1734285600-1734300000@downtownokc.com
SUMMARY:Weekly Karaoke @ Blok Bar
DESCRIPTION:Karaoke every Sunday\, form 6-10pm\, with free parking and a smoke-free environment!
URL:https://downtownokc.com/event/weekly-karaoke-blok-bar/2024-12-15/
LOCATION:Blok Bar\, 30 NE 2nd St\, Oklahoma City\, OK\, 73104\, United States
CATEGORIES:Deep Deuce
END:VEVENT
BEGIN:VEVENT
DTSTART;TZID=UTC:20241208T180000
DTEND;TZID=UTC:20241208T220000
DTSTAMP:20260425T122449
CREATED:20230206T180341Z
LAST-MODIFIED:20230206T180341Z
UID:10015604-1733680800-1733695200@downtownokc.com
SUMMARY:Weekly Karaoke @ Blok Bar
DESCRIPTION:Karaoke every Sunday\, form 6-10pm\, with free parking and a smoke-free environment!
URL:https://downtownokc.com/event/weekly-karaoke-blok-bar/2024-12-08/
LOCATION:Blok Bar\, 30 NE 2nd St\, Oklahoma City\, OK\, 73104\, United States
CATEGORIES:Deep Deuce
END:VEVENT
BEGIN:VEVENT
DTSTART;TZID=UTC:20241201T180000
DTEND;TZID=UTC:20241201T220000
DTSTAMP:20260425T122449
CREATED:20230206T180341Z
LAST-MODIFIED:20230206T180341Z
UID:10015603-1733076000-1733090400@downtownokc.com
SUMMARY:Weekly Karaoke @ Blok Bar
DESCRIPTION:Karaoke every Sunday\, form 6-10pm\, with free parking and a smoke-free environment!
URL:https://downtownokc.com/event/weekly-karaoke-blok-bar/2024-12-01/
LOCATION:Blok Bar\, 30 NE 2nd St\, Oklahoma City\, OK\, 73104\, United States
CATEGORIES:Deep Deuce
END:VEVENT
BEGIN:VEVENT
DTSTART;TZID=UTC:20241124T180000
DTEND;TZID=UTC:20241124T220000
DTSTAMP:20260425T122449
CREATED:20230206T180341Z
LAST-MODIFIED:20230206T180341Z
UID:10015602-1732471200-1732485600@downtownokc.com
SUMMARY:Weekly Karaoke @ Blok Bar
DESCRIPTION:Karaoke every Sunday\, form 6-10pm\, with free parking and a smoke-free environment!
URL:https://downtownokc.com/event/weekly-karaoke-blok-bar/2024-11-24/
LOCATION:Blok Bar\, 30 NE 2nd St\, Oklahoma City\, OK\, 73104\, United States
CATEGORIES:Deep Deuce
END:VEVENT
BEGIN:VEVENT
DTSTART;TZID=UTC:20241117T180000
DTEND;TZID=UTC:20241117T220000
DTSTAMP:20260425T122449
CREATED:20230206T180341Z
LAST-MODIFIED:20230206T180341Z
UID:10015601-1731866400-1731880800@downtownokc.com
SUMMARY:Weekly Karaoke @ Blok Bar
DESCRIPTION:Karaoke every Sunday\, form 6-10pm\, with free parking and a smoke-free environment!
URL:https://downtownokc.com/event/weekly-karaoke-blok-bar/2024-11-17/
LOCATION:Blok Bar\, 30 NE 2nd St\, Oklahoma City\, OK\, 73104\, United States
CATEGORIES:Deep Deuce
END:VEVENT
BEGIN:VEVENT
DTSTART;TZID=UTC:20241110T180000
DTEND;TZID=UTC:20241110T220000
DTSTAMP:20260425T122449
CREATED:20230206T180341Z
LAST-MODIFIED:20230206T180341Z
UID:10015600-1731261600-1731276000@downtownokc.com
SUMMARY:Weekly Karaoke @ Blok Bar
DESCRIPTION:Karaoke every Sunday\, form 6-10pm\, with free parking and a smoke-free environment!
URL:https://downtownokc.com/event/weekly-karaoke-blok-bar/2024-11-10/
LOCATION:Blok Bar\, 30 NE 2nd St\, Oklahoma City\, OK\, 73104\, United States
CATEGORIES:Deep Deuce
END:VEVENT
BEGIN:VEVENT
DTSTART;TZID=UTC:20241103T180000
DTEND;TZID=UTC:20241103T220000
DTSTAMP:20260425T122449
CREATED:20230206T180341Z
LAST-MODIFIED:20230206T180341Z
UID:10015599-1730656800-1730671200@downtownokc.com
SUMMARY:Weekly Karaoke @ Blok Bar
DESCRIPTION:Karaoke every Sunday\, form 6-10pm\, with free parking and a smoke-free environment!
URL:https://downtownokc.com/event/weekly-karaoke-blok-bar/2024-11-03/
LOCATION:Blok Bar\, 30 NE 2nd St\, Oklahoma City\, OK\, 73104\, United States
CATEGORIES:Deep Deuce
END:VEVENT
BEGIN:VEVENT
DTSTART;TZID=UTC:20241027T180000
DTEND;TZID=UTC:20241027T220000
DTSTAMP:20260425T122449
CREATED:20230206T180341Z
LAST-MODIFIED:20230206T180341Z
UID:10015598-1730052000-1730066400@downtownokc.com
SUMMARY:Weekly Karaoke @ Blok Bar
DESCRIPTION:Karaoke every Sunday\, form 6-10pm\, with free parking and a smoke-free environment!
URL:https://downtownokc.com/event/weekly-karaoke-blok-bar/2024-10-27/
LOCATION:Blok Bar\, 30 NE 2nd St\, Oklahoma City\, OK\, 73104\, United States
CATEGORIES:Deep Deuce
END:VEVENT
BEGIN:VEVENT
DTSTART;TZID=UTC:20241020T180000
DTEND;TZID=UTC:20241020T220000
DTSTAMP:20260425T122449
CREATED:20230206T180341Z
LAST-MODIFIED:20230206T180341Z
UID:10015597-1729447200-1729461600@downtownokc.com
SUMMARY:Weekly Karaoke @ Blok Bar
DESCRIPTION:Karaoke every Sunday\, form 6-10pm\, with free parking and a smoke-free environment!
URL:https://downtownokc.com/event/weekly-karaoke-blok-bar/2024-10-20/
LOCATION:Blok Bar\, 30 NE 2nd St\, Oklahoma City\, OK\, 73104\, United States
CATEGORIES:Deep Deuce
END:VEVENT
BEGIN:VEVENT
DTSTART;TZID=UTC:20241013T180000
DTEND;TZID=UTC:20241013T220000
DTSTAMP:20260425T122449
CREATED:20230206T180341Z
LAST-MODIFIED:20230206T180341Z
UID:10015596-1728842400-1728856800@downtownokc.com
SUMMARY:Weekly Karaoke @ Blok Bar
DESCRIPTION:Karaoke every Sunday\, form 6-10pm\, with free parking and a smoke-free environment!
URL:https://downtownokc.com/event/weekly-karaoke-blok-bar/2024-10-13/
LOCATION:Blok Bar\, 30 NE 2nd St\, Oklahoma City\, OK\, 73104\, United States
CATEGORIES:Deep Deuce
END:VEVENT
BEGIN:VEVENT
DTSTART;TZID=UTC:20241006T180000
DTEND;TZID=UTC:20241006T220000
DTSTAMP:20260425T122449
CREATED:20230206T180341Z
LAST-MODIFIED:20230206T180341Z
UID:10015595-1728237600-1728252000@downtownokc.com
SUMMARY:Weekly Karaoke @ Blok Bar
DESCRIPTION:Karaoke every Sunday\, form 6-10pm\, with free parking and a smoke-free environment!
URL:https://downtownokc.com/event/weekly-karaoke-blok-bar/2024-10-06/
LOCATION:Blok Bar\, 30 NE 2nd St\, Oklahoma City\, OK\, 73104\, United States
CATEGORIES:Deep Deuce
END:VEVENT
BEGIN:VEVENT
DTSTART;TZID=UTC:20240929T180000
DTEND;TZID=UTC:20240929T220000
DTSTAMP:20260425T122449
CREATED:20230206T180341Z
LAST-MODIFIED:20230206T180341Z
UID:10015594-1727632800-1727647200@downtownokc.com
SUMMARY:Weekly Karaoke @ Blok Bar
DESCRIPTION:Karaoke every Sunday\, form 6-10pm\, with free parking and a smoke-free environment!
URL:https://downtownokc.com/event/weekly-karaoke-blok-bar/2024-09-29/
LOCATION:Blok Bar\, 30 NE 2nd St\, Oklahoma City\, OK\, 73104\, United States
CATEGORIES:Deep Deuce
END:VEVENT
BEGIN:VEVENT
DTSTART;TZID=UTC:20240922T180000
DTEND;TZID=UTC:20240922T220000
DTSTAMP:20260425T122449
CREATED:20230206T180341Z
LAST-MODIFIED:20230206T180341Z
UID:10015593-1727028000-1727042400@downtownokc.com
SUMMARY:Weekly Karaoke @ Blok Bar
DESCRIPTION:Karaoke every Sunday\, form 6-10pm\, with free parking and a smoke-free environment!
URL:https://downtownokc.com/event/weekly-karaoke-blok-bar/2024-09-22/
LOCATION:Blok Bar\, 30 NE 2nd St\, Oklahoma City\, OK\, 73104\, United States
CATEGORIES:Deep Deuce
END:VEVENT
BEGIN:VEVENT
DTSTART;TZID=UTC:20240915T180000
DTEND;TZID=UTC:20240915T220000
DTSTAMP:20260425T122449
CREATED:20230206T180341Z
LAST-MODIFIED:20230206T180341Z
UID:10015592-1726423200-1726437600@downtownokc.com
SUMMARY:Weekly Karaoke @ Blok Bar
DESCRIPTION:Karaoke every Sunday\, form 6-10pm\, with free parking and a smoke-free environment!
URL:https://downtownokc.com/event/weekly-karaoke-blok-bar/2024-09-15/
LOCATION:Blok Bar\, 30 NE 2nd St\, Oklahoma City\, OK\, 73104\, United States
CATEGORIES:Deep Deuce
END:VEVENT
BEGIN:VEVENT
DTSTART;TZID=UTC:20240908T180000
DTEND;TZID=UTC:20240908T220000
DTSTAMP:20260425T122449
CREATED:20230206T180341Z
LAST-MODIFIED:20230206T180341Z
UID:10015591-1725818400-1725832800@downtownokc.com
SUMMARY:Weekly Karaoke @ Blok Bar
DESCRIPTION:Karaoke every Sunday\, form 6-10pm\, with free parking and a smoke-free environment!
URL:https://downtownokc.com/event/weekly-karaoke-blok-bar/2024-09-08/
LOCATION:Blok Bar\, 30 NE 2nd St\, Oklahoma City\, OK\, 73104\, United States
CATEGORIES:Deep Deuce
END:VEVENT
BEGIN:VEVENT
DTSTART;TZID=UTC:20240901T180000
DTEND;TZID=UTC:20240901T220000
DTSTAMP:20260425T122449
CREATED:20230206T180341Z
LAST-MODIFIED:20230206T180341Z
UID:10015590-1725213600-1725228000@downtownokc.com
SUMMARY:Weekly Karaoke @ Blok Bar
DESCRIPTION:Karaoke every Sunday\, form 6-10pm\, with free parking and a smoke-free environment!
URL:https://downtownokc.com/event/weekly-karaoke-blok-bar/2024-09-01/
LOCATION:Blok Bar\, 30 NE 2nd St\, Oklahoma City\, OK\, 73104\, United States
CATEGORIES:Deep Deuce
END:VEVENT
BEGIN:VEVENT
DTSTART;TZID=UTC:20240825T180000
DTEND;TZID=UTC:20240825T220000
DTSTAMP:20260425T122449
CREATED:20230206T180341Z
LAST-MODIFIED:20230206T180341Z
UID:10015589-1724608800-1724623200@downtownokc.com
SUMMARY:Weekly Karaoke @ Blok Bar
DESCRIPTION:Karaoke every Sunday\, form 6-10pm\, with free parking and a smoke-free environment!
URL:https://downtownokc.com/event/weekly-karaoke-blok-bar/2024-08-25/
LOCATION:Blok Bar\, 30 NE 2nd St\, Oklahoma City\, OK\, 73104\, United States
CATEGORIES:Deep Deuce
END:VEVENT
BEGIN:VEVENT
DTSTART;TZID=UTC:20240818T180000
DTEND;TZID=UTC:20240818T220000
DTSTAMP:20260425T122449
CREATED:20230206T180341Z
LAST-MODIFIED:20230206T180341Z
UID:10015588-1724004000-1724018400@downtownokc.com
SUMMARY:Weekly Karaoke @ Blok Bar
DESCRIPTION:Karaoke every Sunday\, form 6-10pm\, with free parking and a smoke-free environment!
URL:https://downtownokc.com/event/weekly-karaoke-blok-bar/2024-08-18/
LOCATION:Blok Bar\, 30 NE 2nd St\, Oklahoma City\, OK\, 73104\, United States
CATEGORIES:Deep Deuce
END:VEVENT
BEGIN:VEVENT
DTSTART;TZID=UTC:20240811T180000
DTEND;TZID=UTC:20240811T220000
DTSTAMP:20260425T122449
CREATED:20230206T180341Z
LAST-MODIFIED:20230206T180341Z
UID:10015587-1723399200-1723413600@downtownokc.com
SUMMARY:Weekly Karaoke @ Blok Bar
DESCRIPTION:Karaoke every Sunday\, form 6-10pm\, with free parking and a smoke-free environment!
URL:https://downtownokc.com/event/weekly-karaoke-blok-bar/2024-08-11/
LOCATION:Blok Bar\, 30 NE 2nd St\, Oklahoma City\, OK\, 73104\, United States
CATEGORIES:Deep Deuce
END:VEVENT
BEGIN:VEVENT
DTSTART;TZID=UTC:20240804T180000
DTEND;TZID=UTC:20240804T220000
DTSTAMP:20260425T122449
CREATED:20230206T180341Z
LAST-MODIFIED:20230206T180341Z
UID:10015586-1722794400-1722808800@downtownokc.com
SUMMARY:Weekly Karaoke @ Blok Bar
DESCRIPTION:Karaoke every Sunday\, form 6-10pm\, with free parking and a smoke-free environment!
URL:https://downtownokc.com/event/weekly-karaoke-blok-bar/2024-08-04/
LOCATION:Blok Bar\, 30 NE 2nd St\, Oklahoma City\, OK\, 73104\, United States
CATEGORIES:Deep Deuce
END:VEVENT
BEGIN:VEVENT
DTSTART;TZID=UTC:20240728T180000
DTEND;TZID=UTC:20240728T220000
DTSTAMP:20260425T122449
CREATED:20230206T180341Z
LAST-MODIFIED:20230206T180341Z
UID:10015585-1722189600-1722204000@downtownokc.com
SUMMARY:Weekly Karaoke @ Blok Bar
DESCRIPTION:Karaoke every Sunday\, form 6-10pm\, with free parking and a smoke-free environment!
URL:https://downtownokc.com/event/weekly-karaoke-blok-bar/2024-07-28/
LOCATION:Blok Bar\, 30 NE 2nd St\, Oklahoma City\, OK\, 73104\, United States
CATEGORIES:Deep Deuce
END:VEVENT
BEGIN:VEVENT
DTSTART;TZID=UTC:20240721T180000
DTEND;TZID=UTC:20240721T220000
DTSTAMP:20260425T122449
CREATED:20230206T180341Z
LAST-MODIFIED:20230206T180341Z
UID:10015584-1721584800-1721599200@downtownokc.com
SUMMARY:Weekly Karaoke @ Blok Bar
DESCRIPTION:Karaoke every Sunday\, form 6-10pm\, with free parking and a smoke-free environment!
URL:https://downtownokc.com/event/weekly-karaoke-blok-bar/2024-07-21/
LOCATION:Blok Bar\, 30 NE 2nd St\, Oklahoma City\, OK\, 73104\, United States
CATEGORIES:Deep Deuce
END:VEVENT
BEGIN:VEVENT
DTSTART;TZID=UTC:20240714T180000
DTEND;TZID=UTC:20240714T220000
DTSTAMP:20260425T122449
CREATED:20230206T180341Z
LAST-MODIFIED:20230206T180341Z
UID:10015583-1720980000-1720994400@downtownokc.com
SUMMARY:Weekly Karaoke @ Blok Bar
DESCRIPTION:Karaoke every Sunday\, form 6-10pm\, with free parking and a smoke-free environment!
URL:https://downtownokc.com/event/weekly-karaoke-blok-bar/2024-07-14/
LOCATION:Blok Bar\, 30 NE 2nd St\, Oklahoma City\, OK\, 73104\, United States
CATEGORIES:Deep Deuce
END:VEVENT
END:VCALENDAR