BEGIN:VCALENDAR
VERSION:2.0
PRODID:-//Downtown OKC - ECPv6.15.20//NONSGML v1.0//EN
CALSCALE:GREGORIAN
METHOD:PUBLISH
X-WR-CALNAME:Downtown OKC
X-ORIGINAL-URL:https://downtownokc.com
X-WR-CALDESC:Events for Downtown OKC
REFRESH-INTERVAL;VALUE=DURATION:PT1H
X-Robots-Tag:noindex
X-PUBLISHED-TTL:PT1H
BEGIN:VTIMEZONE
TZID:UTC
BEGIN:STANDARD
TZOFFSETFROM:+0000
TZOFFSETTO:+0000
TZNAME:UTC
DTSTART:20250101T000000
END:STANDARD
END:VTIMEZONE
BEGIN:VEVENT
DTSTART;TZID=UTC:20260605T190000
DTEND;TZID=UTC:20260605T203000
DTSTAMP:20260422T145236
CREATED:20260211T210326Z
LAST-MODIFIED:20260302T153401Z
UID:10036000-1780686000-1780691400@downtownokc.com
SUMMARY:Cocktail Cruise
DESCRIPTION:Cocktail Cruise | Friday & Saturday | ONE Departure time 7:00 PM \nGroups of 10 or more should book a private charter.\nPlease consider this is an adult environment cruise.\nDeparts from Regatta Landing on Friday & Saturday at 7:00 pm.\nAdvance ticket purchase is advised.\n$20 adults and $15 seniors and children 17 and under
URL:https://downtownokc.com/event/cocktail-cruise-2/2026-06-05/
LOCATION:Oklahoma River Cruises\, 701 S. Lincoln Blvd.\, OKC\, OK\, 73129\, United States
CATEGORIES:Downtown OKC
ATTACH;FMTTYPE=image/jpeg:https://downtownokc.com/wp-content/uploads/2025/03/CocktailCruise_Web_NoTime-2-scaled.jpg
ORGANIZER;CN="Oklahoma River Cruises":MAILTO:cheylin.loessberg@cityexperiences.com
END:VEVENT
BEGIN:VEVENT
DTSTART;TZID=UTC:20260606T190000
DTEND;TZID=UTC:20260606T203000
DTSTAMP:20260422T145236
CREATED:20260211T210326Z
LAST-MODIFIED:20260302T153401Z
UID:10039553-1780772400-1780777800@downtownokc.com
SUMMARY:Cocktail Cruise
DESCRIPTION:Cocktail Cruise | Friday & Saturday | ONE Departure time 7:00 PM \nGroups of 10 or more should book a private charter.\nPlease consider this is an adult environment cruise.\nDeparts from Regatta Landing on Friday & Saturday at 7:00 pm.\nAdvance ticket purchase is advised.\n$20 adults and $15 seniors and children 17 and under
URL:https://downtownokc.com/event/cocktail-cruise-2/2026-06-06/
LOCATION:Oklahoma River Cruises\, 701 S. Lincoln Blvd.\, OKC\, OK\, 73129\, United States
CATEGORIES:Downtown OKC
ATTACH;FMTTYPE=image/jpeg:https://downtownokc.com/wp-content/uploads/2025/03/CocktailCruise_Web_NoTime-2-scaled.jpg
ORGANIZER;CN="Oklahoma River Cruises":MAILTO:cheylin.loessberg@cityexperiences.com
END:VEVENT
BEGIN:VEVENT
DTSTART;TZID=UTC:20260612T190000
DTEND;TZID=UTC:20260612T203000
DTSTAMP:20260422T145236
CREATED:20260211T210326Z
LAST-MODIFIED:20260302T153401Z
UID:10036029-1781290800-1781296200@downtownokc.com
SUMMARY:Cocktail Cruise
DESCRIPTION:Cocktail Cruise | Friday & Saturday | ONE Departure time 7:00 PM \nGroups of 10 or more should book a private charter.\nPlease consider this is an adult environment cruise.\nDeparts from Regatta Landing on Friday & Saturday at 7:00 pm.\nAdvance ticket purchase is advised.\n$20 adults and $15 seniors and children 17 and under
URL:https://downtownokc.com/event/cocktail-cruise-2/2026-06-12/
LOCATION:Oklahoma River Cruises\, 701 S. Lincoln Blvd.\, OKC\, OK\, 73129\, United States
CATEGORIES:Downtown OKC
ATTACH;FMTTYPE=image/jpeg:https://downtownokc.com/wp-content/uploads/2025/03/CocktailCruise_Web_NoTime-2-scaled.jpg
ORGANIZER;CN="Oklahoma River Cruises":MAILTO:cheylin.loessberg@cityexperiences.com
END:VEVENT
BEGIN:VEVENT
DTSTART;TZID=UTC:20260613T190000
DTEND;TZID=UTC:20260613T203000
DTSTAMP:20260422T145236
CREATED:20260211T210326Z
LAST-MODIFIED:20260302T153401Z
UID:10039554-1781377200-1781382600@downtownokc.com
SUMMARY:Cocktail Cruise
DESCRIPTION:Cocktail Cruise | Friday & Saturday | ONE Departure time 7:00 PM \nGroups of 10 or more should book a private charter.\nPlease consider this is an adult environment cruise.\nDeparts from Regatta Landing on Friday & Saturday at 7:00 pm.\nAdvance ticket purchase is advised.\n$20 adults and $15 seniors and children 17 and under
URL:https://downtownokc.com/event/cocktail-cruise-2/2026-06-13/
LOCATION:Oklahoma River Cruises\, 701 S. Lincoln Blvd.\, OKC\, OK\, 73129\, United States
CATEGORIES:Downtown OKC
ATTACH;FMTTYPE=image/jpeg:https://downtownokc.com/wp-content/uploads/2025/03/CocktailCruise_Web_NoTime-2-scaled.jpg
ORGANIZER;CN="Oklahoma River Cruises":MAILTO:cheylin.loessberg@cityexperiences.com
END:VEVENT
BEGIN:VEVENT
DTSTART;TZID=UTC:20260619T190000
DTEND;TZID=UTC:20260619T203000
DTSTAMP:20260422T145236
CREATED:20260211T210326Z
LAST-MODIFIED:20260302T153401Z
UID:10036031-1781895600-1781901000@downtownokc.com
SUMMARY:Cocktail Cruise
DESCRIPTION:Cocktail Cruise | Friday & Saturday | ONE Departure time 7:00 PM \nGroups of 10 or more should book a private charter.\nPlease consider this is an adult environment cruise.\nDeparts from Regatta Landing on Friday & Saturday at 7:00 pm.\nAdvance ticket purchase is advised.\n$20 adults and $15 seniors and children 17 and under
URL:https://downtownokc.com/event/cocktail-cruise-2/2026-06-19/
LOCATION:Oklahoma River Cruises\, 701 S. Lincoln Blvd.\, OKC\, OK\, 73129\, United States
CATEGORIES:Downtown OKC
ATTACH;FMTTYPE=image/jpeg:https://downtownokc.com/wp-content/uploads/2025/03/CocktailCruise_Web_NoTime-2-scaled.jpg
ORGANIZER;CN="Oklahoma River Cruises":MAILTO:cheylin.loessberg@cityexperiences.com
END:VEVENT
BEGIN:VEVENT
DTSTART;TZID=UTC:20260620T190000
DTEND;TZID=UTC:20260620T203000
DTSTAMP:20260422T145236
CREATED:20260211T210326Z
LAST-MODIFIED:20260302T153401Z
UID:10039555-1781982000-1781987400@downtownokc.com
SUMMARY:Cocktail Cruise
DESCRIPTION:Cocktail Cruise | Friday & Saturday | ONE Departure time 7:00 PM \nGroups of 10 or more should book a private charter.\nPlease consider this is an adult environment cruise.\nDeparts from Regatta Landing on Friday & Saturday at 7:00 pm.\nAdvance ticket purchase is advised.\n$20 adults and $15 seniors and children 17 and under
URL:https://downtownokc.com/event/cocktail-cruise-2/2026-06-20/
LOCATION:Oklahoma River Cruises\, 701 S. Lincoln Blvd.\, OKC\, OK\, 73129\, United States
CATEGORIES:Downtown OKC
ATTACH;FMTTYPE=image/jpeg:https://downtownokc.com/wp-content/uploads/2025/03/CocktailCruise_Web_NoTime-2-scaled.jpg
ORGANIZER;CN="Oklahoma River Cruises":MAILTO:cheylin.loessberg@cityexperiences.com
END:VEVENT
BEGIN:VEVENT
DTSTART;TZID=UTC:20260626T190000
DTEND;TZID=UTC:20260626T203000
DTSTAMP:20260422T145236
CREATED:20260211T210326Z
LAST-MODIFIED:20260302T153401Z
UID:10036033-1782500400-1782505800@downtownokc.com
SUMMARY:Cocktail Cruise
DESCRIPTION:Cocktail Cruise | Friday & Saturday | ONE Departure time 7:00 PM \nGroups of 10 or more should book a private charter.\nPlease consider this is an adult environment cruise.\nDeparts from Regatta Landing on Friday & Saturday at 7:00 pm.\nAdvance ticket purchase is advised.\n$20 adults and $15 seniors and children 17 and under
URL:https://downtownokc.com/event/cocktail-cruise-2/2026-06-26/
LOCATION:Oklahoma River Cruises\, 701 S. Lincoln Blvd.\, OKC\, OK\, 73129\, United States
CATEGORIES:Downtown OKC
ATTACH;FMTTYPE=image/jpeg:https://downtownokc.com/wp-content/uploads/2025/03/CocktailCruise_Web_NoTime-2-scaled.jpg
ORGANIZER;CN="Oklahoma River Cruises":MAILTO:cheylin.loessberg@cityexperiences.com
END:VEVENT
BEGIN:VEVENT
DTSTART;TZID=UTC:20260627T190000
DTEND;TZID=UTC:20260627T203000
DTSTAMP:20260422T145236
CREATED:20260211T210326Z
LAST-MODIFIED:20260302T153401Z
UID:10039556-1782586800-1782592200@downtownokc.com
SUMMARY:Cocktail Cruise
DESCRIPTION:Cocktail Cruise | Friday & Saturday | ONE Departure time 7:00 PM \nGroups of 10 or more should book a private charter.\nPlease consider this is an adult environment cruise.\nDeparts from Regatta Landing on Friday & Saturday at 7:00 pm.\nAdvance ticket purchase is advised.\n$20 adults and $15 seniors and children 17 and under
URL:https://downtownokc.com/event/cocktail-cruise-2/2026-06-27/
LOCATION:Oklahoma River Cruises\, 701 S. Lincoln Blvd.\, OKC\, OK\, 73129\, United States
CATEGORIES:Downtown OKC
ATTACH;FMTTYPE=image/jpeg:https://downtownokc.com/wp-content/uploads/2025/03/CocktailCruise_Web_NoTime-2-scaled.jpg
ORGANIZER;CN="Oklahoma River Cruises":MAILTO:cheylin.loessberg@cityexperiences.com
END:VEVENT
BEGIN:VEVENT
DTSTART;TZID=UTC:20260703T190000
DTEND;TZID=UTC:20260703T203000
DTSTAMP:20260422T145236
CREATED:20260211T210326Z
LAST-MODIFIED:20260302T153401Z
UID:10036035-1783105200-1783110600@downtownokc.com
SUMMARY:Cocktail Cruise
DESCRIPTION:Cocktail Cruise | Friday & Saturday | ONE Departure time 7:00 PM \nGroups of 10 or more should book a private charter.\nPlease consider this is an adult environment cruise.\nDeparts from Regatta Landing on Friday & Saturday at 7:00 pm.\nAdvance ticket purchase is advised.\n$20 adults and $15 seniors and children 17 and under
URL:https://downtownokc.com/event/cocktail-cruise-2/2026-07-03/
LOCATION:Oklahoma River Cruises\, 701 S. Lincoln Blvd.\, OKC\, OK\, 73129\, United States
CATEGORIES:Downtown OKC
ATTACH;FMTTYPE=image/jpeg:https://downtownokc.com/wp-content/uploads/2025/03/CocktailCruise_Web_NoTime-2-scaled.jpg
ORGANIZER;CN="Oklahoma River Cruises":MAILTO:cheylin.loessberg@cityexperiences.com
END:VEVENT
BEGIN:VEVENT
DTSTART;TZID=UTC:20260704T190000
DTEND;TZID=UTC:20260704T203000
DTSTAMP:20260422T145236
CREATED:20260211T210326Z
LAST-MODIFIED:20260302T153401Z
UID:10039557-1783191600-1783197000@downtownokc.com
SUMMARY:Cocktail Cruise
DESCRIPTION:Cocktail Cruise | Friday & Saturday | ONE Departure time 7:00 PM \nGroups of 10 or more should book a private charter.\nPlease consider this is an adult environment cruise.\nDeparts from Regatta Landing on Friday & Saturday at 7:00 pm.\nAdvance ticket purchase is advised.\n$20 adults and $15 seniors and children 17 and under
URL:https://downtownokc.com/event/cocktail-cruise-2/2026-07-04/
LOCATION:Oklahoma River Cruises\, 701 S. Lincoln Blvd.\, OKC\, OK\, 73129\, United States
CATEGORIES:Downtown OKC
ATTACH;FMTTYPE=image/jpeg:https://downtownokc.com/wp-content/uploads/2025/03/CocktailCruise_Web_NoTime-2-scaled.jpg
ORGANIZER;CN="Oklahoma River Cruises":MAILTO:cheylin.loessberg@cityexperiences.com
END:VEVENT
BEGIN:VEVENT
DTSTART;TZID=UTC:20260710T190000
DTEND;TZID=UTC:20260710T203000
DTSTAMP:20260422T145236
CREATED:20260211T210326Z
LAST-MODIFIED:20260302T153401Z
UID:10036037-1783710000-1783715400@downtownokc.com
SUMMARY:Cocktail Cruise
DESCRIPTION:Cocktail Cruise | Friday & Saturday | ONE Departure time 7:00 PM \nGroups of 10 or more should book a private charter.\nPlease consider this is an adult environment cruise.\nDeparts from Regatta Landing on Friday & Saturday at 7:00 pm.\nAdvance ticket purchase is advised.\n$20 adults and $15 seniors and children 17 and under
URL:https://downtownokc.com/event/cocktail-cruise-2/2026-07-10/
LOCATION:Oklahoma River Cruises\, 701 S. Lincoln Blvd.\, OKC\, OK\, 73129\, United States
CATEGORIES:Downtown OKC
ATTACH;FMTTYPE=image/jpeg:https://downtownokc.com/wp-content/uploads/2025/03/CocktailCruise_Web_NoTime-2-scaled.jpg
ORGANIZER;CN="Oklahoma River Cruises":MAILTO:cheylin.loessberg@cityexperiences.com
END:VEVENT
BEGIN:VEVENT
DTSTART;TZID=UTC:20260711T190000
DTEND;TZID=UTC:20260711T203000
DTSTAMP:20260422T145236
CREATED:20260211T210326Z
LAST-MODIFIED:20260302T153401Z
UID:10039558-1783796400-1783801800@downtownokc.com
SUMMARY:Cocktail Cruise
DESCRIPTION:Cocktail Cruise | Friday & Saturday | ONE Departure time 7:00 PM \nGroups of 10 or more should book a private charter.\nPlease consider this is an adult environment cruise.\nDeparts from Regatta Landing on Friday & Saturday at 7:00 pm.\nAdvance ticket purchase is advised.\n$20 adults and $15 seniors and children 17 and under
URL:https://downtownokc.com/event/cocktail-cruise-2/2026-07-11/
LOCATION:Oklahoma River Cruises\, 701 S. Lincoln Blvd.\, OKC\, OK\, 73129\, United States
CATEGORIES:Downtown OKC
ATTACH;FMTTYPE=image/jpeg:https://downtownokc.com/wp-content/uploads/2025/03/CocktailCruise_Web_NoTime-2-scaled.jpg
ORGANIZER;CN="Oklahoma River Cruises":MAILTO:cheylin.loessberg@cityexperiences.com
END:VEVENT
BEGIN:VEVENT
DTSTART;TZID=UTC:20260717T190000
DTEND;TZID=UTC:20260717T203000
DTSTAMP:20260422T145236
CREATED:20260211T210326Z
LAST-MODIFIED:20260302T153401Z
UID:10036039-1784314800-1784320200@downtownokc.com
SUMMARY:Cocktail Cruise
DESCRIPTION:Cocktail Cruise | Friday & Saturday | ONE Departure time 7:00 PM \nGroups of 10 or more should book a private charter.\nPlease consider this is an adult environment cruise.\nDeparts from Regatta Landing on Friday & Saturday at 7:00 pm.\nAdvance ticket purchase is advised.\n$20 adults and $15 seniors and children 17 and under
URL:https://downtownokc.com/event/cocktail-cruise-2/2026-07-17/
LOCATION:Oklahoma River Cruises\, 701 S. Lincoln Blvd.\, OKC\, OK\, 73129\, United States
CATEGORIES:Downtown OKC
ATTACH;FMTTYPE=image/jpeg:https://downtownokc.com/wp-content/uploads/2025/03/CocktailCruise_Web_NoTime-2-scaled.jpg
ORGANIZER;CN="Oklahoma River Cruises":MAILTO:cheylin.loessberg@cityexperiences.com
END:VEVENT
BEGIN:VEVENT
DTSTART;TZID=UTC:20260718T190000
DTEND;TZID=UTC:20260718T203000
DTSTAMP:20260422T145236
CREATED:20260211T210326Z
LAST-MODIFIED:20260302T153401Z
UID:10039559-1784401200-1784406600@downtownokc.com
SUMMARY:Cocktail Cruise
DESCRIPTION:Cocktail Cruise | Friday & Saturday | ONE Departure time 7:00 PM \nGroups of 10 or more should book a private charter.\nPlease consider this is an adult environment cruise.\nDeparts from Regatta Landing on Friday & Saturday at 7:00 pm.\nAdvance ticket purchase is advised.\n$20 adults and $15 seniors and children 17 and under
URL:https://downtownokc.com/event/cocktail-cruise-2/2026-07-18/
LOCATION:Oklahoma River Cruises\, 701 S. Lincoln Blvd.\, OKC\, OK\, 73129\, United States
CATEGORIES:Downtown OKC
ATTACH;FMTTYPE=image/jpeg:https://downtownokc.com/wp-content/uploads/2025/03/CocktailCruise_Web_NoTime-2-scaled.jpg
ORGANIZER;CN="Oklahoma River Cruises":MAILTO:cheylin.loessberg@cityexperiences.com
END:VEVENT
BEGIN:VEVENT
DTSTART;TZID=UTC:20260724T190000
DTEND;TZID=UTC:20260724T203000
DTSTAMP:20260422T145236
CREATED:20260211T210326Z
LAST-MODIFIED:20260302T153401Z
UID:10036041-1784919600-1784925000@downtownokc.com
SUMMARY:Cocktail Cruise
DESCRIPTION:Cocktail Cruise | Friday & Saturday | ONE Departure time 7:00 PM \nGroups of 10 or more should book a private charter.\nPlease consider this is an adult environment cruise.\nDeparts from Regatta Landing on Friday & Saturday at 7:00 pm.\nAdvance ticket purchase is advised.\n$20 adults and $15 seniors and children 17 and under
URL:https://downtownokc.com/event/cocktail-cruise-2/2026-07-24/
LOCATION:Oklahoma River Cruises\, 701 S. Lincoln Blvd.\, OKC\, OK\, 73129\, United States
CATEGORIES:Downtown OKC
ATTACH;FMTTYPE=image/jpeg:https://downtownokc.com/wp-content/uploads/2025/03/CocktailCruise_Web_NoTime-2-scaled.jpg
ORGANIZER;CN="Oklahoma River Cruises":MAILTO:cheylin.loessberg@cityexperiences.com
END:VEVENT
BEGIN:VEVENT
DTSTART;TZID=UTC:20260725T190000
DTEND;TZID=UTC:20260725T203000
DTSTAMP:20260422T145236
CREATED:20260211T210326Z
LAST-MODIFIED:20260302T153401Z
UID:10039560-1785006000-1785011400@downtownokc.com
SUMMARY:Cocktail Cruise
DESCRIPTION:Cocktail Cruise | Friday & Saturday | ONE Departure time 7:00 PM \nGroups of 10 or more should book a private charter.\nPlease consider this is an adult environment cruise.\nDeparts from Regatta Landing on Friday & Saturday at 7:00 pm.\nAdvance ticket purchase is advised.\n$20 adults and $15 seniors and children 17 and under
URL:https://downtownokc.com/event/cocktail-cruise-2/2026-07-25/
LOCATION:Oklahoma River Cruises\, 701 S. Lincoln Blvd.\, OKC\, OK\, 73129\, United States
CATEGORIES:Downtown OKC
ATTACH;FMTTYPE=image/jpeg:https://downtownokc.com/wp-content/uploads/2025/03/CocktailCruise_Web_NoTime-2-scaled.jpg
ORGANIZER;CN="Oklahoma River Cruises":MAILTO:cheylin.loessberg@cityexperiences.com
END:VEVENT
BEGIN:VEVENT
DTSTART;TZID=UTC:20260731T190000
DTEND;TZID=UTC:20260731T203000
DTSTAMP:20260422T145236
CREATED:20260211T210326Z
LAST-MODIFIED:20260302T153401Z
UID:10036043-1785524400-1785529800@downtownokc.com
SUMMARY:Cocktail Cruise
DESCRIPTION:Cocktail Cruise | Friday & Saturday | ONE Departure time 7:00 PM \nGroups of 10 or more should book a private charter.\nPlease consider this is an adult environment cruise.\nDeparts from Regatta Landing on Friday & Saturday at 7:00 pm.\nAdvance ticket purchase is advised.\n$20 adults and $15 seniors and children 17 and under
URL:https://downtownokc.com/event/cocktail-cruise-2/2026-07-31/
LOCATION:Oklahoma River Cruises\, 701 S. Lincoln Blvd.\, OKC\, OK\, 73129\, United States
CATEGORIES:Downtown OKC
ATTACH;FMTTYPE=image/jpeg:https://downtownokc.com/wp-content/uploads/2025/03/CocktailCruise_Web_NoTime-2-scaled.jpg
ORGANIZER;CN="Oklahoma River Cruises":MAILTO:cheylin.loessberg@cityexperiences.com
END:VEVENT
BEGIN:VEVENT
DTSTART;TZID=UTC:20260801T190000
DTEND;TZID=UTC:20260801T203000
DTSTAMP:20260422T145236
CREATED:20260211T210326Z
LAST-MODIFIED:20260302T153401Z
UID:10039561-1785610800-1785616200@downtownokc.com
SUMMARY:Cocktail Cruise
DESCRIPTION:Cocktail Cruise | Friday & Saturday | ONE Departure time 7:00 PM \nGroups of 10 or more should book a private charter.\nPlease consider this is an adult environment cruise.\nDeparts from Regatta Landing on Friday & Saturday at 7:00 pm.\nAdvance ticket purchase is advised.\n$20 adults and $15 seniors and children 17 and under
URL:https://downtownokc.com/event/cocktail-cruise-2/2026-08-01/
LOCATION:Oklahoma River Cruises\, 701 S. Lincoln Blvd.\, OKC\, OK\, 73129\, United States
CATEGORIES:Downtown OKC
ATTACH;FMTTYPE=image/jpeg:https://downtownokc.com/wp-content/uploads/2025/03/CocktailCruise_Web_NoTime-2-scaled.jpg
ORGANIZER;CN="Oklahoma River Cruises":MAILTO:cheylin.loessberg@cityexperiences.com
END:VEVENT
BEGIN:VEVENT
DTSTART;TZID=UTC:20260807T190000
DTEND;TZID=UTC:20260807T203000
DTSTAMP:20260422T145236
CREATED:20260211T210326Z
LAST-MODIFIED:20260302T153401Z
UID:10036045-1786129200-1786134600@downtownokc.com
SUMMARY:Cocktail Cruise
DESCRIPTION:Cocktail Cruise | Friday & Saturday | ONE Departure time 7:00 PM \nGroups of 10 or more should book a private charter.\nPlease consider this is an adult environment cruise.\nDeparts from Regatta Landing on Friday & Saturday at 7:00 pm.\nAdvance ticket purchase is advised.\n$20 adults and $15 seniors and children 17 and under
URL:https://downtownokc.com/event/cocktail-cruise-2/2026-08-07/
LOCATION:Oklahoma River Cruises\, 701 S. Lincoln Blvd.\, OKC\, OK\, 73129\, United States
CATEGORIES:Downtown OKC
ATTACH;FMTTYPE=image/jpeg:https://downtownokc.com/wp-content/uploads/2025/03/CocktailCruise_Web_NoTime-2-scaled.jpg
ORGANIZER;CN="Oklahoma River Cruises":MAILTO:cheylin.loessberg@cityexperiences.com
END:VEVENT
BEGIN:VEVENT
DTSTART;TZID=UTC:20260808T190000
DTEND;TZID=UTC:20260808T203000
DTSTAMP:20260422T145236
CREATED:20260211T210326Z
LAST-MODIFIED:20260302T153401Z
UID:10039562-1786215600-1786221000@downtownokc.com
SUMMARY:Cocktail Cruise
DESCRIPTION:Cocktail Cruise | Friday & Saturday | ONE Departure time 7:00 PM \nGroups of 10 or more should book a private charter.\nPlease consider this is an adult environment cruise.\nDeparts from Regatta Landing on Friday & Saturday at 7:00 pm.\nAdvance ticket purchase is advised.\n$20 adults and $15 seniors and children 17 and under
URL:https://downtownokc.com/event/cocktail-cruise-2/2026-08-08/
LOCATION:Oklahoma River Cruises\, 701 S. Lincoln Blvd.\, OKC\, OK\, 73129\, United States
CATEGORIES:Downtown OKC
ATTACH;FMTTYPE=image/jpeg:https://downtownokc.com/wp-content/uploads/2025/03/CocktailCruise_Web_NoTime-2-scaled.jpg
ORGANIZER;CN="Oklahoma River Cruises":MAILTO:cheylin.loessberg@cityexperiences.com
END:VEVENT
BEGIN:VEVENT
DTSTART;TZID=UTC:20260814T190000
DTEND;TZID=UTC:20260814T203000
DTSTAMP:20260422T145236
CREATED:20260211T210326Z
LAST-MODIFIED:20260302T153401Z
UID:10036047-1786734000-1786739400@downtownokc.com
SUMMARY:Cocktail Cruise
DESCRIPTION:Cocktail Cruise | Friday & Saturday | ONE Departure time 7:00 PM \nGroups of 10 or more should book a private charter.\nPlease consider this is an adult environment cruise.\nDeparts from Regatta Landing on Friday & Saturday at 7:00 pm.\nAdvance ticket purchase is advised.\n$20 adults and $15 seniors and children 17 and under
URL:https://downtownokc.com/event/cocktail-cruise-2/2026-08-14/
LOCATION:Oklahoma River Cruises\, 701 S. Lincoln Blvd.\, OKC\, OK\, 73129\, United States
CATEGORIES:Downtown OKC
ATTACH;FMTTYPE=image/jpeg:https://downtownokc.com/wp-content/uploads/2025/03/CocktailCruise_Web_NoTime-2-scaled.jpg
ORGANIZER;CN="Oklahoma River Cruises":MAILTO:cheylin.loessberg@cityexperiences.com
END:VEVENT
BEGIN:VEVENT
DTSTART;TZID=UTC:20260815T190000
DTEND;TZID=UTC:20260815T203000
DTSTAMP:20260422T145236
CREATED:20260211T210326Z
LAST-MODIFIED:20260302T153401Z
UID:10039563-1786820400-1786825800@downtownokc.com
SUMMARY:Cocktail Cruise
DESCRIPTION:Cocktail Cruise | Friday & Saturday | ONE Departure time 7:00 PM \nGroups of 10 or more should book a private charter.\nPlease consider this is an adult environment cruise.\nDeparts from Regatta Landing on Friday & Saturday at 7:00 pm.\nAdvance ticket purchase is advised.\n$20 adults and $15 seniors and children 17 and under
URL:https://downtownokc.com/event/cocktail-cruise-2/2026-08-15/
LOCATION:Oklahoma River Cruises\, 701 S. Lincoln Blvd.\, OKC\, OK\, 73129\, United States
CATEGORIES:Downtown OKC
ATTACH;FMTTYPE=image/jpeg:https://downtownokc.com/wp-content/uploads/2025/03/CocktailCruise_Web_NoTime-2-scaled.jpg
ORGANIZER;CN="Oklahoma River Cruises":MAILTO:cheylin.loessberg@cityexperiences.com
END:VEVENT
BEGIN:VEVENT
DTSTART;TZID=UTC:20260821T190000
DTEND;TZID=UTC:20260821T203000
DTSTAMP:20260422T145236
CREATED:20260211T210326Z
LAST-MODIFIED:20260302T153401Z
UID:10036049-1787338800-1787344200@downtownokc.com
SUMMARY:Cocktail Cruise
DESCRIPTION:Cocktail Cruise | Friday & Saturday | ONE Departure time 7:00 PM \nGroups of 10 or more should book a private charter.\nPlease consider this is an adult environment cruise.\nDeparts from Regatta Landing on Friday & Saturday at 7:00 pm.\nAdvance ticket purchase is advised.\n$20 adults and $15 seniors and children 17 and under
URL:https://downtownokc.com/event/cocktail-cruise-2/2026-08-21/
LOCATION:Oklahoma River Cruises\, 701 S. Lincoln Blvd.\, OKC\, OK\, 73129\, United States
CATEGORIES:Downtown OKC
ATTACH;FMTTYPE=image/jpeg:https://downtownokc.com/wp-content/uploads/2025/03/CocktailCruise_Web_NoTime-2-scaled.jpg
ORGANIZER;CN="Oklahoma River Cruises":MAILTO:cheylin.loessberg@cityexperiences.com
END:VEVENT
BEGIN:VEVENT
DTSTART;TZID=UTC:20260822T190000
DTEND;TZID=UTC:20260822T203000
DTSTAMP:20260422T145236
CREATED:20260211T210326Z
LAST-MODIFIED:20260302T153401Z
UID:10039564-1787425200-1787430600@downtownokc.com
SUMMARY:Cocktail Cruise
DESCRIPTION:Cocktail Cruise | Friday & Saturday | ONE Departure time 7:00 PM \nGroups of 10 or more should book a private charter.\nPlease consider this is an adult environment cruise.\nDeparts from Regatta Landing on Friday & Saturday at 7:00 pm.\nAdvance ticket purchase is advised.\n$20 adults and $15 seniors and children 17 and under
URL:https://downtownokc.com/event/cocktail-cruise-2/2026-08-22/
LOCATION:Oklahoma River Cruises\, 701 S. Lincoln Blvd.\, OKC\, OK\, 73129\, United States
CATEGORIES:Downtown OKC
ATTACH;FMTTYPE=image/jpeg:https://downtownokc.com/wp-content/uploads/2025/03/CocktailCruise_Web_NoTime-2-scaled.jpg
ORGANIZER;CN="Oklahoma River Cruises":MAILTO:cheylin.loessberg@cityexperiences.com
END:VEVENT
BEGIN:VEVENT
DTSTART;TZID=UTC:20260828T190000
DTEND;TZID=UTC:20260828T203000
DTSTAMP:20260422T145236
CREATED:20260211T210326Z
LAST-MODIFIED:20260302T153401Z
UID:10036051-1787943600-1787949000@downtownokc.com
SUMMARY:Cocktail Cruise
DESCRIPTION:Cocktail Cruise | Friday & Saturday | ONE Departure time 7:00 PM \nGroups of 10 or more should book a private charter.\nPlease consider this is an adult environment cruise.\nDeparts from Regatta Landing on Friday & Saturday at 7:00 pm.\nAdvance ticket purchase is advised.\n$20 adults and $15 seniors and children 17 and under
URL:https://downtownokc.com/event/cocktail-cruise-2/2026-08-28/
LOCATION:Oklahoma River Cruises\, 701 S. Lincoln Blvd.\, OKC\, OK\, 73129\, United States
CATEGORIES:Downtown OKC
ATTACH;FMTTYPE=image/jpeg:https://downtownokc.com/wp-content/uploads/2025/03/CocktailCruise_Web_NoTime-2-scaled.jpg
ORGANIZER;CN="Oklahoma River Cruises":MAILTO:cheylin.loessberg@cityexperiences.com
END:VEVENT
BEGIN:VEVENT
DTSTART;TZID=UTC:20260829T190000
DTEND;TZID=UTC:20260829T203000
DTSTAMP:20260422T145236
CREATED:20260211T210326Z
LAST-MODIFIED:20260302T153401Z
UID:10039565-1788030000-1788035400@downtownokc.com
SUMMARY:Cocktail Cruise
DESCRIPTION:Cocktail Cruise | Friday & Saturday | ONE Departure time 7:00 PM \nGroups of 10 or more should book a private charter.\nPlease consider this is an adult environment cruise.\nDeparts from Regatta Landing on Friday & Saturday at 7:00 pm.\nAdvance ticket purchase is advised.\n$20 adults and $15 seniors and children 17 and under
URL:https://downtownokc.com/event/cocktail-cruise-2/2026-08-29/
LOCATION:Oklahoma River Cruises\, 701 S. Lincoln Blvd.\, OKC\, OK\, 73129\, United States
CATEGORIES:Downtown OKC
ATTACH;FMTTYPE=image/jpeg:https://downtownokc.com/wp-content/uploads/2025/03/CocktailCruise_Web_NoTime-2-scaled.jpg
ORGANIZER;CN="Oklahoma River Cruises":MAILTO:cheylin.loessberg@cityexperiences.com
END:VEVENT
BEGIN:VEVENT
DTSTART;TZID=UTC:20260904T190000
DTEND;TZID=UTC:20260904T203000
DTSTAMP:20260422T145236
CREATED:20260211T210326Z
LAST-MODIFIED:20260302T153401Z
UID:10036053-1788548400-1788553800@downtownokc.com
SUMMARY:Cocktail Cruise
DESCRIPTION:Cocktail Cruise | Friday & Saturday | ONE Departure time 7:00 PM \nGroups of 10 or more should book a private charter.\nPlease consider this is an adult environment cruise.\nDeparts from Regatta Landing on Friday & Saturday at 7:00 pm.\nAdvance ticket purchase is advised.\n$20 adults and $15 seniors and children 17 and under
URL:https://downtownokc.com/event/cocktail-cruise-2/2026-09-04/
LOCATION:Oklahoma River Cruises\, 701 S. Lincoln Blvd.\, OKC\, OK\, 73129\, United States
CATEGORIES:Downtown OKC
ATTACH;FMTTYPE=image/jpeg:https://downtownokc.com/wp-content/uploads/2025/03/CocktailCruise_Web_NoTime-2-scaled.jpg
ORGANIZER;CN="Oklahoma River Cruises":MAILTO:cheylin.loessberg@cityexperiences.com
END:VEVENT
BEGIN:VEVENT
DTSTART;TZID=UTC:20260905T190000
DTEND;TZID=UTC:20260905T203000
DTSTAMP:20260422T145236
CREATED:20260211T210326Z
LAST-MODIFIED:20260302T153401Z
UID:10039566-1788634800-1788640200@downtownokc.com
SUMMARY:Cocktail Cruise
DESCRIPTION:Cocktail Cruise | Friday & Saturday | ONE Departure time 7:00 PM \nGroups of 10 or more should book a private charter.\nPlease consider this is an adult environment cruise.\nDeparts from Regatta Landing on Friday & Saturday at 7:00 pm.\nAdvance ticket purchase is advised.\n$20 adults and $15 seniors and children 17 and under
URL:https://downtownokc.com/event/cocktail-cruise-2/2026-09-05/
LOCATION:Oklahoma River Cruises\, 701 S. Lincoln Blvd.\, OKC\, OK\, 73129\, United States
CATEGORIES:Downtown OKC
ATTACH;FMTTYPE=image/jpeg:https://downtownokc.com/wp-content/uploads/2025/03/CocktailCruise_Web_NoTime-2-scaled.jpg
ORGANIZER;CN="Oklahoma River Cruises":MAILTO:cheylin.loessberg@cityexperiences.com
END:VEVENT
BEGIN:VEVENT
DTSTART;TZID=UTC:20260911T190000
DTEND;TZID=UTC:20260911T203000
DTSTAMP:20260422T145236
CREATED:20260211T210326Z
LAST-MODIFIED:20260302T153401Z
UID:10036055-1789153200-1789158600@downtownokc.com
SUMMARY:Cocktail Cruise
DESCRIPTION:Cocktail Cruise | Friday & Saturday | ONE Departure time 7:00 PM \nGroups of 10 or more should book a private charter.\nPlease consider this is an adult environment cruise.\nDeparts from Regatta Landing on Friday & Saturday at 7:00 pm.\nAdvance ticket purchase is advised.\n$20 adults and $15 seniors and children 17 and under
URL:https://downtownokc.com/event/cocktail-cruise-2/2026-09-11/
LOCATION:Oklahoma River Cruises\, 701 S. Lincoln Blvd.\, OKC\, OK\, 73129\, United States
CATEGORIES:Downtown OKC
ATTACH;FMTTYPE=image/jpeg:https://downtownokc.com/wp-content/uploads/2025/03/CocktailCruise_Web_NoTime-2-scaled.jpg
ORGANIZER;CN="Oklahoma River Cruises":MAILTO:cheylin.loessberg@cityexperiences.com
END:VEVENT
BEGIN:VEVENT
DTSTART;TZID=UTC:20260912T190000
DTEND;TZID=UTC:20260912T203000
DTSTAMP:20260422T145236
CREATED:20260211T210326Z
LAST-MODIFIED:20260302T153401Z
UID:10039567-1789239600-1789245000@downtownokc.com
SUMMARY:Cocktail Cruise
DESCRIPTION:Cocktail Cruise | Friday & Saturday | ONE Departure time 7:00 PM \nGroups of 10 or more should book a private charter.\nPlease consider this is an adult environment cruise.\nDeparts from Regatta Landing on Friday & Saturday at 7:00 pm.\nAdvance ticket purchase is advised.\n$20 adults and $15 seniors and children 17 and under
URL:https://downtownokc.com/event/cocktail-cruise-2/2026-09-12/
LOCATION:Oklahoma River Cruises\, 701 S. Lincoln Blvd.\, OKC\, OK\, 73129\, United States
CATEGORIES:Downtown OKC
ATTACH;FMTTYPE=image/jpeg:https://downtownokc.com/wp-content/uploads/2025/03/CocktailCruise_Web_NoTime-2-scaled.jpg
ORGANIZER;CN="Oklahoma River Cruises":MAILTO:cheylin.loessberg@cityexperiences.com
END:VEVENT
END:VCALENDAR