BEGIN:VCALENDAR
VERSION:2.0
PRODID:-//Downtown OKC - ECPv6.15.20//NONSGML v1.0//EN
CALSCALE:GREGORIAN
METHOD:PUBLISH
X-ORIGINAL-URL:https://downtownokc.com
X-WR-CALDESC:Events for Downtown OKC
REFRESH-INTERVAL;VALUE=DURATION:PT1H
X-Robots-Tag:noindex
X-PUBLISHED-TTL:PT1H
BEGIN:VTIMEZONE
TZID:UTC
BEGIN:STANDARD
TZOFFSETFROM:+0000
TZOFFSETTO:+0000
TZNAME:UTC
DTSTART:20230101T000000
END:STANDARD
END:VTIMEZONE
BEGIN:VEVENT
DTSTART;TZID=UTC:20251206T140000
DTEND;TZID=UTC:20251206T160000
DTSTAMP:20260423T114127
CREATED:20251121T175843Z
LAST-MODIFIED:20251121T175843Z
UID:10038711-1765029600-1765036800@downtownokc.com
SUMMARY:A Very Merry Pops: A Fun-Filled Family Concert
DESCRIPTION:Bring the whole family for an afternoon of holiday cheer! Our Fun-Filled Family Concert is the perfect way to share the joy of the season together. Featuring festive favorites\, timeless Christmas classics\, and plenty of surprises for kids and adults alike\, this 2PM matinee is designed with families in mind. Start a new holiday tradition and make memories that will last well beyond the season! \nEnjoy cookies with Santa and have your picture taken. \nAudrey Logan\, vocals\nWindsong Chamber Choir\, Jeanise Wynn\, director \nPlease note: Cody Fry will not appear in the matinee.
URL:https://downtownokc.com/event/a-very-merry-pops-a-fun-filled-family-concert/
LOCATION:Civic Center Music Hall\, 201 N Walker Ave\, Oklahoma City\, OK\, 73102\, United States
CATEGORIES:City Center,Downtown in December,Downtown OKC
ATTACH;FMTTYPE=image/jpeg:https://downtownokc.com/wp-content/uploads/2025/11/Capture.jpg
ORGANIZER;CN="OKC Philharmonic":MAILTO:tickets@okcphil.org
GEO:35.4690469;-97.5235321
X-APPLE-STRUCTURED-LOCATION;VALUE=URI;X-ADDRESS=Civic Center Music Hall 201 N Walker Ave Oklahoma City OK 73102 United States;X-APPLE-RADIUS=500;X-TITLE=201 N Walker Ave:geo:-97.5235321,35.4690469
END:VEVENT
BEGIN:VEVENT
DTSTART;TZID=UTC:20250517T200000
DTEND;TZID=UTC:20250517T220000
DTSTAMP:20260423T114127
CREATED:20240729T133251Z
LAST-MODIFIED:20240729T133251Z
UID:10028303-1747512000-1747519200@downtownokc.com
SUMMARY:An Alphine Symphony
DESCRIPTION:CONCERT DETAILS\nAlexander Mickelthwate\, conductor\nClayton Stephenson\, piano \nBEETHOVEN: Concerto No. 4 for Piano in G Major\, op. 58\nSTRAUSS: Eine Alpensinfonie\, op. 64 (An Alpine Symphony)
URL:https://downtownokc.com/event/an-alphine-symphony/
CATEGORIES:Downtown OKC
ATTACH;FMTTYPE=image/jpeg:https://downtownokc.com/wp-content/uploads/2024/07/Capture-6.jpg
ORGANIZER;CN="OKC Philharmonic":MAILTO:tickets@okcphil.org
END:VEVENT
BEGIN:VEVENT
DTSTART;TZID=UTC:20250419T200000
DTEND;TZID=UTC:20250419T220000
DTSTAMP:20260423T114127
CREATED:20240729T133241Z
LAST-MODIFIED:20240729T133241Z
UID:10028302-1745092800-1745100000@downtownokc.com
SUMMARY:World Premiere!
DESCRIPTION:CONCERT DETAILS\nAlexander Mickelthwate\, conductor\nKirsten Kunkle\, soprano\nMark Billy\, baritone\nCanterbury Voices \nPATTON: Requiem\nSTRAVINSKY: The Firebird: Suite (1919)\nTATE: American Indian Symphony (World Premiere)
URL:https://downtownokc.com/event/world-premiere/
CATEGORIES:Downtown OKC
ATTACH;FMTTYPE=image/jpeg:https://downtownokc.com/wp-content/uploads/2024/07/Capture-5.jpg
ORGANIZER;CN="OKC Philharmonic":MAILTO:tickets@okcphil.org
END:VEVENT
BEGIN:VEVENT
DTSTART;TZID=UTC:20250412T200000
DTEND;TZID=UTC:20250412T220000
DTSTAMP:20260423T114127
CREATED:20240729T133432Z
LAST-MODIFIED:20240729T133432Z
UID:10028314-1744488000-1744495200@downtownokc.com
SUMMARY:The Music of Tina Turner
DESCRIPTION:CONCERT DETAILS\nAll hail the “Queen of Rock ‘n’ Roll.” Tina Turner’s singular voice and decades-spanning career gave us songs that became part of the soundtrack of our lives. Join us for a celebration of Turner’s iconic musical legacy!
URL:https://downtownokc.com/event/the-music-of-tina-turner/2025-04-12/
CATEGORIES:Downtown OKC
ATTACH;FMTTYPE=image/jpeg:https://downtownokc.com/wp-content/uploads/2024/07/Capture-11.jpg
ORGANIZER;CN="OKC Philharmonic":MAILTO:tickets@okcphil.org
END:VEVENT
BEGIN:VEVENT
DTSTART;TZID=UTC:20250411T200000
DTEND;TZID=UTC:20250411T220000
DTSTAMP:20260423T114127
CREATED:20240729T133432Z
LAST-MODIFIED:20240729T133432Z
UID:10028313-1744401600-1744408800@downtownokc.com
SUMMARY:The Music of Tina Turner
DESCRIPTION:CONCERT DETAILS\nAll hail the “Queen of Rock ‘n’ Roll.” Tina Turner’s singular voice and decades-spanning career gave us songs that became part of the soundtrack of our lives. Join us for a celebration of Turner’s iconic musical legacy!
URL:https://downtownokc.com/event/the-music-of-tina-turner/2025-04-11/
CATEGORIES:Downtown OKC
ATTACH;FMTTYPE=image/jpeg:https://downtownokc.com/wp-content/uploads/2024/07/Capture-11.jpg
ORGANIZER;CN="OKC Philharmonic":MAILTO:tickets@okcphil.org
END:VEVENT
BEGIN:VEVENT
DTSTART;TZID=UTC:20250315T200000
DTEND;TZID=UTC:20250315T220000
DTSTAMP:20260423T114127
CREATED:20240729T133222Z
LAST-MODIFIED:20240729T133222Z
UID:10028301-1742068800-1742076000@downtownokc.com
SUMMARY:Sarah Chang Returns
DESCRIPTION:CONCERT DETAILS\nAlexander Mickelthwate\, conductor\nSarah Chang\, violin \nWAGNER: Die Meistersinger: Prelude\nBRUCH: Concerto No. 1 for Violin in G Minor\, op. 26\nBEETHOVEN: Symphony No. 6 in F Major\, op. 68\, “Pastorale”
URL:https://downtownokc.com/event/sarah-chang-returns/
ATTACH;FMTTYPE=image/jpeg:https://downtownokc.com/wp-content/uploads/2024/07/Capture-4.jpg
ORGANIZER;CN="OKC Philharmonic":MAILTO:tickets@okcphil.org
END:VEVENT
BEGIN:VEVENT
DTSTART;TZID=UTC:20250308T200000
DTEND;TZID=UTC:20250308T220000
DTSTAMP:20260423T114127
CREATED:20240729T133422Z
LAST-MODIFIED:20240729T133422Z
UID:10028312-1741464000-1741471200@downtownokc.com
SUMMARY:Pink Martini & China Forbes: 30th Anniversary Season
DESCRIPTION:CONCERT DETAILS\nCelebrating 30 years\, Pink Martini and vocalist China Forbes delight audiences with a captivating fusion of pop\, jazz and classical music. Come discover why this genre-defying sound has made Pink Martini an international phenomenon!
URL:https://downtownokc.com/event/pink-martini-china-forbes-30th-anniversary-season/2025-03-08/
CATEGORIES:Downtown OKC
ATTACH;FMTTYPE=image/jpeg:https://downtownokc.com/wp-content/uploads/2024/07/Capture-10.jpg
ORGANIZER;CN="OKC Philharmonic":MAILTO:tickets@okcphil.org
END:VEVENT
BEGIN:VEVENT
DTSTART;TZID=UTC:20250307T200000
DTEND;TZID=UTC:20250307T220000
DTSTAMP:20260423T114127
CREATED:20240729T133422Z
LAST-MODIFIED:20240729T133422Z
UID:10028311-1741377600-1741384800@downtownokc.com
SUMMARY:Pink Martini & China Forbes: 30th Anniversary Season
DESCRIPTION:CONCERT DETAILS\nCelebrating 30 years\, Pink Martini and vocalist China Forbes delight audiences with a captivating fusion of pop\, jazz and classical music. Come discover why this genre-defying sound has made Pink Martini an international phenomenon!
URL:https://downtownokc.com/event/pink-martini-china-forbes-30th-anniversary-season/2025-03-07/
CATEGORIES:Downtown OKC
ATTACH;FMTTYPE=image/jpeg:https://downtownokc.com/wp-content/uploads/2024/07/Capture-10.jpg
ORGANIZER;CN="OKC Philharmonic":MAILTO:tickets@okcphil.org
END:VEVENT
BEGIN:VEVENT
DTSTART;TZID=UTC:20250222T200000
DTEND;TZID=UTC:20250222T220000
DTSTAMP:20260423T114127
CREATED:20240729T133216Z
LAST-MODIFIED:20240729T133216Z
UID:10028300-1740254400-1740261600@downtownokc.com
SUMMARY:Symphonies East & West
DESCRIPTION:ONCERT DETAILS\nAlexander Mickelthwate\, conductor\nArjun Verma\, sitar \nSHANKAR: Symphony\nCOPLAND: Symphony No. 3
URL:https://downtownokc.com/event/symphonies-east-west/
CATEGORIES:Downtown OKC
ATTACH;FMTTYPE=image/jpeg:https://downtownokc.com/wp-content/uploads/2024/07/Capture-3.jpg
ORGANIZER;CN="OKC Philharmonic":MAILTO:tickets@okcphil.org
END:VEVENT
BEGIN:VEVENT
DTSTART;TZID=UTC:20250125T200000
DTEND;TZID=UTC:20250125T220000
DTSTAMP:20260423T114127
CREATED:20240729T133406Z
LAST-MODIFIED:20240729T133406Z
UID:10028310-1737835200-1737842400@downtownokc.com
SUMMARY:Defying Gravity: Stephen Schwartz & Friends
DESCRIPTION:CONCERT DETAILS\nStephen Schwartz\, Grammy and Oscar-winning composer and musical icon\, joins us for an unforgettable evening of musical theatre from Godspell to Wicked and beyond!
URL:https://downtownokc.com/event/defying-gravity-stephen-schwartz-friends/2025-01-25/
CATEGORIES:Downtown OKC
ATTACH;FMTTYPE=image/jpeg:https://downtownokc.com/wp-content/uploads/2024/07/Capture-9.jpg
ORGANIZER;CN="OKC Philharmonic":MAILTO:tickets@okcphil.org
END:VEVENT
BEGIN:VEVENT
DTSTART;TZID=UTC:20250124T200000
DTEND;TZID=UTC:20250124T220000
DTSTAMP:20260423T114127
CREATED:20240729T133406Z
LAST-MODIFIED:20240729T133406Z
UID:10028309-1737748800-1737756000@downtownokc.com
SUMMARY:Defying Gravity: Stephen Schwartz & Friends
DESCRIPTION:CONCERT DETAILS\nStephen Schwartz\, Grammy and Oscar-winning composer and musical icon\, joins us for an unforgettable evening of musical theatre from Godspell to Wicked and beyond!
URL:https://downtownokc.com/event/defying-gravity-stephen-schwartz-friends/2025-01-24/
CATEGORIES:Downtown OKC
ATTACH;FMTTYPE=image/jpeg:https://downtownokc.com/wp-content/uploads/2024/07/Capture-9.jpg
ORGANIZER;CN="OKC Philharmonic":MAILTO:tickets@okcphil.org
END:VEVENT
BEGIN:VEVENT
DTSTART;TZID=UTC:20241207T200000
DTEND;TZID=UTC:20241207T220000
DTSTAMP:20260423T114127
CREATED:20240917T204604Z
LAST-MODIFIED:20240917T204604Z
UID:10031203-1733601600-1733608800@downtownokc.com
SUMMARY:A Very Merry Pops With Tony Desare & Ashley Brown
DESCRIPTION:Experience the magic of the holiday season as Ashley Brown and Tony DeSare unite to ignite your festive spirit!\nDon’t miss this enchanting celebration of the most wonderful time of the year!
URL:https://downtownokc.com/event/a-very-merry-pops-with-tony-desare-ashley-brown/2024-12-07/2/
LOCATION:Civic Center Music Hall\, 201 N Walker Ave\, Oklahoma City\, OK\, 73102\, United States
CATEGORIES:Downtown OKC
ATTACH;FMTTYPE=image/jpeg:https://downtownokc.com/wp-content/uploads/2024/09/A-Very-Merry-Pops.jpg
ORGANIZER;CN="OKC Philharmonic":MAILTO:tickets@okcphil.org
GEO:35.4690469;-97.5235321
X-APPLE-STRUCTURED-LOCATION;VALUE=URI;X-ADDRESS=Civic Center Music Hall 201 N Walker Ave Oklahoma City OK 73102 United States;X-APPLE-RADIUS=500;X-TITLE=201 N Walker Ave:geo:-97.5235321,35.4690469
END:VEVENT
BEGIN:VEVENT
DTSTART;TZID=UTC:20241207T200000
DTEND;TZID=UTC:20241207T220000
DTSTAMP:20260423T114127
CREATED:20240729T133348Z
LAST-MODIFIED:20240729T133348Z
UID:10028308-1733601600-1733608800@downtownokc.com
SUMMARY:A Very Merry Pops With Ashley Brown & Tony Desare
DESCRIPTION:CONCERT DETAILS\nExperience the magic of the holiday season as Ashley Brown and Tony DeSare unite to ignite your festive spirit!\nDon’t miss this enchanting celebration of the most wonderful time of the year!
URL:https://downtownokc.com/event/a-very-merry-pops-with-ashley-brown-tony-desare/2024-12-07/2/
CATEGORIES:Downtown in December,Downtown OKC
ATTACH;FMTTYPE=image/jpeg:https://downtownokc.com/wp-content/uploads/2024/07/Capture-8.jpg
ORGANIZER;CN="OKC Philharmonic":MAILTO:tickets@okcphil.org
END:VEVENT
BEGIN:VEVENT
DTSTART;TZID=UTC:20241207T140000
DTEND;TZID=UTC:20241208T160000
DTSTAMP:20260423T114127
CREATED:20240729T133348Z
LAST-MODIFIED:20240729T133348Z
UID:10028307-1733580000-1733673600@downtownokc.com
SUMMARY:A Very Merry Pops With Ashley Brown & Tony Desare
DESCRIPTION:CONCERT DETAILS\nExperience the magic of the holiday season as Ashley Brown and Tony DeSare unite to ignite your festive spirit!\nDon’t miss this enchanting celebration of the most wonderful time of the year!
URL:https://downtownokc.com/event/a-very-merry-pops-with-ashley-brown-tony-desare/2024-12-07/1/
CATEGORIES:Downtown in December,Downtown OKC
ATTACH;FMTTYPE=image/jpeg:https://downtownokc.com/wp-content/uploads/2024/07/Capture-8.jpg
ORGANIZER;CN="OKC Philharmonic":MAILTO:tickets@okcphil.org
END:VEVENT
BEGIN:VEVENT
DTSTART;TZID=UTC:20241207T140000
DTEND;TZID=UTC:20241207T160000
DTSTAMP:20260423T114127
CREATED:20240917T204604Z
LAST-MODIFIED:20240917T204604Z
UID:10031202-1733580000-1733587200@downtownokc.com
SUMMARY:A Very Merry Pops With Tony Desare & Ashley Brown
DESCRIPTION:Experience the magic of the holiday season as Ashley Brown and Tony DeSare unite to ignite your festive spirit!\nDon’t miss this enchanting celebration of the most wonderful time of the year!
URL:https://downtownokc.com/event/a-very-merry-pops-with-tony-desare-ashley-brown/2024-12-07/1/
LOCATION:Civic Center Music Hall\, 201 N Walker Ave\, Oklahoma City\, OK\, 73102\, United States
CATEGORIES:Downtown OKC
ATTACH;FMTTYPE=image/jpeg:https://downtownokc.com/wp-content/uploads/2024/09/A-Very-Merry-Pops.jpg
ORGANIZER;CN="OKC Philharmonic":MAILTO:tickets@okcphil.org
GEO:35.4690469;-97.5235321
X-APPLE-STRUCTURED-LOCATION;VALUE=URI;X-ADDRESS=Civic Center Music Hall 201 N Walker Ave Oklahoma City OK 73102 United States;X-APPLE-RADIUS=500;X-TITLE=201 N Walker Ave:geo:-97.5235321,35.4690469
END:VEVENT
BEGIN:VEVENT
DTSTART;TZID=UTC:20241206T200000
DTEND;TZID=UTC:20241206T220000
DTSTAMP:20260423T114127
CREATED:20240917T204604Z
LAST-MODIFIED:20240917T204604Z
UID:10031201-1733515200-1733522400@downtownokc.com
SUMMARY:A Very Merry Pops With Tony Desare & Ashley Brown
DESCRIPTION:Experience the magic of the holiday season as Ashley Brown and Tony DeSare unite to ignite your festive spirit!\nDon’t miss this enchanting celebration of the most wonderful time of the year!
URL:https://downtownokc.com/event/a-very-merry-pops-with-tony-desare-ashley-brown/2024-12-06/
LOCATION:Civic Center Music Hall\, 201 N Walker Ave\, Oklahoma City\, OK\, 73102\, United States
CATEGORIES:Downtown OKC
ATTACH;FMTTYPE=image/jpeg:https://downtownokc.com/wp-content/uploads/2024/09/A-Very-Merry-Pops.jpg
ORGANIZER;CN="OKC Philharmonic":MAILTO:tickets@okcphil.org
GEO:35.4690469;-97.5235321
X-APPLE-STRUCTURED-LOCATION;VALUE=URI;X-ADDRESS=Civic Center Music Hall 201 N Walker Ave Oklahoma City OK 73102 United States;X-APPLE-RADIUS=500;X-TITLE=201 N Walker Ave:geo:-97.5235321,35.4690469
END:VEVENT
BEGIN:VEVENT
DTSTART;TZID=UTC:20241206T200000
DTEND;TZID=UTC:20241206T220000
DTSTAMP:20260423T114127
CREATED:20240729T133348Z
LAST-MODIFIED:20240729T133348Z
UID:10028306-1733515200-1733522400@downtownokc.com
SUMMARY:A Very Merry Pops With Ashley Brown & Tony Desare
DESCRIPTION:CONCERT DETAILS\nExperience the magic of the holiday season as Ashley Brown and Tony DeSare unite to ignite your festive spirit!\nDon’t miss this enchanting celebration of the most wonderful time of the year!
URL:https://downtownokc.com/event/a-very-merry-pops-with-ashley-brown-tony-desare/2024-12-06/
CATEGORIES:Downtown in December,Downtown OKC
ATTACH;FMTTYPE=image/jpeg:https://downtownokc.com/wp-content/uploads/2024/07/Capture-8.jpg
ORGANIZER;CN="OKC Philharmonic":MAILTO:tickets@okcphil.org
END:VEVENT
BEGIN:VEVENT
DTSTART;TZID=UTC:20241130T140000
DTEND;TZID=UTC:20241130T160000
DTSTAMP:20260423T114127
CREATED:20240917T204407Z
LAST-MODIFIED:20240917T204407Z
UID:10031199-1732975200-1732982400@downtownokc.com
SUMMARY:Star Wars\, Episode VI - Return of the Jedi
DESCRIPTION:Join the OKCPHIL as we present the Academy Award-winning movie and perform the exciting John Williams score live with the movie. You’ll be absorbed in this thrilling cinematic experience. Put on your helmet\, grab your lightsaber\, and join us for this monumental event!
URL:https://downtownokc.com/event/star-wars-episode-vi-return-of-the-jedi/
LOCATION:Civic Center Music Hall\, 201 N Walker Ave\, Oklahoma City\, OK\, 73102\, United States
CATEGORIES:Downtown OKC
ATTACH;FMTTYPE=image/jpeg:https://downtownokc.com/wp-content/uploads/2024/09/Star-Wars.jpg
ORGANIZER;CN="OKC Philharmonic":MAILTO:tickets@okcphil.org
GEO:35.4690469;-97.5235321
X-APPLE-STRUCTURED-LOCATION;VALUE=URI;X-ADDRESS=Civic Center Music Hall 201 N Walker Ave Oklahoma City OK 73102 United States;X-APPLE-RADIUS=500;X-TITLE=201 N Walker Ave:geo:-97.5235321,35.4690469
END:VEVENT
BEGIN:VEVENT
DTSTART;TZID=UTC:20241116T200000
DTEND;TZID=UTC:20241116T220000
DTSTAMP:20260423T114127
CREATED:20240729T133149Z
LAST-MODIFIED:20240729T133149Z
UID:10028298-1731787200-1731794400@downtownokc.com
SUMMARY:From The Highlands
DESCRIPTION:Alexander Mickelthwate\, conductor\nBruce Roberston\, bagpipes\nJonathan Ruck\, cello \nKORB: Highland Cathedral\, for Bagpipes and Orchestra\nELGAR: Concerto for Violincello in E Minor\, op. 85\nMENDELSSOHN: Symphony No. 3 in A Minor\, “Scottish”
URL:https://downtownokc.com/event/from-the-highlands/
LOCATION:United States
CATEGORIES:Downtown OKC
ATTACH;FMTTYPE=image/jpeg:https://downtownokc.com/wp-content/uploads/2024/07/Capture-2.jpg
ORGANIZER;CN="OKC Philharmonic":MAILTO:tickets@okcphil.org
END:VEVENT
BEGIN:VEVENT
DTSTART;TZID=UTC:20241102T200000
DTEND;TZID=UTC:20241102T223000
DTSTAMP:20260423T114127
CREATED:20240917T204024Z
LAST-MODIFIED:20240917T204024Z
UID:10031197-1730577600-1730586600@downtownokc.com
SUMMARY:Arrival from Sweden: The Music of ABBA
DESCRIPTION:Join us for what has been called the absolute best and most authentic ABBA show there is.\nRelive the sound\, look\, and joyful celebration of ABBA\, down to the crystalline harmonies and original outrageous costumes.
URL:https://downtownokc.com/event/arrival-from-sweden-the-music-of-abba-2/2024-11-02/
LOCATION:Civic Center Music Hall\, 201 N Walker Ave\, Oklahoma City\, OK\, 73102\, United States
CATEGORIES:Downtown OKC
ATTACH;FMTTYPE=image/jpeg:https://downtownokc.com/wp-content/uploads/2024/09/ABBA.jpg
ORGANIZER;CN="OKC Philharmonic":MAILTO:tickets@okcphil.org
GEO:35.4690469;-97.5235321
X-APPLE-STRUCTURED-LOCATION;VALUE=URI;X-ADDRESS=Civic Center Music Hall 201 N Walker Ave Oklahoma City OK 73102 United States;X-APPLE-RADIUS=500;X-TITLE=201 N Walker Ave:geo:-97.5235321,35.4690469
END:VEVENT
BEGIN:VEVENT
DTSTART;TZID=UTC:20241102T200000
DTEND;TZID=UTC:20241102T223000
DTSTAMP:20260423T114127
CREATED:20240729T133311Z
LAST-MODIFIED:20240729T133311Z
UID:10028305-1730577600-1730586600@downtownokc.com
SUMMARY:Arrival from Sweden: The Music of ABBA
DESCRIPTION:CONCERT DETAILS\nJoin us for what has been called the absolute best and most authentic ABBA show there is.\nRelive the sound\, look\, and joyful celebration of ABBA\, down to the crystalline harmonies and original outrageous costumes.
URL:https://downtownokc.com/event/arrival-from-sweden-the-music-of-abba/2024-11-02/
CATEGORIES:Downtown OKC
ATTACH;FMTTYPE=image/jpeg:https://downtownokc.com/wp-content/uploads/2024/07/Capture-7.jpg
ORGANIZER;CN="OKC Philharmonic":MAILTO:tickets@okcphil.org
END:VEVENT
BEGIN:VEVENT
DTSTART;TZID=UTC:20241101T200000
DTEND;TZID=UTC:20241101T223000
DTSTAMP:20260423T114127
CREATED:20240917T204024Z
LAST-MODIFIED:20240917T204024Z
UID:10031196-1730491200-1730500200@downtownokc.com
SUMMARY:Arrival from Sweden: The Music of ABBA
DESCRIPTION:Join us for what has been called the absolute best and most authentic ABBA show there is.\nRelive the sound\, look\, and joyful celebration of ABBA\, down to the crystalline harmonies and original outrageous costumes.
URL:https://downtownokc.com/event/arrival-from-sweden-the-music-of-abba-2/2024-11-01/
LOCATION:Civic Center Music Hall\, 201 N Walker Ave\, Oklahoma City\, OK\, 73102\, United States
CATEGORIES:Downtown OKC
ATTACH;FMTTYPE=image/jpeg:https://downtownokc.com/wp-content/uploads/2024/09/ABBA.jpg
ORGANIZER;CN="OKC Philharmonic":MAILTO:tickets@okcphil.org
GEO:35.4690469;-97.5235321
X-APPLE-STRUCTURED-LOCATION;VALUE=URI;X-ADDRESS=Civic Center Music Hall 201 N Walker Ave Oklahoma City OK 73102 United States;X-APPLE-RADIUS=500;X-TITLE=201 N Walker Ave:geo:-97.5235321,35.4690469
END:VEVENT
BEGIN:VEVENT
DTSTART;TZID=UTC:20241101T200000
DTEND;TZID=UTC:20241101T223000
DTSTAMP:20260423T114127
CREATED:20240729T133311Z
LAST-MODIFIED:20240729T133311Z
UID:10028304-1730491200-1730500200@downtownokc.com
SUMMARY:Arrival from Sweden: The Music of ABBA
DESCRIPTION:CONCERT DETAILS\nJoin us for what has been called the absolute best and most authentic ABBA show there is.\nRelive the sound\, look\, and joyful celebration of ABBA\, down to the crystalline harmonies and original outrageous costumes.
URL:https://downtownokc.com/event/arrival-from-sweden-the-music-of-abba/2024-11-01/
CATEGORIES:Downtown OKC
ATTACH;FMTTYPE=image/jpeg:https://downtownokc.com/wp-content/uploads/2024/07/Capture-7.jpg
ORGANIZER;CN="OKC Philharmonic":MAILTO:tickets@okcphil.org
END:VEVENT
BEGIN:VEVENT
DTSTART;TZID=UTC:20241012T200000
DTEND;TZID=UTC:20241012T220000
DTSTAMP:20260423T114127
CREATED:20240917T204117Z
LAST-MODIFIED:20240917T204117Z
UID:10031195-1728763200-1728770400@downtownokc.com
SUMMARY:The  Organ Symphony
DESCRIPTION:Alexander Mickelthwate\, conductor\nCameron Carpenter\, organ \nBERLIOZ : Benvenuto Cellini: Overture\nPOULENC: Organ Concerto in G Minor\nSAINT-SAËNS: Symphony No. 3 in C Minor\, “Organ Symphony”\nRun Time: Approx. 120 minutes including 15 minute intermission
URL:https://downtownokc.com/event/the-organ-symphony-2/
LOCATION:Civic Center Music Hall\, 201 N Walker Ave\, Oklahoma City\, OK\, 73102\, United States
CATEGORIES:Downtown OKC
ATTACH;FMTTYPE=image/png:https://downtownokc.com/wp-content/uploads/2024/09/24-25-C2-300x250-ad-1.png
ORGANIZER;CN="OKC Philharmonic":MAILTO:tickets@okcphil.org
GEO:35.4690469;-97.5235321
X-APPLE-STRUCTURED-LOCATION;VALUE=URI;X-ADDRESS=Civic Center Music Hall 201 N Walker Ave Oklahoma City OK 73102 United States;X-APPLE-RADIUS=500;X-TITLE=201 N Walker Ave:geo:-97.5235321,35.4690469
END:VEVENT
BEGIN:VEVENT
DTSTART;TZID=UTC:20241012T200000
DTEND;TZID=UTC:20241012T220000
DTSTAMP:20260423T114127
CREATED:20240729T133037Z
LAST-MODIFIED:20240729T133037Z
UID:10028297-1728763200-1728770400@downtownokc.com
SUMMARY:The Organ Symphony
DESCRIPTION:Alexander Mickelthwate\, conductor\nCameron Carpenter\, organ \nBERLIOZ : Benvenuto Cellini: Overture\nPOULENC: Organ Concerto in G Minor\nSAINT-SAËNS: Symphony No. 3 in C Minor\, “Organ Symphony”
URL:https://downtownokc.com/event/the-organ-symphony/
LOCATION:United States
ATTACH;FMTTYPE=image/jpeg:https://downtownokc.com/wp-content/uploads/2024/07/Capture-1.jpg
ORGANIZER;CN="OKC Philharmonic":MAILTO:tickets@okcphil.org
END:VEVENT
BEGIN:VEVENT
DTSTART;TZID=UTC:20240921T200000
DTEND;TZID=UTC:20240921T220000
DTSTAMP:20260423T114127
CREATED:20240725T194433Z
LAST-MODIFIED:20240725T194433Z
UID:10028296-1726948800-1726956000@downtownokc.com
SUMMARY:Opening Night With Midori
DESCRIPTION:CONCERT DETAILS\nAlexander Mickelthwate\, conductor\nMidori\, violin \nSIBELIUS: Concerto for Violin in D Minor\, op. 47\nSHOSTAKOVICH: Symphony No. 5 in D Minor\, op. 47
URL:https://downtownokc.com/event/opening-night-with-midori/
LOCATION:United States
CATEGORIES:City Center,Downtown OKC
ATTACH;FMTTYPE=image/jpeg:https://downtownokc.com/wp-content/uploads/2024/07/Capture.jpg
ORGANIZER;CN="OKC Philharmonic":MAILTO:tickets@okcphil.org
END:VEVENT
BEGIN:VEVENT
DTSTART;TZID=UTC:20240703T203000
DTEND;TZID=UTC:20240703T220000
DTSTAMP:20260423T114127
CREATED:20240603T201031Z
LAST-MODIFIED:20240603T201031Z
UID:10024951-1720038600-1720044000@downtownokc.com
SUMMARY:Red\, White\, & BOOM!
DESCRIPTION:Join the OKCPHIL and Maestro Alexander Mickelthwate Wednesday\, July 3\, 2024\, at 8:30 PM\, for a FREE concert at Scissortail Park in downtown OKC.\nBring your blankets\, lawn chairs\, and the whole family to enjoy a lovely evening outside with beautiful\, inspiring music\, followed by fireworks! \nAdditional details about concert programming and parking will be forthcoming. See you soon! More info at okcphil.org
URL:https://downtownokc.com/event/red-white-boom-2/
LOCATION:Scissortail Park\, 300 SW 7th St\,\, oklahoma city\, OK\, 73109\, United States
CATEGORIES:Downtown OKC
ATTACH;FMTTYPE=image/png:https://downtownokc.com/wp-content/uploads/2024/05/2024-RWB-mobile-graphic-square.png
ORGANIZER;CN="OKC Philharmonic":MAILTO:tickets@okcphil.org
END:VEVENT
BEGIN:VEVENT
DTSTART;TZID=UTC:20240519T203000
DTEND;TZID=UTC:20240519T220000
DTSTAMP:20260423T114127
CREATED:20240528T191215Z
LAST-MODIFIED:20240528T191215Z
UID:10024835-1716150600-1716156000@downtownokc.com
SUMMARY:Sunday in the Park with the PHIL!
DESCRIPTION:Join us for music under the stars at Scissortail Park\, Sunday\, May 19th at 8:30 pm. Hear your OKC Phil as we present an exciting array of popular hits and more! Maestro Alexander Mickelthwate conducts the fabulous OKC Philharmonic for this FREE community concert.
URL:https://downtownokc.com/event/sunday-in-the-park-with-the-phil/
LOCATION:Scissortail Park\, 300 SW 7th St\,\, oklahoma city\, OK\, 73109\, United States
CATEGORIES:Downtown OKC
ATTACH;FMTTYPE=image/png:https://downtownokc.com/wp-content/uploads/2024/05/23-24-SundayinTheParkWithPhil-mobile-banner-May-19.png
ORGANIZER;CN="OKC Philharmonic":MAILTO:tickets@okcphil.org
END:VEVENT
BEGIN:VEVENT
DTSTART;TZID=UTC:20240518T200000
DTEND;TZID=UTC:20240518T220000
DTSTAMP:20260423T114127
CREATED:20240425T140933Z
LAST-MODIFIED:20240425T140933Z
UID:10023801-1716062400-1716069600@downtownokc.com
SUMMARY:Tosca
DESCRIPTION:Alexander Mickelthwate\, conductor\nLatonia Moore\, soprano\nStephen Costello\, tenor\nAlan Held\, baritone \nPUCCINI: Tosca
URL:https://downtownokc.com/event/tosca/
LOCATION:Civic Center Music Hall\, 201 N Walker Ave\, Oklahoma City\, OK\, 73102\, United States
CATEGORIES:Downtown OKC
ATTACH;FMTTYPE=image/png:https://downtownokc.com/wp-content/uploads/2024/04/23-24-C8-1080x1080-ad.png
ORGANIZER;CN="OKC Philharmonic":MAILTO:tickets@okcphil.org
GEO:35.4690469;-97.5235321
X-APPLE-STRUCTURED-LOCATION;VALUE=URI;X-ADDRESS=Civic Center Music Hall 201 N Walker Ave Oklahoma City OK 73102 United States;X-APPLE-RADIUS=500;X-TITLE=201 N Walker Ave:geo:-97.5235321,35.4690469
END:VEVENT
BEGIN:VEVENT
DTSTART;TZID=UTC:20240504T200000
DTEND;TZID=UTC:20240504T220000
DTSTAMP:20260423T114127
CREATED:20240423T214449Z
LAST-MODIFIED:20240423T214449Z
UID:10023800-1714852800-1714860000@downtownokc.com
SUMMARY:An Evening with Bernadette Peters
DESCRIPTION:She has won Tony Awards and Golden Globes. She starred on Broadway in Sunday in the Park with George\, and Annie Get Your Gun. She is also the foremost\ninterpreter of the works of Stephen Sondheim. Now the legendary Bernadette Peters is coming to Oklahoma City\, bringing her sparkling song and personality to the OKCPHIL. Join us for a fantastic evening of music with your OKCPHIL led by conductor Tedd Firth!
URL:https://downtownokc.com/event/an-evening-with-bernadette-peters/2024-05-04/
LOCATION:Civic Center Music Hall\, 201 N Walker Ave\, Oklahoma City\, OK\, 73102\, United States
CATEGORIES:Downtown OKC
ATTACH;FMTTYPE=image/png:https://downtownokc.com/wp-content/uploads/2024/04/23-24-P6-19201080-graphic-Humane-Society-collab-01-1.png
ORGANIZER;CN="OKC Philharmonic":MAILTO:tickets@okcphil.org
GEO:35.4690469;-97.5235321
X-APPLE-STRUCTURED-LOCATION;VALUE=URI;X-ADDRESS=Civic Center Music Hall 201 N Walker Ave Oklahoma City OK 73102 United States;X-APPLE-RADIUS=500;X-TITLE=201 N Walker Ave:geo:-97.5235321,35.4690469
END:VEVENT
END:VCALENDAR