BEGIN:VCALENDAR
VERSION:2.0
PRODID:-//Downtown OKC - ECPv6.15.20//NONSGML v1.0//EN
CALSCALE:GREGORIAN
METHOD:PUBLISH
X-ORIGINAL-URL:https://downtownokc.com
X-WR-CALDESC:Events for Downtown OKC
REFRESH-INTERVAL;VALUE=DURATION:PT1H
X-Robots-Tag:noindex
X-PUBLISHED-TTL:PT1H
BEGIN:VTIMEZONE
TZID:UTC
BEGIN:STANDARD
TZOFFSETFROM:+0000
TZOFFSETTO:+0000
TZNAME:UTC
DTSTART:20220101T000000
END:STANDARD
END:VTIMEZONE
BEGIN:VEVENT
DTSTART;TZID=UTC:20231002T160000
DTEND;TZID=UTC:20231002T235900
DTSTAMP:20260425T001442
CREATED:20230120T160240Z
LAST-MODIFIED:20230129T002205Z
UID:10015383-1696262400-1696291140@downtownokc.com
SUMMARY:Martini Monday at O Bar
DESCRIPTION:Drinks with a VIEW — We can’t think of a better way to spend your Monday in Midtown. \nJoin O Bar for their Martini Mondays featuring two $10 martinis with selections rotating monthly. \nO Bar is located on 7th floor of the Ambassador Hotel open 4pm-Midnight.
URL:https://downtownokc.com/event/martini-monday-at-o-bar/2023-10-02/
LOCATION:O Bar\, 1200 North Walker Avenue\, Oklahoma City\, OK\, 73103\, United States
CATEGORIES:Downtown OKC,Midtown
ATTACH;FMTTYPE=image/jpeg:https://downtownokc.com/wp-content/uploads/2023/01/Copy-of-MARTINI-MONDAY-Instagram-Post-Square-002.jpg
END:VEVENT
BEGIN:VEVENT
DTSTART;TZID=UTC:20230925T160000
DTEND;TZID=UTC:20230925T235900
DTSTAMP:20260425T001442
CREATED:20230120T160240Z
LAST-MODIFIED:20230129T002205Z
UID:10015382-1695657600-1695686340@downtownokc.com
SUMMARY:Martini Monday at O Bar
DESCRIPTION:Drinks with a VIEW — We can’t think of a better way to spend your Monday in Midtown. \nJoin O Bar for their Martini Mondays featuring two $10 martinis with selections rotating monthly. \nO Bar is located on 7th floor of the Ambassador Hotel open 4pm-Midnight.
URL:https://downtownokc.com/event/martini-monday-at-o-bar/2023-09-25/
LOCATION:O Bar\, 1200 North Walker Avenue\, Oklahoma City\, OK\, 73103\, United States
CATEGORIES:Downtown OKC,Midtown
ATTACH;FMTTYPE=image/jpeg:https://downtownokc.com/wp-content/uploads/2023/01/Copy-of-MARTINI-MONDAY-Instagram-Post-Square-002.jpg
END:VEVENT
BEGIN:VEVENT
DTSTART;TZID=UTC:20230918T160000
DTEND;TZID=UTC:20230918T235900
DTSTAMP:20260425T001442
CREATED:20230120T160240Z
LAST-MODIFIED:20230129T002205Z
UID:10015381-1695052800-1695081540@downtownokc.com
SUMMARY:Martini Monday at O Bar
DESCRIPTION:Drinks with a VIEW — We can’t think of a better way to spend your Monday in Midtown. \nJoin O Bar for their Martini Mondays featuring two $10 martinis with selections rotating monthly. \nO Bar is located on 7th floor of the Ambassador Hotel open 4pm-Midnight.
URL:https://downtownokc.com/event/martini-monday-at-o-bar/2023-09-18/
LOCATION:O Bar\, 1200 North Walker Avenue\, Oklahoma City\, OK\, 73103\, United States
CATEGORIES:Downtown OKC,Midtown
ATTACH;FMTTYPE=image/jpeg:https://downtownokc.com/wp-content/uploads/2023/01/Copy-of-MARTINI-MONDAY-Instagram-Post-Square-002.jpg
END:VEVENT
BEGIN:VEVENT
DTSTART;TZID=UTC:20230911T160000
DTEND;TZID=UTC:20230911T235900
DTSTAMP:20260425T001442
CREATED:20230120T160240Z
LAST-MODIFIED:20230129T002205Z
UID:10015380-1694448000-1694476740@downtownokc.com
SUMMARY:Martini Monday at O Bar
DESCRIPTION:Drinks with a VIEW — We can’t think of a better way to spend your Monday in Midtown. \nJoin O Bar for their Martini Mondays featuring two $10 martinis with selections rotating monthly. \nO Bar is located on 7th floor of the Ambassador Hotel open 4pm-Midnight.
URL:https://downtownokc.com/event/martini-monday-at-o-bar/2023-09-11/
LOCATION:O Bar\, 1200 North Walker Avenue\, Oklahoma City\, OK\, 73103\, United States
CATEGORIES:Downtown OKC,Midtown
ATTACH;FMTTYPE=image/jpeg:https://downtownokc.com/wp-content/uploads/2023/01/Copy-of-MARTINI-MONDAY-Instagram-Post-Square-002.jpg
END:VEVENT
BEGIN:VEVENT
DTSTART;TZID=UTC:20230904T160000
DTEND;TZID=UTC:20230904T235900
DTSTAMP:20260425T001442
CREATED:20230120T160240Z
LAST-MODIFIED:20230129T002205Z
UID:10015379-1693843200-1693871940@downtownokc.com
SUMMARY:Martini Monday at O Bar
DESCRIPTION:Drinks with a VIEW — We can’t think of a better way to spend your Monday in Midtown. \nJoin O Bar for their Martini Mondays featuring two $10 martinis with selections rotating monthly. \nO Bar is located on 7th floor of the Ambassador Hotel open 4pm-Midnight.
URL:https://downtownokc.com/event/martini-monday-at-o-bar/2023-09-04/
LOCATION:O Bar\, 1200 North Walker Avenue\, Oklahoma City\, OK\, 73103\, United States
CATEGORIES:Downtown OKC,Midtown
ATTACH;FMTTYPE=image/jpeg:https://downtownokc.com/wp-content/uploads/2023/01/Copy-of-MARTINI-MONDAY-Instagram-Post-Square-002.jpg
END:VEVENT
BEGIN:VEVENT
DTSTART;TZID=UTC:20230828T160000
DTEND;TZID=UTC:20230828T235900
DTSTAMP:20260425T001442
CREATED:20230120T160240Z
LAST-MODIFIED:20230129T002205Z
UID:10015378-1693238400-1693267140@downtownokc.com
SUMMARY:Martini Monday at O Bar
DESCRIPTION:Drinks with a VIEW — We can’t think of a better way to spend your Monday in Midtown. \nJoin O Bar for their Martini Mondays featuring two $10 martinis with selections rotating monthly. \nO Bar is located on 7th floor of the Ambassador Hotel open 4pm-Midnight.
URL:https://downtownokc.com/event/martini-monday-at-o-bar/2023-08-28/
LOCATION:O Bar\, 1200 North Walker Avenue\, Oklahoma City\, OK\, 73103\, United States
CATEGORIES:Downtown OKC,Midtown
ATTACH;FMTTYPE=image/jpeg:https://downtownokc.com/wp-content/uploads/2023/01/Copy-of-MARTINI-MONDAY-Instagram-Post-Square-002.jpg
END:VEVENT
BEGIN:VEVENT
DTSTART;TZID=UTC:20230821T160000
DTEND;TZID=UTC:20230821T235900
DTSTAMP:20260425T001442
CREATED:20230120T160240Z
LAST-MODIFIED:20230129T002205Z
UID:10015377-1692633600-1692662340@downtownokc.com
SUMMARY:Martini Monday at O Bar
DESCRIPTION:Drinks with a VIEW — We can’t think of a better way to spend your Monday in Midtown. \nJoin O Bar for their Martini Mondays featuring two $10 martinis with selections rotating monthly. \nO Bar is located on 7th floor of the Ambassador Hotel open 4pm-Midnight.
URL:https://downtownokc.com/event/martini-monday-at-o-bar/2023-08-21/
LOCATION:O Bar\, 1200 North Walker Avenue\, Oklahoma City\, OK\, 73103\, United States
CATEGORIES:Downtown OKC,Midtown
ATTACH;FMTTYPE=image/jpeg:https://downtownokc.com/wp-content/uploads/2023/01/Copy-of-MARTINI-MONDAY-Instagram-Post-Square-002.jpg
END:VEVENT
BEGIN:VEVENT
DTSTART;TZID=UTC:20230814T160000
DTEND;TZID=UTC:20230814T235900
DTSTAMP:20260425T001442
CREATED:20230120T160240Z
LAST-MODIFIED:20230129T002205Z
UID:10015376-1692028800-1692057540@downtownokc.com
SUMMARY:Martini Monday at O Bar
DESCRIPTION:Drinks with a VIEW — We can’t think of a better way to spend your Monday in Midtown. \nJoin O Bar for their Martini Mondays featuring two $10 martinis with selections rotating monthly. \nO Bar is located on 7th floor of the Ambassador Hotel open 4pm-Midnight.
URL:https://downtownokc.com/event/martini-monday-at-o-bar/2023-08-14/
LOCATION:O Bar\, 1200 North Walker Avenue\, Oklahoma City\, OK\, 73103\, United States
CATEGORIES:Downtown OKC,Midtown
ATTACH;FMTTYPE=image/jpeg:https://downtownokc.com/wp-content/uploads/2023/01/Copy-of-MARTINI-MONDAY-Instagram-Post-Square-002.jpg
END:VEVENT
BEGIN:VEVENT
DTSTART;TZID=UTC:20230807T160000
DTEND;TZID=UTC:20230807T235900
DTSTAMP:20260425T001442
CREATED:20230120T160240Z
LAST-MODIFIED:20230129T002205Z
UID:10015375-1691424000-1691452740@downtownokc.com
SUMMARY:Martini Monday at O Bar
DESCRIPTION:Drinks with a VIEW — We can’t think of a better way to spend your Monday in Midtown. \nJoin O Bar for their Martini Mondays featuring two $10 martinis with selections rotating monthly. \nO Bar is located on 7th floor of the Ambassador Hotel open 4pm-Midnight.
URL:https://downtownokc.com/event/martini-monday-at-o-bar/2023-08-07/
LOCATION:O Bar\, 1200 North Walker Avenue\, Oklahoma City\, OK\, 73103\, United States
CATEGORIES:Downtown OKC,Midtown
ATTACH;FMTTYPE=image/jpeg:https://downtownokc.com/wp-content/uploads/2023/01/Copy-of-MARTINI-MONDAY-Instagram-Post-Square-002.jpg
END:VEVENT
BEGIN:VEVENT
DTSTART;TZID=UTC:20230731T160000
DTEND;TZID=UTC:20230731T235900
DTSTAMP:20260425T001442
CREATED:20230120T160240Z
LAST-MODIFIED:20230129T002205Z
UID:10015374-1690819200-1690847940@downtownokc.com
SUMMARY:Martini Monday at O Bar
DESCRIPTION:Drinks with a VIEW — We can’t think of a better way to spend your Monday in Midtown. \nJoin O Bar for their Martini Mondays featuring two $10 martinis with selections rotating monthly. \nO Bar is located on 7th floor of the Ambassador Hotel open 4pm-Midnight.
URL:https://downtownokc.com/event/martini-monday-at-o-bar/2023-07-31/
LOCATION:O Bar\, 1200 North Walker Avenue\, Oklahoma City\, OK\, 73103\, United States
CATEGORIES:Downtown OKC,Midtown
ATTACH;FMTTYPE=image/jpeg:https://downtownokc.com/wp-content/uploads/2023/01/Copy-of-MARTINI-MONDAY-Instagram-Post-Square-002.jpg
END:VEVENT
BEGIN:VEVENT
DTSTART;TZID=UTC:20230724T160000
DTEND;TZID=UTC:20230724T235900
DTSTAMP:20260425T001442
CREATED:20230120T160240Z
LAST-MODIFIED:20230129T002205Z
UID:10015373-1690214400-1690243140@downtownokc.com
SUMMARY:Martini Monday at O Bar
DESCRIPTION:Drinks with a VIEW — We can’t think of a better way to spend your Monday in Midtown. \nJoin O Bar for their Martini Mondays featuring two $10 martinis with selections rotating monthly. \nO Bar is located on 7th floor of the Ambassador Hotel open 4pm-Midnight.
URL:https://downtownokc.com/event/martini-monday-at-o-bar/2023-07-24/
LOCATION:O Bar\, 1200 North Walker Avenue\, Oklahoma City\, OK\, 73103\, United States
CATEGORIES:Downtown OKC,Midtown
ATTACH;FMTTYPE=image/jpeg:https://downtownokc.com/wp-content/uploads/2023/01/Copy-of-MARTINI-MONDAY-Instagram-Post-Square-002.jpg
END:VEVENT
BEGIN:VEVENT
DTSTART;TZID=UTC:20230717T160000
DTEND;TZID=UTC:20230717T235900
DTSTAMP:20260425T001442
CREATED:20230120T160240Z
LAST-MODIFIED:20230129T002205Z
UID:10015372-1689609600-1689638340@downtownokc.com
SUMMARY:Martini Monday at O Bar
DESCRIPTION:Drinks with a VIEW — We can’t think of a better way to spend your Monday in Midtown. \nJoin O Bar for their Martini Mondays featuring two $10 martinis with selections rotating monthly. \nO Bar is located on 7th floor of the Ambassador Hotel open 4pm-Midnight.
URL:https://downtownokc.com/event/martini-monday-at-o-bar/2023-07-17/
LOCATION:O Bar\, 1200 North Walker Avenue\, Oklahoma City\, OK\, 73103\, United States
CATEGORIES:Downtown OKC,Midtown
ATTACH;FMTTYPE=image/jpeg:https://downtownokc.com/wp-content/uploads/2023/01/Copy-of-MARTINI-MONDAY-Instagram-Post-Square-002.jpg
END:VEVENT
BEGIN:VEVENT
DTSTART;TZID=UTC:20230710T160000
DTEND;TZID=UTC:20230710T235900
DTSTAMP:20260425T001442
CREATED:20230120T160240Z
LAST-MODIFIED:20230129T002205Z
UID:10015371-1689004800-1689033540@downtownokc.com
SUMMARY:Martini Monday at O Bar
DESCRIPTION:Drinks with a VIEW — We can’t think of a better way to spend your Monday in Midtown. \nJoin O Bar for their Martini Mondays featuring two $10 martinis with selections rotating monthly. \nO Bar is located on 7th floor of the Ambassador Hotel open 4pm-Midnight.
URL:https://downtownokc.com/event/martini-monday-at-o-bar/2023-07-10/
LOCATION:O Bar\, 1200 North Walker Avenue\, Oklahoma City\, OK\, 73103\, United States
CATEGORIES:Downtown OKC,Midtown
ATTACH;FMTTYPE=image/jpeg:https://downtownokc.com/wp-content/uploads/2023/01/Copy-of-MARTINI-MONDAY-Instagram-Post-Square-002.jpg
END:VEVENT
BEGIN:VEVENT
DTSTART;TZID=UTC:20230703T160000
DTEND;TZID=UTC:20230703T235900
DTSTAMP:20260425T001442
CREATED:20230120T160240Z
LAST-MODIFIED:20230129T002205Z
UID:10015370-1688400000-1688428740@downtownokc.com
SUMMARY:Martini Monday at O Bar
DESCRIPTION:Drinks with a VIEW — We can’t think of a better way to spend your Monday in Midtown. \nJoin O Bar for their Martini Mondays featuring two $10 martinis with selections rotating monthly. \nO Bar is located on 7th floor of the Ambassador Hotel open 4pm-Midnight.
URL:https://downtownokc.com/event/martini-monday-at-o-bar/2023-07-03/
LOCATION:O Bar\, 1200 North Walker Avenue\, Oklahoma City\, OK\, 73103\, United States
CATEGORIES:Downtown OKC,Midtown
ATTACH;FMTTYPE=image/jpeg:https://downtownokc.com/wp-content/uploads/2023/01/Copy-of-MARTINI-MONDAY-Instagram-Post-Square-002.jpg
END:VEVENT
BEGIN:VEVENT
DTSTART;TZID=UTC:20230626T160000
DTEND;TZID=UTC:20230626T235900
DTSTAMP:20260425T001442
CREATED:20230120T160240Z
LAST-MODIFIED:20230129T002205Z
UID:10015369-1687795200-1687823940@downtownokc.com
SUMMARY:Martini Monday at O Bar
DESCRIPTION:Drinks with a VIEW — We can’t think of a better way to spend your Monday in Midtown. \nJoin O Bar for their Martini Mondays featuring two $10 martinis with selections rotating monthly. \nO Bar is located on 7th floor of the Ambassador Hotel open 4pm-Midnight.
URL:https://downtownokc.com/event/martini-monday-at-o-bar/2023-06-26/
LOCATION:O Bar\, 1200 North Walker Avenue\, Oklahoma City\, OK\, 73103\, United States
CATEGORIES:Downtown OKC,Midtown
ATTACH;FMTTYPE=image/jpeg:https://downtownokc.com/wp-content/uploads/2023/01/Copy-of-MARTINI-MONDAY-Instagram-Post-Square-002.jpg
END:VEVENT
BEGIN:VEVENT
DTSTART;TZID=UTC:20230619T160000
DTEND;TZID=UTC:20230619T235900
DTSTAMP:20260425T001442
CREATED:20230120T160240Z
LAST-MODIFIED:20230129T002205Z
UID:10015368-1687190400-1687219140@downtownokc.com
SUMMARY:Martini Monday at O Bar
DESCRIPTION:Drinks with a VIEW — We can’t think of a better way to spend your Monday in Midtown. \nJoin O Bar for their Martini Mondays featuring two $10 martinis with selections rotating monthly. \nO Bar is located on 7th floor of the Ambassador Hotel open 4pm-Midnight.
URL:https://downtownokc.com/event/martini-monday-at-o-bar/2023-06-19/
LOCATION:O Bar\, 1200 North Walker Avenue\, Oklahoma City\, OK\, 73103\, United States
CATEGORIES:Downtown OKC,Midtown
ATTACH;FMTTYPE=image/jpeg:https://downtownokc.com/wp-content/uploads/2023/01/Copy-of-MARTINI-MONDAY-Instagram-Post-Square-002.jpg
END:VEVENT
BEGIN:VEVENT
DTSTART;TZID=UTC:20230612T160000
DTEND;TZID=UTC:20230612T235900
DTSTAMP:20260425T001442
CREATED:20230120T160240Z
LAST-MODIFIED:20230129T002205Z
UID:10015367-1686585600-1686614340@downtownokc.com
SUMMARY:Martini Monday at O Bar
DESCRIPTION:Drinks with a VIEW — We can’t think of a better way to spend your Monday in Midtown. \nJoin O Bar for their Martini Mondays featuring two $10 martinis with selections rotating monthly. \nO Bar is located on 7th floor of the Ambassador Hotel open 4pm-Midnight.
URL:https://downtownokc.com/event/martini-monday-at-o-bar/2023-06-12/
LOCATION:O Bar\, 1200 North Walker Avenue\, Oklahoma City\, OK\, 73103\, United States
CATEGORIES:Downtown OKC,Midtown
ATTACH;FMTTYPE=image/jpeg:https://downtownokc.com/wp-content/uploads/2023/01/Copy-of-MARTINI-MONDAY-Instagram-Post-Square-002.jpg
END:VEVENT
BEGIN:VEVENT
DTSTART;TZID=UTC:20230605T160000
DTEND;TZID=UTC:20230605T235900
DTSTAMP:20260425T001442
CREATED:20230120T160240Z
LAST-MODIFIED:20230129T002205Z
UID:10015366-1685980800-1686009540@downtownokc.com
SUMMARY:Martini Monday at O Bar
DESCRIPTION:Drinks with a VIEW — We can’t think of a better way to spend your Monday in Midtown. \nJoin O Bar for their Martini Mondays featuring two $10 martinis with selections rotating monthly. \nO Bar is located on 7th floor of the Ambassador Hotel open 4pm-Midnight.
URL:https://downtownokc.com/event/martini-monday-at-o-bar/2023-06-05/
LOCATION:O Bar\, 1200 North Walker Avenue\, Oklahoma City\, OK\, 73103\, United States
CATEGORIES:Downtown OKC,Midtown
ATTACH;FMTTYPE=image/jpeg:https://downtownokc.com/wp-content/uploads/2023/01/Copy-of-MARTINI-MONDAY-Instagram-Post-Square-002.jpg
END:VEVENT
BEGIN:VEVENT
DTSTART;TZID=UTC:20230529T160000
DTEND;TZID=UTC:20230529T235900
DTSTAMP:20260425T001442
CREATED:20230120T160240Z
LAST-MODIFIED:20230129T002205Z
UID:10015365-1685376000-1685404740@downtownokc.com
SUMMARY:Martini Monday at O Bar
DESCRIPTION:Drinks with a VIEW — We can’t think of a better way to spend your Monday in Midtown. \nJoin O Bar for their Martini Mondays featuring two $10 martinis with selections rotating monthly. \nO Bar is located on 7th floor of the Ambassador Hotel open 4pm-Midnight.
URL:https://downtownokc.com/event/martini-monday-at-o-bar/2023-05-29/
LOCATION:O Bar\, 1200 North Walker Avenue\, Oklahoma City\, OK\, 73103\, United States
CATEGORIES:Downtown OKC,Midtown
ATTACH;FMTTYPE=image/jpeg:https://downtownokc.com/wp-content/uploads/2023/01/Copy-of-MARTINI-MONDAY-Instagram-Post-Square-002.jpg
END:VEVENT
BEGIN:VEVENT
DTSTART;TZID=UTC:20230522T160000
DTEND;TZID=UTC:20230522T235900
DTSTAMP:20260425T001442
CREATED:20230120T160240Z
LAST-MODIFIED:20230129T002205Z
UID:10015364-1684771200-1684799940@downtownokc.com
SUMMARY:Martini Monday at O Bar
DESCRIPTION:Drinks with a VIEW — We can’t think of a better way to spend your Monday in Midtown. \nJoin O Bar for their Martini Mondays featuring two $10 martinis with selections rotating monthly. \nO Bar is located on 7th floor of the Ambassador Hotel open 4pm-Midnight.
URL:https://downtownokc.com/event/martini-monday-at-o-bar/2023-05-22/
LOCATION:O Bar\, 1200 North Walker Avenue\, Oklahoma City\, OK\, 73103\, United States
CATEGORIES:Downtown OKC,Midtown
ATTACH;FMTTYPE=image/jpeg:https://downtownokc.com/wp-content/uploads/2023/01/Copy-of-MARTINI-MONDAY-Instagram-Post-Square-002.jpg
END:VEVENT
BEGIN:VEVENT
DTSTART;TZID=UTC:20230515T160000
DTEND;TZID=UTC:20230515T235900
DTSTAMP:20260425T001442
CREATED:20230120T160240Z
LAST-MODIFIED:20230129T002205Z
UID:10015363-1684166400-1684195140@downtownokc.com
SUMMARY:Martini Monday at O Bar
DESCRIPTION:Drinks with a VIEW — We can’t think of a better way to spend your Monday in Midtown. \nJoin O Bar for their Martini Mondays featuring two $10 martinis with selections rotating monthly. \nO Bar is located on 7th floor of the Ambassador Hotel open 4pm-Midnight.
URL:https://downtownokc.com/event/martini-monday-at-o-bar/2023-05-15/
LOCATION:O Bar\, 1200 North Walker Avenue\, Oklahoma City\, OK\, 73103\, United States
CATEGORIES:Downtown OKC,Midtown
ATTACH;FMTTYPE=image/jpeg:https://downtownokc.com/wp-content/uploads/2023/01/Copy-of-MARTINI-MONDAY-Instagram-Post-Square-002.jpg
END:VEVENT
BEGIN:VEVENT
DTSTART;TZID=UTC:20230508T160000
DTEND;TZID=UTC:20230508T235900
DTSTAMP:20260425T001442
CREATED:20230120T160240Z
LAST-MODIFIED:20230129T002205Z
UID:10015362-1683561600-1683590340@downtownokc.com
SUMMARY:Martini Monday at O Bar
DESCRIPTION:Drinks with a VIEW — We can’t think of a better way to spend your Monday in Midtown. \nJoin O Bar for their Martini Mondays featuring two $10 martinis with selections rotating monthly. \nO Bar is located on 7th floor of the Ambassador Hotel open 4pm-Midnight.
URL:https://downtownokc.com/event/martini-monday-at-o-bar/2023-05-08/
LOCATION:O Bar\, 1200 North Walker Avenue\, Oklahoma City\, OK\, 73103\, United States
CATEGORIES:Downtown OKC,Midtown
ATTACH;FMTTYPE=image/jpeg:https://downtownokc.com/wp-content/uploads/2023/01/Copy-of-MARTINI-MONDAY-Instagram-Post-Square-002.jpg
END:VEVENT
BEGIN:VEVENT
DTSTART;TZID=UTC:20230501T160000
DTEND;TZID=UTC:20230501T235900
DTSTAMP:20260425T001442
CREATED:20230120T160240Z
LAST-MODIFIED:20230129T002205Z
UID:10015361-1682956800-1682985540@downtownokc.com
SUMMARY:Martini Monday at O Bar
DESCRIPTION:Drinks with a VIEW — We can’t think of a better way to spend your Monday in Midtown. \nJoin O Bar for their Martini Mondays featuring two $10 martinis with selections rotating monthly. \nO Bar is located on 7th floor of the Ambassador Hotel open 4pm-Midnight.
URL:https://downtownokc.com/event/martini-monday-at-o-bar/2023-05-01/
LOCATION:O Bar\, 1200 North Walker Avenue\, Oklahoma City\, OK\, 73103\, United States
CATEGORIES:Downtown OKC,Midtown
ATTACH;FMTTYPE=image/jpeg:https://downtownokc.com/wp-content/uploads/2023/01/Copy-of-MARTINI-MONDAY-Instagram-Post-Square-002.jpg
END:VEVENT
BEGIN:VEVENT
DTSTART;TZID=UTC:20230424T160000
DTEND;TZID=UTC:20230424T235900
DTSTAMP:20260425T001442
CREATED:20230120T160240Z
LAST-MODIFIED:20230129T002205Z
UID:10015360-1682352000-1682380740@downtownokc.com
SUMMARY:Martini Monday at O Bar
DESCRIPTION:Drinks with a VIEW — We can’t think of a better way to spend your Monday in Midtown. \nJoin O Bar for their Martini Mondays featuring two $10 martinis with selections rotating monthly. \nO Bar is located on 7th floor of the Ambassador Hotel open 4pm-Midnight.
URL:https://downtownokc.com/event/martini-monday-at-o-bar/2023-04-24/
LOCATION:O Bar\, 1200 North Walker Avenue\, Oklahoma City\, OK\, 73103\, United States
CATEGORIES:Downtown OKC,Midtown
ATTACH;FMTTYPE=image/jpeg:https://downtownokc.com/wp-content/uploads/2023/01/Copy-of-MARTINI-MONDAY-Instagram-Post-Square-002.jpg
END:VEVENT
BEGIN:VEVENT
DTSTART;TZID=UTC:20230417T160000
DTEND;TZID=UTC:20230417T235900
DTSTAMP:20260425T001442
CREATED:20230120T160240Z
LAST-MODIFIED:20230129T002205Z
UID:10015359-1681747200-1681775940@downtownokc.com
SUMMARY:Martini Monday at O Bar
DESCRIPTION:Drinks with a VIEW — We can’t think of a better way to spend your Monday in Midtown. \nJoin O Bar for their Martini Mondays featuring two $10 martinis with selections rotating monthly. \nO Bar is located on 7th floor of the Ambassador Hotel open 4pm-Midnight.
URL:https://downtownokc.com/event/martini-monday-at-o-bar/2023-04-17/
LOCATION:O Bar\, 1200 North Walker Avenue\, Oklahoma City\, OK\, 73103\, United States
CATEGORIES:Downtown OKC,Midtown
ATTACH;FMTTYPE=image/jpeg:https://downtownokc.com/wp-content/uploads/2023/01/Copy-of-MARTINI-MONDAY-Instagram-Post-Square-002.jpg
END:VEVENT
BEGIN:VEVENT
DTSTART;TZID=UTC:20230410T160000
DTEND;TZID=UTC:20230410T235900
DTSTAMP:20260425T001442
CREATED:20230120T160240Z
LAST-MODIFIED:20230129T002205Z
UID:10015358-1681142400-1681171140@downtownokc.com
SUMMARY:Martini Monday at O Bar
DESCRIPTION:Drinks with a VIEW — We can’t think of a better way to spend your Monday in Midtown. \nJoin O Bar for their Martini Mondays featuring two $10 martinis with selections rotating monthly. \nO Bar is located on 7th floor of the Ambassador Hotel open 4pm-Midnight.
URL:https://downtownokc.com/event/martini-monday-at-o-bar/2023-04-10/
LOCATION:O Bar\, 1200 North Walker Avenue\, Oklahoma City\, OK\, 73103\, United States
CATEGORIES:Downtown OKC,Midtown
ATTACH;FMTTYPE=image/jpeg:https://downtownokc.com/wp-content/uploads/2023/01/Copy-of-MARTINI-MONDAY-Instagram-Post-Square-002.jpg
END:VEVENT
BEGIN:VEVENT
DTSTART;TZID=UTC:20230403T160000
DTEND;TZID=UTC:20230403T235900
DTSTAMP:20260425T001442
CREATED:20230120T160240Z
LAST-MODIFIED:20230129T002205Z
UID:10015357-1680537600-1680566340@downtownokc.com
SUMMARY:Martini Monday at O Bar
DESCRIPTION:Drinks with a VIEW — We can’t think of a better way to spend your Monday in Midtown. \nJoin O Bar for their Martini Mondays featuring two $10 martinis with selections rotating monthly. \nO Bar is located on 7th floor of the Ambassador Hotel open 4pm-Midnight.
URL:https://downtownokc.com/event/martini-monday-at-o-bar/2023-04-03/
LOCATION:O Bar\, 1200 North Walker Avenue\, Oklahoma City\, OK\, 73103\, United States
CATEGORIES:Downtown OKC,Midtown
ATTACH;FMTTYPE=image/jpeg:https://downtownokc.com/wp-content/uploads/2023/01/Copy-of-MARTINI-MONDAY-Instagram-Post-Square-002.jpg
END:VEVENT
BEGIN:VEVENT
DTSTART;TZID=UTC:20230327T160000
DTEND;TZID=UTC:20230327T235900
DTSTAMP:20260425T001442
CREATED:20230120T160240Z
LAST-MODIFIED:20230129T002205Z
UID:10015356-1679932800-1679961540@downtownokc.com
SUMMARY:Martini Monday at O Bar
DESCRIPTION:Drinks with a VIEW — We can’t think of a better way to spend your Monday in Midtown. \nJoin O Bar for their Martini Mondays featuring two $10 martinis with selections rotating monthly. \nO Bar is located on 7th floor of the Ambassador Hotel open 4pm-Midnight.
URL:https://downtownokc.com/event/martini-monday-at-o-bar/2023-03-27/
LOCATION:O Bar\, 1200 North Walker Avenue\, Oklahoma City\, OK\, 73103\, United States
CATEGORIES:Downtown OKC,Midtown
ATTACH;FMTTYPE=image/jpeg:https://downtownokc.com/wp-content/uploads/2023/01/Copy-of-MARTINI-MONDAY-Instagram-Post-Square-002.jpg
END:VEVENT
BEGIN:VEVENT
DTSTART;TZID=UTC:20230320T160000
DTEND;TZID=UTC:20230320T235900
DTSTAMP:20260425T001442
CREATED:20230120T160240Z
LAST-MODIFIED:20230129T002205Z
UID:10015355-1679328000-1679356740@downtownokc.com
SUMMARY:Martini Monday at O Bar
DESCRIPTION:Drinks with a VIEW — We can’t think of a better way to spend your Monday in Midtown. \nJoin O Bar for their Martini Mondays featuring two $10 martinis with selections rotating monthly. \nO Bar is located on 7th floor of the Ambassador Hotel open 4pm-Midnight.
URL:https://downtownokc.com/event/martini-monday-at-o-bar/2023-03-20/
LOCATION:O Bar\, 1200 North Walker Avenue\, Oklahoma City\, OK\, 73103\, United States
CATEGORIES:Downtown OKC,Midtown
ATTACH;FMTTYPE=image/jpeg:https://downtownokc.com/wp-content/uploads/2023/01/Copy-of-MARTINI-MONDAY-Instagram-Post-Square-002.jpg
END:VEVENT
BEGIN:VEVENT
DTSTART;TZID=UTC:20230313T160000
DTEND;TZID=UTC:20230313T235900
DTSTAMP:20260425T001442
CREATED:20230120T160240Z
LAST-MODIFIED:20230129T002205Z
UID:10015354-1678723200-1678751940@downtownokc.com
SUMMARY:Martini Monday at O Bar
DESCRIPTION:Drinks with a VIEW — We can’t think of a better way to spend your Monday in Midtown. \nJoin O Bar for their Martini Mondays featuring two $10 martinis with selections rotating monthly. \nO Bar is located on 7th floor of the Ambassador Hotel open 4pm-Midnight.
URL:https://downtownokc.com/event/martini-monday-at-o-bar/2023-03-13/
LOCATION:O Bar\, 1200 North Walker Avenue\, Oklahoma City\, OK\, 73103\, United States
CATEGORIES:Downtown OKC,Midtown
ATTACH;FMTTYPE=image/jpeg:https://downtownokc.com/wp-content/uploads/2023/01/Copy-of-MARTINI-MONDAY-Instagram-Post-Square-002.jpg
END:VEVENT
END:VCALENDAR