BEGIN:VCALENDAR
VERSION:2.0
PRODID:-//Downtown OKC - ECPv6.15.20//NONSGML v1.0//EN
CALSCALE:GREGORIAN
METHOD:PUBLISH
X-WR-CALNAME:Downtown OKC
X-ORIGINAL-URL:https://downtownokc.com
X-WR-CALDESC:Events for Downtown OKC
REFRESH-INTERVAL;VALUE=DURATION:PT1H
X-Robots-Tag:noindex
X-PUBLISHED-TTL:PT1H
BEGIN:VTIMEZONE
TZID:UTC
BEGIN:STANDARD
TZOFFSETFROM:+0000
TZOFFSETTO:+0000
TZNAME:UTC
DTSTART:20250101T000000
END:STANDARD
END:VTIMEZONE
BEGIN:VEVENT
DTSTART;TZID=UTC:20260423T160000
DTEND;TZID=UTC:20260423T220000
DTSTAMP:20260422T175550
CREATED:20230915T211535Z
LAST-MODIFIED:20231206T165008Z
UID:10020045-1776960000-1776981600@downtownokc.com
SUMMARY:Thursdate
DESCRIPTION:Make it a date night to remember every Thursday. Experience a romantic four-course dinner for two featuring our decadent Sparkling Chocolate Fondue\, and we’ll set the mood with rose petals and candles on your table.
URL:https://downtownokc.com/event/thursdate-3/2026-04-23/
LOCATION:The Melting Pot\, 4 E Sheridan Ave.\, Oklahoma City\, OK\, 73104\, United States
CATEGORIES:Bricktown,Downtown OKC
ATTACH;FMTTYPE=image/jpeg:https://downtownokc.com/wp-content/uploads/2023/09/23-Thursdate_Social_NewDateNightPetals-Static.jpg
END:VEVENT
BEGIN:VEVENT
DTSTART;TZID=UTC:20260423T170000
DTEND;TZID=UTC:20260423T200000
DTSTAMP:20260422T175550
CREATED:20260112T150416Z
LAST-MODIFIED:20260112T150416Z
UID:10038800-1776963600-1776974400@downtownokc.com
SUMMARY:Art After 5
DESCRIPTION:Spend your Thursday evenings exploring OKCMOA’s latest exhibitions at a discounted rate! Enjoy city vibes on the Patio\, then complete your visit with a stroll through the Museum Store. The Store features a full bar with cocktails\, beer\, wine\, and grab-and-go sweet and savory items from Ganache Patisserie. \nNote: Film screenings during Art After 5 require a separate ticket purchase. Some special programming during Art After 5 may also require a separate ticket purchase.
URL:https://downtownokc.com/event/art-after-5/2026-04-23/
LOCATION:Oklahoma City Museum of Art\, 415 Couch Dr.\, Oklahoma City\, OK\, 73102\, United States
CATEGORIES:City Center
ATTACH;FMTTYPE=image/png:https://downtownokc.com/wp-content/uploads/2026/01/Screenshot-2026-01-08-at-11.19.07-AM.png
GEO:35.4696942;-97.5204289
X-APPLE-STRUCTURED-LOCATION;VALUE=URI;X-ADDRESS=Oklahoma City Museum of Art 415 Couch Dr. Oklahoma City OK 73102 United States;X-APPLE-RADIUS=500;X-TITLE=415 Couch Dr.:geo:-97.5204289,35.4696942
END:VEVENT
BEGIN:VEVENT
DTSTART;TZID=UTC:20260423T173000
DTEND;TZID=UTC:20260423T213000
DTSTAMP:20260422T175550
CREATED:20260403T224642Z
LAST-MODIFIED:20260403T224642Z
UID:10044094-1776965400-1776979800@downtownokc.com
SUMMARY:ArtPrize Pitch Night
DESCRIPTION:In partnership with ArtPrize and Firehouse Art Center\, we’re bringing Pitch Night to Oklahoma! Five artists will take the stage for five minutes each on April 23\, 2026\, pitching bold\, original concepts to a panel of five jurors—all competing for a $10\,000 grant to bring their work to life at the 2026 ArtPrize event (September 17–October 3\, 2026). \nPitch Night Oklahoma is open to the public and promises an evening full of energy\, creativity\, and bold thinking. Enjoy a social hour with catered food and a cash bar before the artists take the stage! \nFor more information: 405-951-0000\, okcontemp.org/artprize\nTickets: https://okcontemp.ticketapp.org/portal/product/207
URL:https://downtownokc.com/event/artprize-pitch-night/
LOCATION:Oklahoma Contemporary\, 11 NW 11th St\, Oklahoma City\, OK\, 73103\, United States
CATEGORIES:Automobile Alley
ATTACH;FMTTYPE=image/jpeg:https://downtownokc.com/wp-content/uploads/2026/04/all-pitch-night-detroit-artists-during-q-a.jpg
GEO:35.4736044;-97.5696677
X-APPLE-STRUCTURED-LOCATION;VALUE=URI;X-ADDRESS=Oklahoma Contemporary 11 NW 11th St Oklahoma City OK 73103 United States;X-APPLE-RADIUS=500;X-TITLE=11 NW 11th St:geo:-97.5696677,35.4736044
END:VEVENT
BEGIN:VEVENT
DTSTART;TZID=UTC:20260423T193000
DTEND;TZID=UTC:20260423T220000
DTSTAMP:20260422T175550
CREATED:20250911T154714Z
LAST-MODIFIED:20250911T154714Z
UID:10037394-1776972600-1776981600@downtownokc.com
SUMMARY:Violet Sharp by William Cameron
DESCRIPTION:Based on the true story 1932 Lindbergh Kidnapping Case\, Violet Sharp is named for the young British maid working at the home of Anne Lindbergh’s mother. In the wake of the historic kidnapping of beloved aviator Charles Lindbergh’s 20-month-old son\, Violet raises the suspicion of the police with a contradictory testimony about her whereabouts to police investigator Officer Walsh. Under pressure from her own personal demons as well as the police\, Violet’s efforts to clear her name cannot seem to overpower a growing reputation of guilt.
URL:https://downtownokc.com/event/violet-sharp-by-william-cameron/2026-04-23/
LOCATION:Carpenter Square Theatre\, 1009 W. Reno\, OKC\, OK\, 73106\, United States
CATEGORIES:Downtown OKC,West Village
ATTACH;FMTTYPE=image/jpeg:https://downtownokc.com/wp-content/uploads/2025/07/VIOLET-SHARP-GRAPHIC-LUDUS.jpg
ORGANIZER;CN="Carpenter Square Theatre":MAILTO:business@carpentersquare.com
END:VEVENT
BEGIN:VEVENT
DTSTART;TZID=UTC:20260424T200000
DTEND;TZID=UTC:20260424T223000
DTSTAMP:20260422T175550
CREATED:20250911T154714Z
LAST-MODIFIED:20250911T154714Z
UID:10037395-1777060800-1777069800@downtownokc.com
SUMMARY:Violet Sharp by William Cameron
DESCRIPTION:Based on the true story 1932 Lindbergh Kidnapping Case\, Violet Sharp is named for the young British maid working at the home of Anne Lindbergh’s mother. In the wake of the historic kidnapping of beloved aviator Charles Lindbergh’s 20-month-old son\, Violet raises the suspicion of the police with a contradictory testimony about her whereabouts to police investigator Officer Walsh. Under pressure from her own personal demons as well as the police\, Violet’s efforts to clear her name cannot seem to overpower a growing reputation of guilt.
URL:https://downtownokc.com/event/violet-sharp-by-william-cameron/2026-04-24/
LOCATION:Carpenter Square Theatre\, 1009 W. Reno\, OKC\, OK\, 73106\, United States
CATEGORIES:Downtown OKC,West Village
ATTACH;FMTTYPE=image/jpeg:https://downtownokc.com/wp-content/uploads/2025/07/VIOLET-SHARP-GRAPHIC-LUDUS.jpg
ORGANIZER;CN="Carpenter Square Theatre":MAILTO:business@carpentersquare.com
END:VEVENT
BEGIN:VEVENT
DTSTART;TZID=UTC:20260425T093000
DTEND;TZID=UTC:20260425T113000
DTSTAMP:20260422T175550
CREATED:20251103T180611Z
LAST-MODIFIED:20251103T180611Z
UID:10037857-1777109400-1777116600@downtownokc.com
SUMMARY:Downtown Walking Tour
DESCRIPTION:Enjoy fascinating stories about OKC from its pioneering past to modern day. Learn about the city’s quirky geography\, historic skyscrapers\, and colorful characters on this entertaining downtown walking tour.
URL:https://downtownokc.com/event/downtown-walking-tour/2026-04-25/
LOCATION:First National Center\, 120 N Robinson Ave. \, Oklahoma City \, OK\, 73102\, United States
CATEGORIES:City Center,Downtown OKC
ATTACH;FMTTYPE=image/jpeg:https://downtownokc.com/wp-content/uploads/2025/08/okc-tours-downtown.jpg
ORGANIZER;CN="OKC Tours":MAILTO:tours.okc@gmail.com
GEO:35.468503;-97.5162395
X-APPLE-STRUCTURED-LOCATION;VALUE=URI;X-ADDRESS=First National Center 120 N Robinson Ave.  Oklahoma City  OK 73102 United States;X-APPLE-RADIUS=500;X-TITLE=120 N Robinson Ave.:geo:-97.5162395,35.468503
END:VEVENT
BEGIN:VEVENT
DTSTART;TZID=UTC:20260425T093000
DTEND;TZID=UTC:20260425T210000
DTSTAMP:20260422T175550
CREATED:20260324T215650Z
LAST-MODIFIED:20260324T215650Z
UID:10040786-1777109400-1777150800@downtownokc.com
SUMMARY:Paint and Sip in Bricktown!
DESCRIPTION:From set up to shutdown our artists are constantly on the move to make sure you paint\, drink and have fun!! We teach you step by step how to create all of the paintings we offer! \n✨Enhance your experience with our new DIY candle add-on for only $25! Simply arrive 30 minutes before class to pour your own all-natural soy candle in your favorite scent. It cures while you paint\, so you’ll leave with both your masterpiece and your very own custom hand-poured candle. 🔔Please note that late arrival may result in forfeiting the opportunity to create your candle. Bricktown parking can be unpredictable and busy\, so we encourage guests to plan accordingly.
URL:https://downtownokc.com/event/paint-and-sip-in-bricktown/2026-04-25/
LOCATION:Pinots Palette\, 115 E California Ave.\, Oklahoma City\, OK\, 73104\, United States
CATEGORIES:Bricktown,Downtown OKC
ATTACH;FMTTYPE=image/jpeg:https://downtownokc.com/wp-content/uploads/2026/03/Willowbrook_Edited-21-2-scaled.jpg
END:VEVENT
BEGIN:VEVENT
DTSTART;TZID=UTC:20260425T110000
DTEND;TZID=UTC:20260425T120000
DTSTAMP:20260422T175550
CREATED:20260408T145425Z
LAST-MODIFIED:20260408T145425Z
UID:10044098-1777114800-1777118400@downtownokc.com
SUMMARY:Arbor Day | Build a Birdhouse
DESCRIPTION:Help our feathered friends! Visitors will build and paint a birdhouse inspired by Oklahoma Contemporary’s iconic façade. The birdhouse project will take place at Campbell Art Park\, next to the Oklahoma Contemporary Arts Center. Please meet at North Broadway Drive and Northwest 11th Street. Free public event! Space is limited to twenty-five guests. Best suited for children and caregivers. The campus is highly accessible. Thank you for supporting the trees! \nFor more information: 405-951-0000\, okcontemp.org/arborday\nReserve free tickets here: https://okcontemp.ticketapp.org/portal/product/160/events
URL:https://downtownokc.com/event/arbor-day-build-a-birdhouse/
LOCATION:Oklahoma Contemporary\, 11 NW 11th St\, Oklahoma City\, OK\, 73103\, United States
CATEGORIES:Automobile Alley,Downtown OKC
ATTACH;FMTTYPE=image/jpeg:https://downtownokc.com/wp-content/uploads/2026/04/BirdhouseProject.jpg
GEO:35.4736044;-97.5696677
X-APPLE-STRUCTURED-LOCATION;VALUE=URI;X-ADDRESS=Oklahoma Contemporary 11 NW 11th St Oklahoma City OK 73103 United States;X-APPLE-RADIUS=500;X-TITLE=11 NW 11th St:geo:-97.5696677,35.4736044
END:VEVENT
BEGIN:VEVENT
DTSTART;TZID=UTC:20260425T190000
DTEND;TZID=UTC:20260425T213000
DTSTAMP:20260422T175550
CREATED:20260309T133358Z
LAST-MODIFIED:20260309T133358Z
UID:10039606-1777143600-1777152600@downtownokc.com
SUMMARY:Oklahoma Opry
DESCRIPTION:Weekly Saturday night Opry shows introduce talented new performers who share the stage with special guests\, Oklahoma City icons\, and the professional Opry house band in a family-friendly\, live music show proclaimed Oklahoma’s Official Country Music Show.
URL:https://downtownokc.com/event/oklahoma-opry-15/2026-04-25/
LOCATION:ACM@UCO\, 25 South Oklahoma Avenue\, Suite 400\, Okahoma City\, OK\, 73104
CATEGORIES:Bricktown,Downtown OKC
ATTACH;FMTTYPE=image/jpeg:https://downtownokc.com/wp-content/uploads/2026/03/9G8A7245-scaled.jpeg
ORGANIZER;CN="Oklahoma Opry":MAILTO:kelcie.lee@ohfo.org
GEO:35.4656614;-97.5109338
X-APPLE-STRUCTURED-LOCATION;VALUE=URI;X-ADDRESS=ACM@UCO 25 South Oklahoma Avenue Suite 400 Okahoma City OK 73104;X-APPLE-RADIUS=500;X-TITLE=25 South Oklahoma Avenue\, Suite 400:geo:-97.5109338,35.4656614
END:VEVENT
BEGIN:VEVENT
DTSTART;TZID=UTC:20260425T190000
DTEND;TZID=UTC:20260425T213000
DTSTAMP:20260422T175550
CREATED:20260309T134111Z
LAST-MODIFIED:20260309T134111Z
UID:10040464-1777143600-1777152600@downtownokc.com
SUMMARY:Oklahoma Opry
DESCRIPTION:The Oklahoma Opry has provided the very best in live\, family-friendly entertainment to Oklahoma City since 1977 and so much more. Weekly Saturday night shows introduce talented performers who share the stage with special guests\, Oklahoma City icons\, and the professional Opry house band in a family-friendly\, live music show proclaimed Oklahoma’s Official Country Music Show.
URL:https://downtownokc.com/event/oklahoma-opry-16/2026-04-25/
LOCATION:ACM@UCO\, 25 South Oklahoma Avenue\, Suite 400\, Okahoma City\, OK\, 73104
CATEGORIES:Bricktown,Downtown OKC
ATTACH;FMTTYPE=image/png:https://downtownokc.com/wp-content/uploads/2026/03/Background-Logo.png
ORGANIZER;CN="Oklahoma Opry":MAILTO:kelcie.lee@ohfo.org
GEO:35.4656614;-97.5109338
X-APPLE-STRUCTURED-LOCATION;VALUE=URI;X-ADDRESS=ACM@UCO 25 South Oklahoma Avenue Suite 400 Okahoma City OK 73104;X-APPLE-RADIUS=500;X-TITLE=25 South Oklahoma Avenue\, Suite 400:geo:-97.5109338,35.4656614
END:VEVENT
BEGIN:VEVENT
DTSTART;TZID=UTC:20260425T200000
DTEND;TZID=UTC:20260425T223000
DTSTAMP:20260422T175550
CREATED:20250911T154714Z
LAST-MODIFIED:20250911T154714Z
UID:10037396-1777147200-1777156200@downtownokc.com
SUMMARY:Violet Sharp by William Cameron
DESCRIPTION:Based on the true story 1932 Lindbergh Kidnapping Case\, Violet Sharp is named for the young British maid working at the home of Anne Lindbergh’s mother. In the wake of the historic kidnapping of beloved aviator Charles Lindbergh’s 20-month-old son\, Violet raises the suspicion of the police with a contradictory testimony about her whereabouts to police investigator Officer Walsh. Under pressure from her own personal demons as well as the police\, Violet’s efforts to clear her name cannot seem to overpower a growing reputation of guilt.
URL:https://downtownokc.com/event/violet-sharp-by-william-cameron/2026-04-25/
LOCATION:Carpenter Square Theatre\, 1009 W. Reno\, OKC\, OK\, 73106\, United States
CATEGORIES:Downtown OKC,West Village
ATTACH;FMTTYPE=image/jpeg:https://downtownokc.com/wp-content/uploads/2025/07/VIOLET-SHARP-GRAPHIC-LUDUS.jpg
ORGANIZER;CN="Carpenter Square Theatre":MAILTO:business@carpentersquare.com
END:VEVENT
BEGIN:VEVENT
DTSTART;TZID=UTC:20260426T110000
DTEND;TZID=UTC:20260426T150000
DTSTAMP:20260422T175550
CREATED:20260309T133757Z
LAST-MODIFIED:20260309T133757Z
UID:10040201-1777201200-1777215600@downtownokc.com
SUMMARY:Sunday Jazz Brunch at Tellers
DESCRIPTION:Join us every Sunday for a lavish Brunch at Tellers featuring brunch classics like Eggs Benedict\, Lemon Buttermilk Pancakes and Italian favorites from our wood-fired grill. Enjoy live jazz music in the Great Hall while sipping on a curated menu of sparkling and signature brunch cocktails.
URL:https://downtownokc.com/event/sunday-jazz-brunch-at-tellers/2026-04-26/
LOCATION:The National\, Autograph Collection Downtown OKC\, 120 N Robinson Ave\, Oklahoma City\, OK\, 73102\, United States
CATEGORIES:City Center,Downtown OKC
ATTACH;FMTTYPE=image/png:https://downtownokc.com/wp-content/uploads/2026/03/Screenshot-2026-03-06-104010.png
END:VEVENT
BEGIN:VEVENT
DTSTART;TZID=UTC:20260426T140000
DTEND;TZID=UTC:20260426T163000
DTSTAMP:20260422T175550
CREATED:20250911T154714Z
LAST-MODIFIED:20250911T154714Z
UID:10037397-1777212000-1777221000@downtownokc.com
SUMMARY:Violet Sharp by William Cameron
DESCRIPTION:Based on the true story 1932 Lindbergh Kidnapping Case\, Violet Sharp is named for the young British maid working at the home of Anne Lindbergh’s mother. In the wake of the historic kidnapping of beloved aviator Charles Lindbergh’s 20-month-old son\, Violet raises the suspicion of the police with a contradictory testimony about her whereabouts to police investigator Officer Walsh. Under pressure from her own personal demons as well as the police\, Violet’s efforts to clear her name cannot seem to overpower a growing reputation of guilt.
URL:https://downtownokc.com/event/violet-sharp-by-william-cameron/2026-04-26/
LOCATION:Carpenter Square Theatre\, 1009 W. Reno\, OKC\, OK\, 73106\, United States
CATEGORIES:Downtown OKC,West Village
ATTACH;FMTTYPE=image/jpeg:https://downtownokc.com/wp-content/uploads/2025/07/VIOLET-SHARP-GRAPHIC-LUDUS.jpg
ORGANIZER;CN="Carpenter Square Theatre":MAILTO:business@carpentersquare.com
END:VEVENT
BEGIN:VEVENT
DTSTART;TZID=UTC:20260430T170000
DTEND;TZID=UTC:20260430T200000
DTSTAMP:20260422T175550
CREATED:20260112T150416Z
LAST-MODIFIED:20260112T150416Z
UID:10038801-1777568400-1777579200@downtownokc.com
SUMMARY:Art After 5
DESCRIPTION:Spend your Thursday evenings exploring OKCMOA’s latest exhibitions at a discounted rate! Enjoy city vibes on the Patio\, then complete your visit with a stroll through the Museum Store. The Store features a full bar with cocktails\, beer\, wine\, and grab-and-go sweet and savory items from Ganache Patisserie. \nNote: Film screenings during Art After 5 require a separate ticket purchase. Some special programming during Art After 5 may also require a separate ticket purchase.
URL:https://downtownokc.com/event/art-after-5/2026-04-30/
LOCATION:Oklahoma City Museum of Art\, 415 Couch Dr.\, Oklahoma City\, OK\, 73102\, United States
CATEGORIES:City Center
ATTACH;FMTTYPE=image/png:https://downtownokc.com/wp-content/uploads/2026/01/Screenshot-2026-01-08-at-11.19.07-AM.png
GEO:35.4696942;-97.5204289
X-APPLE-STRUCTURED-LOCATION;VALUE=URI;X-ADDRESS=Oklahoma City Museum of Art 415 Couch Dr. Oklahoma City OK 73102 United States;X-APPLE-RADIUS=500;X-TITLE=415 Couch Dr.:geo:-97.5204289,35.4696942
END:VEVENT
END:VCALENDAR