BEGIN:VCALENDAR
VERSION:2.0
PRODID:-//Downtown OKC - ECPv6.15.20//NONSGML v1.0//EN
CALSCALE:GREGORIAN
METHOD:PUBLISH
X-WR-CALNAME:Downtown OKC
X-ORIGINAL-URL:https://downtownokc.com
X-WR-CALDESC:Events for Downtown OKC
REFRESH-INTERVAL;VALUE=DURATION:PT1H
X-Robots-Tag:noindex
X-PUBLISHED-TTL:PT1H
BEGIN:VTIMEZONE
TZID:UTC
BEGIN:STANDARD
TZOFFSETFROM:+0000
TZOFFSETTO:+0000
TZNAME:UTC
DTSTART:20250101T000000
END:STANDARD
END:VTIMEZONE
BEGIN:VEVENT
DTSTART;TZID=UTC:20260202T190000
DTEND;TZID=UTC:20260202T203000
DTSTAMP:20260424T183621
CREATED:20260126T160753Z
LAST-MODIFIED:20260126T160753Z
UID:10039361-1770058800-1770064200@downtownokc.com
SUMMARY:Full Moon Yoga at Mix-Tape
DESCRIPTION:Doors at 7:00 pm / Session from 7:30 pm – 8:30 pm \nParticipants can explore the full Mix-Tape experience before the session begins. \nJoin us for an intentional gathering and gentle movement led by Beth White of This Land Yoga as we dig into the offerings of the full moon. This time may provide abundance for those willing to slow down long enough to listen. Sinking into the atmosphere of the Wonder Room will allow for imagination to spark\, and open the heart to receive and expand. \nThis session will include slow restorative stretching and sound healing. This class is for people of any skill level. \n$25 \nDue to the limited space\, there are only 30 slots available! Reserve your spot in advance!
URL:https://downtownokc.com/event/full-moon-yoga-at-mix-tape-4/
LOCATION:Factory Obscura\, 25 NW 9th St\, Oklahoma City\, OK\, 73102\, United States
CATEGORIES:Automobile Alley,Downtown OKC
ATTACH;FMTTYPE=image/png:https://downtownokc.com/wp-content/uploads/2026/01/NEW-Full-Moon-Yoga-IG-Portrait-1080-x-1080-px.png
ORGANIZER;CN="Factory Obscura":MAILTO:info@factoryobscura.com
END:VEVENT
BEGIN:VEVENT
DTSTART;TZID=UTC:20260212T173000
DTEND;TZID=UTC:20260212T200000
DTSTAMP:20260424T183621
CREATED:20260209T160702Z
LAST-MODIFIED:20260209T160702Z
UID:10039453-1770917400-1770926400@downtownokc.com
SUMMARY:The (M) Factor 2: Before the Pause (Perimenopause)
DESCRIPTION:Join Oklahoma Contemporary and MECA Movement for a screening of The (M) Factor 2\, a film exploring perimenopause symptoms\, solutions\, and real women’s stories. From the producers of the groundbreaking documentary The (M) Factor comes The (M) Factor 2: Before The Pause (Perimenopause)\, a powerful new film continuing the vital conversation about women’s hormones\, health\, and the changes that shape this stage of life. Blending expert insights with women’s real experiences\, the film looks at how perimenopause affects your heart\, bone\, brain\, and sexual health\, and the solutions helping women thrive through it. \nFor more information: 405-951-0000\, okcontemp.org/mfactor2\nTickets: https://www.eventbrite.com/e/the-m-factor-2-before-the-pause-perimenopause-oklahoma-city-ok-tickets-1980197130924?aff=oddtdtcreator
URL:https://downtownokc.com/event/the-m-factor-2-before-the-pause-perimenopause/
LOCATION:Oklahoma Contemporary\, 11 NW 11th St\, Oklahoma City\, OK\, 73103\, United States
CATEGORIES:Automobile Alley,Downtown OKC
ATTACH;FMTTYPE=image/jpeg:https://downtownokc.com/wp-content/uploads/2026/02/M-Factor-2.jpg
GEO:35.4736044;-97.5696677
X-APPLE-STRUCTURED-LOCATION;VALUE=URI;X-ADDRESS=Oklahoma Contemporary 11 NW 11th St Oklahoma City OK 73103 United States;X-APPLE-RADIUS=500;X-TITLE=11 NW 11th St:geo:-97.5696677,35.4736044
END:VEVENT
BEGIN:VEVENT
DTSTART;TZID=UTC:20260214T100000
DTEND;TZID=UTC:20260214T160000
DTSTAMP:20260424T183621
CREATED:20260202T182633Z
LAST-MODIFIED:20260202T182657Z
UID:10039440-1771063200-1771084800@downtownokc.com
SUMMARY:Forever After Valentines Ball
DESCRIPTION:Celebrate the magic of love and create unforgettable memories with your little princess at the Forever After Fairytale Ball\, a Valentine’s Day dance like no other. Dressed in your finest royal attire\, you’ll enjoy an enchanting evening filled with music\, dancing\, and magical moments straight out of a fairytale. \nMeet beloved princesses and a special rare appearance from their princes\, capture the magic with photo opportunities\, and experience an evening of love\, laughter\, and joy that will make your hearts soar. This is a perfect way to share a special Valentine’s Day with your little one!
URL:https://downtownokc.com/event/forever-after-valentines-ball/
LOCATION:Civic Center Music Hall\, 201 N Walker Ave\, Oklahoma City\, OK\, 73102\, United States
CATEGORIES:City Center,Downtown OKC
ATTACH;FMTTYPE=image/jpeg:https://downtownokc.com/wp-content/uploads/2026/01/IMG_0068.jpeg
ORGANIZER;CN="Character Connection Co":MAILTO:emily@thecharacterco.com
GEO:35.4690469;-97.5235321
X-APPLE-STRUCTURED-LOCATION;VALUE=URI;X-ADDRESS=Civic Center Music Hall 201 N Walker Ave Oklahoma City OK 73102 United States;X-APPLE-RADIUS=500;X-TITLE=201 N Walker Ave:geo:-97.5235321,35.4690469
END:VEVENT
BEGIN:VEVENT
DTSTART;TZID=UTC:20260214T180000
DTEND;TZID=UTC:20260214T220000
DTSTAMP:20260424T183621
CREATED:20260204T201610Z
LAST-MODIFIED:20260204T201610Z
UID:10039451-1771092000-1771106400@downtownokc.com
SUMMARY:Sweetheart Ball
DESCRIPTION:Why you should attend:\nsee last year’s photos\nRomantic Evening: The Sweetheart Ball promises an enchanting evening for couples\, providing a unique opportunity to celebrate love and connection in a beautifully adorned setting.\nQuality Time: Attendees will have the chance to indulge in uninterrupted quality time with their spouse. The event is designed to foster intimacy and strengthen the bond between partners.\nMemorable Experience: From elegant decor to delightful music and engaging activities\, the Sweetheart Ball ensures a memorable experience that couples can cherish. It’s a chance to create lasting memories together.\nCommunity Connection: Joining the Sweetheart Ball allows couples to connect with like-minded individuals and nurture a sense of community. It’s an opportunity to share experiences and insights with others who value the importance of strong\, enduring marriages.\nSupporting a Cause: By attending the Sweetheart Ball\, couples contribute to the mission of Eye to Eye Marriage. The funds raised during the event directly support initiatives dedicated to strengthening marriages and fostering healthy relationships within the community.
URL:https://downtownokc.com/event/sweetheart-ball-2/
LOCATION:Petroleum Club\, 100 North Broadway Avenue\, Oklahoma City\, OK\, 73102\, United States
CATEGORIES:City Center
ATTACH;FMTTYPE=image/png:https://downtownokc.com/wp-content/uploads/2026/02/2026-SHB-Join-Us-Portrait.png
ORGANIZER;CN="Eye to Eye Marriage":MAILTO:eyetoeyemarriage@gmail.com
GEO:35.4681188;-97.5138939
X-APPLE-STRUCTURED-LOCATION;VALUE=URI;X-ADDRESS=Petroleum Club 100 North Broadway Avenue Oklahoma City OK 73102 United States;X-APPLE-RADIUS=500;X-TITLE=100 North Broadway Avenue:geo:-97.5138939,35.4681188
END:VEVENT
BEGIN:VEVENT
DTSTART;TZID=UTC:20260214T180000
DTEND;TZID=UTC:20260214T220000
DTSTAMP:20260424T183621
CREATED:20260204T210130Z
LAST-MODIFIED:20260204T210130Z
UID:10038664-1771092000-1771106400@downtownokc.com
SUMMARY:Sweetheart Ball
DESCRIPTION:Prepare for an enchanting evening filled with love\, laughter\, and timeless moments that you and your spouse will cherish forever. The Sweetheart Ball is not just an event; it’s a celebration of the love stories that make our community stronger. \nThis is for you if you are:\n– married\, or engaged\n– looking for an elegant\, enchanting evening\n– wanting to create lifelong memories\n– eager to show off your style\n– expecting dinner and dancing\n– curious about the silent auction items\n– ready to reunite or meet some of the coolest couples in town\n– expecting a surprise or two \nYour Date Night Experience Includes: dinner\, dancing\, professional photos\, exciting silent auction\, door prizes & fun. \nTheme: Inseparable \nEarly bird ticket price is $175 for the rest of this year. Regular price begins January 1st. We typically sell out with table purchases\, VIP registrations\, etc. Seating is limited!
URL:https://downtownokc.com/event/sweetheart-ball-3/
LOCATION:Petroleum Club\, 100 North Broadway Avenue\, Oklahoma City\, OK\, 73102\, United States
CATEGORIES:City Center,Downtown OKC
ATTACH;FMTTYPE=image/png:https://downtownokc.com/wp-content/uploads/2025/11/Screenshot-2025-10-31-at-9.01.04-PM.png
ORGANIZER;CN="Eye to Eye Marriage":MAILTO:eyetoeyemarriage@gmail.com
GEO:35.4681188;-97.5138939
X-APPLE-STRUCTURED-LOCATION;VALUE=URI;X-ADDRESS=Petroleum Club 100 North Broadway Avenue Oklahoma City OK 73102 United States;X-APPLE-RADIUS=500;X-TITLE=100 North Broadway Avenue:geo:-97.5138939,35.4681188
END:VEVENT
END:VCALENDAR