BEGIN:VCALENDAR
VERSION:2.0
PRODID:-//Downtown OKC - ECPv6.15.20//NONSGML v1.0//EN
CALSCALE:GREGORIAN
METHOD:PUBLISH
X-WR-CALNAME:Downtown OKC
X-ORIGINAL-URL:https://downtownokc.com
X-WR-CALDESC:Events for Downtown OKC
REFRESH-INTERVAL;VALUE=DURATION:PT1H
X-Robots-Tag:noindex
X-PUBLISHED-TTL:PT1H
BEGIN:VTIMEZONE
TZID:UTC
BEGIN:STANDARD
TZOFFSETFROM:+0000
TZOFFSETTO:+0000
TZNAME:UTC
DTSTART:20250101T000000
END:STANDARD
END:VTIMEZONE
BEGIN:VEVENT
DTSTART;VALUE=DATE:20260314
DTEND;VALUE=DATE:20260315
DTSTAMP:20260421T183428
CREATED:20260220T182129Z
LAST-MODIFIED:20260220T182129Z
UID:10039467-1773446400-1773532799@downtownokc.com
SUMMARY:Paddy O' Party at The Jones Assembly
DESCRIPTION:Paddy O’ Party is back. Join us on Saturday\, March 14\, as we take over the patio for a full day of St. Patrick’s Day festivities featuring green beer flowing all day\, patio food specials\, and live music starting in the morning. There are no tickets and no cover\, just show up wearing green and ready to celebrate. Reserve your brunch spot on Resy before they fill up\, then stay and enjoy the party all day.
URL:https://downtownokc.com/event/paddy-o-party-at-the-jones-assembly/
LOCATION:The Jones Assembly\, 901 W Sheridan Ave\, Oklahoma City\, OK\, 73106\, United States
CATEGORIES:Downtown OKC,West Village
ATTACH;FMTTYPE=image/jpeg:https://downtownokc.com/wp-content/uploads/2026/02/627907313_18528470932068207_7181967213373205345_n-1.jpg
GEO:35.466874;-97.5277
X-APPLE-STRUCTURED-LOCATION;VALUE=URI;X-ADDRESS=The Jones Assembly 901 W Sheridan Ave Oklahoma City OK 73106 United States;X-APPLE-RADIUS=500;X-TITLE=901 W Sheridan Ave:geo:-97.5277,35.466874
END:VEVENT
BEGIN:VEVENT
DTSTART;TZID=UTC:20260317T140000
DTEND;TZID=UTC:20260317T160000
DTSTAMP:20260421T183428
CREATED:20260316T142418Z
LAST-MODIFIED:20260316T142418Z
UID:10040513-1773756000-1773763200@downtownokc.com
SUMMARY:ALL Ages class at Pinot's Palette Bricktown!
DESCRIPTION:Take a step back through time\, when dinosaurs roamed the earth\, in this misty landscape. \nFamily Painting Afternoon – Fun for All Ages!\nCreate lasting memories together at our all-ages painting class—perfect for kids and grown-ups alike!\nEach 16”x20” canvas will come pre-sketched with the main basic outline\, and our talented instructors will guide you step-by-step to bring your masterpiece to life. No experience needed—just come ready to have fun!\n**PLEASE NOTE: All guests in attendance MUST have a purchased seat. No drop-offs\, thank you!
URL:https://downtownokc.com/event/all-ages-class-at-pinots-palette-bricktown/
LOCATION:Pinots Palette\, 115 E California Ave.\, Oklahoma City\, OK\, 73104\, United States
CATEGORIES:Bricktown,Downtown OKC
ATTACH;FMTTYPE=image/png:https://downtownokc.com/wp-content/uploads/2026/03/March-little-brushes-classes.png
END:VEVENT
END:VCALENDAR