BEGIN:VCALENDAR
VERSION:2.0
PRODID:-//Downtown OKC - ECPv6.15.20//NONSGML v1.0//EN
CALSCALE:GREGORIAN
METHOD:PUBLISH
X-ORIGINAL-URL:https://downtownokc.com
X-WR-CALDESC:Events for Downtown OKC
REFRESH-INTERVAL;VALUE=DURATION:PT1H
X-Robots-Tag:noindex
X-PUBLISHED-TTL:PT1H
BEGIN:VTIMEZONE
TZID:UTC
BEGIN:STANDARD
TZOFFSETFROM:+0000
TZOFFSETTO:+0000
TZNAME:UTC
DTSTART:20250101T000000
END:STANDARD
END:VTIMEZONE
BEGIN:VEVENT
DTSTART;TZID=UTC:20260502T093000
DTEND;TZID=UTC:20260502T210000
DTSTAMP:20260425T152858
CREATED:20260324T215650Z
LAST-MODIFIED:20260324T215650Z
UID:10040787-1777714200-1777755600@downtownokc.com
SUMMARY:Paint and Sip in Bricktown!
DESCRIPTION:From set up to shutdown our artists are constantly on the move to make sure you paint\, drink and have fun!! We teach you step by step how to create all of the paintings we offer! \n✨Enhance your experience with our new DIY candle add-on for only $25! Simply arrive 30 minutes before class to pour your own all-natural soy candle in your favorite scent. It cures while you paint\, so you’ll leave with both your masterpiece and your very own custom hand-poured candle. 🔔Please note that late arrival may result in forfeiting the opportunity to create your candle. Bricktown parking can be unpredictable and busy\, so we encourage guests to plan accordingly.
URL:https://downtownokc.com/event/paint-and-sip-in-bricktown/2026-05-02/
LOCATION:Pinots Palette\, 115 E California Ave.\, Oklahoma City\, OK\, 73104\, United States
CATEGORIES:Bricktown,Downtown OKC
ATTACH;FMTTYPE=image/jpeg:https://downtownokc.com/wp-content/uploads/2026/03/Willowbrook_Edited-21-2-scaled.jpg
END:VEVENT
BEGIN:VEVENT
DTSTART;TZID=UTC:20260503T180000
DTEND;TZID=UTC:20260503T210000
DTSTAMP:20260425T152858
CREATED:20260408T145410Z
LAST-MODIFIED:20260408T145410Z
UID:10044097-1777831200-1777842000@downtownokc.com
SUMMARY:Jac Ross Performing the Music of Otis Redding at The Jones Assembly
DESCRIPTION:The Jones Assembly is thrilled to present Jac Ross Performing the Music of Otis Redding on our stage Sunday\, May 3rd\, ahead of his week of performances for the Oklahoma City Ballet  Shorts. This will be a unique seated show in our space that reimagines the legendary soul music of Otis Redding.
URL:https://downtownokc.com/event/jac-ross-performing-the-music-of-otis-redding-at-the-jones-assembly/
LOCATION:The Jones Assembly\, 901 W Sheridan Ave\, Oklahoma City\, OK\, 73106\, United States
CATEGORIES:Downtown OKC,West Village
ATTACH;FMTTYPE=image/jpeg:https://downtownokc.com/wp-content/uploads/2026/04/661215166_1264371545885789_4778345510940785960_n.jpg
GEO:35.466874;-97.5277
X-APPLE-STRUCTURED-LOCATION;VALUE=URI;X-ADDRESS=The Jones Assembly 901 W Sheridan Ave Oklahoma City OK 73106 United States;X-APPLE-RADIUS=500;X-TITLE=901 W Sheridan Ave:geo:-97.5277,35.466874
END:VEVENT
BEGIN:VEVENT
DTSTART;TZID=UTC:20260509T093000
DTEND;TZID=UTC:20260509T210000
DTSTAMP:20260425T152858
CREATED:20260324T215650Z
LAST-MODIFIED:20260324T215650Z
UID:10040788-1778319000-1778360400@downtownokc.com
SUMMARY:Paint and Sip in Bricktown!
DESCRIPTION:From set up to shutdown our artists are constantly on the move to make sure you paint\, drink and have fun!! We teach you step by step how to create all of the paintings we offer! \n✨Enhance your experience with our new DIY candle add-on for only $25! Simply arrive 30 minutes before class to pour your own all-natural soy candle in your favorite scent. It cures while you paint\, so you’ll leave with both your masterpiece and your very own custom hand-poured candle. 🔔Please note that late arrival may result in forfeiting the opportunity to create your candle. Bricktown parking can be unpredictable and busy\, so we encourage guests to plan accordingly.
URL:https://downtownokc.com/event/paint-and-sip-in-bricktown/2026-05-09/
LOCATION:Pinots Palette\, 115 E California Ave.\, Oklahoma City\, OK\, 73104\, United States
CATEGORIES:Bricktown,Downtown OKC
ATTACH;FMTTYPE=image/jpeg:https://downtownokc.com/wp-content/uploads/2026/03/Willowbrook_Edited-21-2-scaled.jpg
END:VEVENT
BEGIN:VEVENT
DTSTART;TZID=UTC:20260509T190000
DTEND;TZID=UTC:20260509T213000
DTSTAMP:20260425T152858
CREATED:20260309T133358Z
LAST-MODIFIED:20260309T133358Z
UID:10039607-1778353200-1778362200@downtownokc.com
SUMMARY:Oklahoma Opry
DESCRIPTION:Weekly Saturday night Opry shows introduce talented new performers who share the stage with special guests\, Oklahoma City icons\, and the professional Opry house band in a family-friendly\, live music show proclaimed Oklahoma’s Official Country Music Show.
URL:https://downtownokc.com/event/oklahoma-opry-15/2026-05-09/
LOCATION:ACM@UCO\, 25 South Oklahoma Avenue\, Suite 400\, Okahoma City\, OK\, 73104
CATEGORIES:Bricktown,Downtown OKC
ATTACH;FMTTYPE=image/jpeg:https://downtownokc.com/wp-content/uploads/2026/03/9G8A7245-scaled.jpeg
ORGANIZER;CN="Oklahoma Opry":MAILTO:kelcie.lee@ohfo.org
GEO:35.4656614;-97.5109338
X-APPLE-STRUCTURED-LOCATION;VALUE=URI;X-ADDRESS=ACM@UCO 25 South Oklahoma Avenue Suite 400 Okahoma City OK 73104;X-APPLE-RADIUS=500;X-TITLE=25 South Oklahoma Avenue\, Suite 400:geo:-97.5109338,35.4656614
END:VEVENT
BEGIN:VEVENT
DTSTART;TZID=UTC:20260510T110000
DTEND;TZID=UTC:20260510T140000
DTSTAMP:20260425T152858
CREATED:20260204T182555Z
LAST-MODIFIED:20260204T182555Z
UID:10039450-1778410800-1778421600@downtownokc.com
SUMMARY:Mother's Day Brunch
DESCRIPTION:Celebrate Mom with an unforgettable Mother’s Day Brunch at the historic Skirvin Hilton. Join us for a beautifully curated brunch experience featuring chef-driven seasonal favorites\, indulgent brunch classics\, and thoughtfully crafted sweets—perfect for honoring the women who do it all. \nSet within our iconicGrand Ballroom\, guests will enjoy an elegant yet inviting atmosphere ideal for gathering\, toasting\, and lingering a little longer. From sparkling sips and brunch cocktails to refined savory dishes and decadent desserts\, every detail is designed to make Mom feel celebrated. \nWhether you’re continuing a cherished tradition or starting a new one\, make this Mother’s Day one to remember at the Skirvin.
URL:https://downtownokc.com/event/mothers-day-brunch/
LOCATION:The Skirvin Hilton\, 1 Park Ave\, Oklahoma City\, OK\, 73102\, United States
CATEGORIES:City Center,Downtown OKC
ATTACH;FMTTYPE=image/png:https://downtownokc.com/wp-content/uploads/2026/02/Event-Banners-2.png
GEO:35.469145;-97.513801
X-APPLE-STRUCTURED-LOCATION;VALUE=URI;X-ADDRESS=The Skirvin Hilton 1 Park Ave Oklahoma City OK 73102 United States;X-APPLE-RADIUS=500;X-TITLE=1 Park Ave:geo:-97.513801,35.469145
END:VEVENT
BEGIN:VEVENT
DTSTART;TZID=UTC:20260516T093000
DTEND;TZID=UTC:20260516T210000
DTSTAMP:20260425T152858
CREATED:20260324T215650Z
LAST-MODIFIED:20260324T215650Z
UID:10040789-1778923800-1778965200@downtownokc.com
SUMMARY:Paint and Sip in Bricktown!
DESCRIPTION:From set up to shutdown our artists are constantly on the move to make sure you paint\, drink and have fun!! We teach you step by step how to create all of the paintings we offer! \n✨Enhance your experience with our new DIY candle add-on for only $25! Simply arrive 30 minutes before class to pour your own all-natural soy candle in your favorite scent. It cures while you paint\, so you’ll leave with both your masterpiece and your very own custom hand-poured candle. 🔔Please note that late arrival may result in forfeiting the opportunity to create your candle. Bricktown parking can be unpredictable and busy\, so we encourage guests to plan accordingly.
URL:https://downtownokc.com/event/paint-and-sip-in-bricktown/2026-05-16/
LOCATION:Pinots Palette\, 115 E California Ave.\, Oklahoma City\, OK\, 73104\, United States
CATEGORIES:Bricktown,Downtown OKC
ATTACH;FMTTYPE=image/jpeg:https://downtownokc.com/wp-content/uploads/2026/03/Willowbrook_Edited-21-2-scaled.jpg
END:VEVENT
BEGIN:VEVENT
DTSTART;TZID=UTC:20260516T190000
DTEND;TZID=UTC:20260516T213000
DTSTAMP:20260425T152858
CREATED:20260309T133358Z
LAST-MODIFIED:20260309T133358Z
UID:10039608-1778958000-1778967000@downtownokc.com
SUMMARY:Oklahoma Opry
DESCRIPTION:Weekly Saturday night Opry shows introduce talented new performers who share the stage with special guests\, Oklahoma City icons\, and the professional Opry house band in a family-friendly\, live music show proclaimed Oklahoma’s Official Country Music Show.
URL:https://downtownokc.com/event/oklahoma-opry-15/2026-05-16/
LOCATION:ACM@UCO\, 25 South Oklahoma Avenue\, Suite 400\, Okahoma City\, OK\, 73104
CATEGORIES:Bricktown,Downtown OKC
ATTACH;FMTTYPE=image/jpeg:https://downtownokc.com/wp-content/uploads/2026/03/9G8A7245-scaled.jpeg
ORGANIZER;CN="Oklahoma Opry":MAILTO:kelcie.lee@ohfo.org
GEO:35.4656614;-97.5109338
X-APPLE-STRUCTURED-LOCATION;VALUE=URI;X-ADDRESS=ACM@UCO 25 South Oklahoma Avenue Suite 400 Okahoma City OK 73104;X-APPLE-RADIUS=500;X-TITLE=25 South Oklahoma Avenue\, Suite 400:geo:-97.5109338,35.4656614
END:VEVENT
BEGIN:VEVENT
DTSTART;TZID=UTC:20260523T093000
DTEND;TZID=UTC:20260523T210000
DTSTAMP:20260425T152858
CREATED:20260324T215650Z
LAST-MODIFIED:20260324T215650Z
UID:10040790-1779528600-1779570000@downtownokc.com
SUMMARY:Paint and Sip in Bricktown!
DESCRIPTION:From set up to shutdown our artists are constantly on the move to make sure you paint\, drink and have fun!! We teach you step by step how to create all of the paintings we offer! \n✨Enhance your experience with our new DIY candle add-on for only $25! Simply arrive 30 minutes before class to pour your own all-natural soy candle in your favorite scent. It cures while you paint\, so you’ll leave with both your masterpiece and your very own custom hand-poured candle. 🔔Please note that late arrival may result in forfeiting the opportunity to create your candle. Bricktown parking can be unpredictable and busy\, so we encourage guests to plan accordingly.
URL:https://downtownokc.com/event/paint-and-sip-in-bricktown/2026-05-23/
LOCATION:Pinots Palette\, 115 E California Ave.\, Oklahoma City\, OK\, 73104\, United States
CATEGORIES:Bricktown,Downtown OKC
ATTACH;FMTTYPE=image/jpeg:https://downtownokc.com/wp-content/uploads/2026/03/Willowbrook_Edited-21-2-scaled.jpg
END:VEVENT
BEGIN:VEVENT
DTSTART;TZID=UTC:20260530T093000
DTEND;TZID=UTC:20260530T210000
DTSTAMP:20260425T152858
CREATED:20260324T215650Z
LAST-MODIFIED:20260324T215650Z
UID:10040791-1780133400-1780174800@downtownokc.com
SUMMARY:Paint and Sip in Bricktown!
DESCRIPTION:From set up to shutdown our artists are constantly on the move to make sure you paint\, drink and have fun!! We teach you step by step how to create all of the paintings we offer! \n✨Enhance your experience with our new DIY candle add-on for only $25! Simply arrive 30 minutes before class to pour your own all-natural soy candle in your favorite scent. It cures while you paint\, so you’ll leave with both your masterpiece and your very own custom hand-poured candle. 🔔Please note that late arrival may result in forfeiting the opportunity to create your candle. Bricktown parking can be unpredictable and busy\, so we encourage guests to plan accordingly.
URL:https://downtownokc.com/event/paint-and-sip-in-bricktown/2026-05-30/
LOCATION:Pinots Palette\, 115 E California Ave.\, Oklahoma City\, OK\, 73104\, United States
CATEGORIES:Bricktown,Downtown OKC
ATTACH;FMTTYPE=image/jpeg:https://downtownokc.com/wp-content/uploads/2026/03/Willowbrook_Edited-21-2-scaled.jpg
END:VEVENT
BEGIN:VEVENT
DTSTART;TZID=UTC:20260530T190000
DTEND;TZID=UTC:20260530T213000
DTSTAMP:20260425T152858
CREATED:20260309T133358Z
LAST-MODIFIED:20260309T133358Z
UID:10039609-1780167600-1780176600@downtownokc.com
SUMMARY:Oklahoma Opry
DESCRIPTION:Weekly Saturday night Opry shows introduce talented new performers who share the stage with special guests\, Oklahoma City icons\, and the professional Opry house band in a family-friendly\, live music show proclaimed Oklahoma’s Official Country Music Show.
URL:https://downtownokc.com/event/oklahoma-opry-15/2026-05-30/
LOCATION:ACM@UCO\, 25 South Oklahoma Avenue\, Suite 400\, Okahoma City\, OK\, 73104
CATEGORIES:Bricktown,Downtown OKC
ATTACH;FMTTYPE=image/jpeg:https://downtownokc.com/wp-content/uploads/2026/03/9G8A7245-scaled.jpeg
ORGANIZER;CN="Oklahoma Opry":MAILTO:kelcie.lee@ohfo.org
GEO:35.4656614;-97.5109338
X-APPLE-STRUCTURED-LOCATION;VALUE=URI;X-ADDRESS=ACM@UCO 25 South Oklahoma Avenue Suite 400 Okahoma City OK 73104;X-APPLE-RADIUS=500;X-TITLE=25 South Oklahoma Avenue\, Suite 400:geo:-97.5109338,35.4656614
END:VEVENT
END:VCALENDAR