BEGIN:VCALENDAR
VERSION:2.0
PRODID:-//Downtown OKC - ECPv6.15.20//NONSGML v1.0//EN
CALSCALE:GREGORIAN
METHOD:PUBLISH
X-WR-CALNAME:Downtown OKC
X-ORIGINAL-URL:https://downtownokc.com
X-WR-CALDESC:Events for Downtown OKC
REFRESH-INTERVAL;VALUE=DURATION:PT1H
X-Robots-Tag:noindex
X-PUBLISHED-TTL:PT1H
BEGIN:VTIMEZONE
TZID:UTC
BEGIN:STANDARD
TZOFFSETFROM:+0000
TZOFFSETTO:+0000
TZNAME:UTC
DTSTART:20250101T000000
END:STANDARD
END:VTIMEZONE
BEGIN:VEVENT
DTSTART;TZID=UTC:20260306T210000
DTEND;TZID=UTC:20260306T230000
DTSTAMP:20260425T165920
CREATED:20260309T133601Z
LAST-MODIFIED:20260309T133601Z
UID:10039670-1772830800-1772838000@downtownokc.com
SUMMARY:Live Music - The Vault at The National
DESCRIPTION:Enjoy live music in The National\, Autograph Collection Downtown OKC’s former bank vault turned swanky lounge\, The Vault. \nThe National\n120 N Robinson Ave\nOklahoma-City\, Oklahoma\, 73102
URL:https://downtownokc.com/event/live-music-the-vault-at-the-national/2026-03-06/
LOCATION:The National\, Autograph Collection Downtown OKC\, 120 N Robinson Ave\, Oklahoma City\, OK\, 73102\, United States
CATEGORIES:City Center,Downtown OKC
ATTACH;FMTTYPE=image/png:https://downtownokc.com/wp-content/uploads/2026/03/Screenshot-2026-03-04-184830.png
END:VEVENT
BEGIN:VEVENT
DTSTART;TZID=UTC:20260307T190000
DTEND;TZID=UTC:20260307T213000
DTSTAMP:20260425T165920
CREATED:20260309T133358Z
LAST-MODIFIED:20260309T133358Z
UID:10039600-1772910000-1772919000@downtownokc.com
SUMMARY:Oklahoma Opry
DESCRIPTION:Weekly Saturday night Opry shows introduce talented new performers who share the stage with special guests\, Oklahoma City icons\, and the professional Opry house band in a family-friendly\, live music show proclaimed Oklahoma’s Official Country Music Show.
URL:https://downtownokc.com/event/oklahoma-opry-15/2026-03-07/
LOCATION:ACM@UCO\, 25 South Oklahoma Avenue\, Suite 400\, Okahoma City\, OK\, 73104
CATEGORIES:Bricktown,Downtown OKC
ATTACH;FMTTYPE=image/jpeg:https://downtownokc.com/wp-content/uploads/2026/03/9G8A7245-scaled.jpeg
ORGANIZER;CN="Oklahoma Opry":MAILTO:kelcie.lee@ohfo.org
GEO:35.4656614;-97.5109338
X-APPLE-STRUCTURED-LOCATION;VALUE=URI;X-ADDRESS=ACM@UCO 25 South Oklahoma Avenue Suite 400 Okahoma City OK 73104;X-APPLE-RADIUS=500;X-TITLE=25 South Oklahoma Avenue\, Suite 400:geo:-97.5109338,35.4656614
END:VEVENT
BEGIN:VEVENT
DTSTART;TZID=UTC:20260307T210000
DTEND;TZID=UTC:20260307T230000
DTSTAMP:20260425T165920
CREATED:20260309T133601Z
LAST-MODIFIED:20260309T133601Z
UID:10039671-1772917200-1772924400@downtownokc.com
SUMMARY:Live Music - The Vault at The National
DESCRIPTION:Enjoy live music in The National\, Autograph Collection Downtown OKC’s former bank vault turned swanky lounge\, The Vault. \nThe National\n120 N Robinson Ave\nOklahoma-City\, Oklahoma\, 73102
URL:https://downtownokc.com/event/live-music-the-vault-at-the-national/2026-03-07/
LOCATION:The National\, Autograph Collection Downtown OKC\, 120 N Robinson Ave\, Oklahoma City\, OK\, 73102\, United States
CATEGORIES:City Center,Downtown OKC
ATTACH;FMTTYPE=image/png:https://downtownokc.com/wp-content/uploads/2026/03/Screenshot-2026-03-04-184830.png
END:VEVENT
BEGIN:VEVENT
DTSTART;TZID=UTC:20260313T210000
DTEND;TZID=UTC:20260313T230000
DTSTAMP:20260425T165920
CREATED:20260309T133601Z
LAST-MODIFIED:20260309T133601Z
UID:10039672-1773435600-1773442800@downtownokc.com
SUMMARY:Live Music - The Vault at The National
DESCRIPTION:Enjoy live music in The National\, Autograph Collection Downtown OKC’s former bank vault turned swanky lounge\, The Vault. \nThe National\n120 N Robinson Ave\nOklahoma-City\, Oklahoma\, 73102
URL:https://downtownokc.com/event/live-music-the-vault-at-the-national/2026-03-13/
LOCATION:The National\, Autograph Collection Downtown OKC\, 120 N Robinson Ave\, Oklahoma City\, OK\, 73102\, United States
CATEGORIES:City Center,Downtown OKC
ATTACH;FMTTYPE=image/png:https://downtownokc.com/wp-content/uploads/2026/03/Screenshot-2026-03-04-184830.png
END:VEVENT
BEGIN:VEVENT
DTSTART;VALUE=DATE:20260314
DTEND;VALUE=DATE:20260315
DTSTAMP:20260425T165920
CREATED:20260220T182129Z
LAST-MODIFIED:20260220T182129Z
UID:10039467-1773446400-1773532799@downtownokc.com
SUMMARY:Paddy O' Party at The Jones Assembly
DESCRIPTION:Paddy O’ Party is back. Join us on Saturday\, March 14\, as we take over the patio for a full day of St. Patrick’s Day festivities featuring green beer flowing all day\, patio food specials\, and live music starting in the morning. There are no tickets and no cover\, just show up wearing green and ready to celebrate. Reserve your brunch spot on Resy before they fill up\, then stay and enjoy the party all day.
URL:https://downtownokc.com/event/paddy-o-party-at-the-jones-assembly/
LOCATION:The Jones Assembly\, 901 W Sheridan Ave\, Oklahoma City\, OK\, 73106\, United States
CATEGORIES:Downtown OKC,West Village
ATTACH;FMTTYPE=image/jpeg:https://downtownokc.com/wp-content/uploads/2026/02/627907313_18528470932068207_7181967213373205345_n-1.jpg
GEO:35.466874;-97.5277
X-APPLE-STRUCTURED-LOCATION;VALUE=URI;X-ADDRESS=The Jones Assembly 901 W Sheridan Ave Oklahoma City OK 73106 United States;X-APPLE-RADIUS=500;X-TITLE=901 W Sheridan Ave:geo:-97.5277,35.466874
END:VEVENT
BEGIN:VEVENT
DTSTART;TZID=UTC:20260314T100000
DTEND;TZID=UTC:20260314T120000
DTSTAMP:20260425T165920
CREATED:20260316T141735Z
LAST-MODIFIED:20260316T141735Z
UID:10040511-1773482400-1773489600@downtownokc.com
SUMMARY:Paint Spring Mountain at Pinots Palette Bricktown!
DESCRIPTION:A tranquil lake at the base of a picturesque mountain surrounded by cherry blossoms. A perfect reminder of the renewal of spring. From set up to shutdown our artists are constantly on the move to make sure you paint\, drink and have fun!! We teach you step by step how to create all of the paintings we offer! \n✨Enhance your experience with our new DIY candle add-on for only $25! Simply arrive 30 minutes before class to pour your own all-natural soy candle in your favorite scent. It cures while you paint\, so you’ll leave with both your masterpiece and your very own custom hand-poured candle. 🔔Please note that late arrival may result in forfeiting the opportunity to create your candle. Bricktown parking can be unpredictable and busy\, so we encourage guests to plan accordingly.
URL:https://downtownokc.com/event/paint-spring-mountain-at-pinots-palette-bricktown/
LOCATION:Pinots Palette\, 115 E California Ave.\, Oklahoma City\, OK\, 73104\, United States
CATEGORIES:Bricktown
ATTACH;FMTTYPE=image/jpeg:https://downtownokc.com/wp-content/uploads/2026/03/spring-mountain-tv.jpeg
END:VEVENT
BEGIN:VEVENT
DTSTART;TZID=UTC:20260314T190000
DTEND;TZID=UTC:20260314T213000
DTSTAMP:20260425T165920
CREATED:20260309T133358Z
LAST-MODIFIED:20260309T133358Z
UID:10039601-1773514800-1773523800@downtownokc.com
SUMMARY:Oklahoma Opry
DESCRIPTION:Weekly Saturday night Opry shows introduce talented new performers who share the stage with special guests\, Oklahoma City icons\, and the professional Opry house band in a family-friendly\, live music show proclaimed Oklahoma’s Official Country Music Show.
URL:https://downtownokc.com/event/oklahoma-opry-15/2026-03-14/
LOCATION:ACM@UCO\, 25 South Oklahoma Avenue\, Suite 400\, Okahoma City\, OK\, 73104
CATEGORIES:Bricktown,Downtown OKC
ATTACH;FMTTYPE=image/jpeg:https://downtownokc.com/wp-content/uploads/2026/03/9G8A7245-scaled.jpeg
ORGANIZER;CN="Oklahoma Opry":MAILTO:kelcie.lee@ohfo.org
GEO:35.4656614;-97.5109338
X-APPLE-STRUCTURED-LOCATION;VALUE=URI;X-ADDRESS=ACM@UCO 25 South Oklahoma Avenue Suite 400 Okahoma City OK 73104;X-APPLE-RADIUS=500;X-TITLE=25 South Oklahoma Avenue\, Suite 400:geo:-97.5109338,35.4656614
END:VEVENT
BEGIN:VEVENT
DTSTART;TZID=UTC:20260314T210000
DTEND;TZID=UTC:20260314T230000
DTSTAMP:20260425T165920
CREATED:20260309T133601Z
LAST-MODIFIED:20260309T133601Z
UID:10039673-1773522000-1773529200@downtownokc.com
SUMMARY:Live Music - The Vault at The National
DESCRIPTION:Enjoy live music in The National\, Autograph Collection Downtown OKC’s former bank vault turned swanky lounge\, The Vault. \nThe National\n120 N Robinson Ave\nOklahoma-City\, Oklahoma\, 73102
URL:https://downtownokc.com/event/live-music-the-vault-at-the-national/2026-03-14/
LOCATION:The National\, Autograph Collection Downtown OKC\, 120 N Robinson Ave\, Oklahoma City\, OK\, 73102\, United States
CATEGORIES:City Center,Downtown OKC
ATTACH;FMTTYPE=image/png:https://downtownokc.com/wp-content/uploads/2026/03/Screenshot-2026-03-04-184830.png
END:VEVENT
BEGIN:VEVENT
DTSTART;TZID=UTC:20260316T183000
DTEND;TZID=UTC:20260316T210000
DTSTAMP:20260425T165920
CREATED:20260316T142238Z
LAST-MODIFIED:20260316T142238Z
UID:10040512-1773685800-1773694800@downtownokc.com
SUMMARY:$3 Wine Night at Pinot's Palette Bricktown!
DESCRIPTION:“Green is the prime color of the world and that from which loveliness arises.” Pedro Calderon de la Barca. Start your week off right! Enjoy our select House Red or White wine for just $3.00 a glass!! From set up to shutdown our artists are constantly on the move to make sure you paint\, drink and have fun!! We teach you step by step how to create all of the paintings we offer! \n✨Enhance your experience with our new DIY candle add-on for only $25! Simply arrive 30 minutes before class to pour your own all-natural soy candle in your favorite scent. It cures while you paint\, so you’ll leave with both your masterpiece and your very own custom hand-poured candle. 🔔Please note that late arrival may result in forfeiting the opportunity to create your candle. Bricktown parking can be unpredictable and busy\, so we encourage guests to plan accordingly.
URL:https://downtownokc.com/event/3-wine-night-at-pinots-palette-bricktown/
LOCATION:Pinots Palette\, 115 E California Ave.\, Oklahoma City\, OK\, 73104\, United States
CATEGORIES:Bricktown,Downtown OKC
ATTACH;FMTTYPE=image/png:https://downtownokc.com/wp-content/uploads/2026/03/PPB-2025-WEEKLY-SPECIALS-insta-post-12.png
END:VEVENT
BEGIN:VEVENT
DTSTART;TZID=UTC:20260320T210000
DTEND;TZID=UTC:20260320T230000
DTSTAMP:20260425T165920
CREATED:20260309T133601Z
LAST-MODIFIED:20260309T133601Z
UID:10039674-1774040400-1774047600@downtownokc.com
SUMMARY:Live Music - The Vault at The National
DESCRIPTION:Enjoy live music in The National\, Autograph Collection Downtown OKC’s former bank vault turned swanky lounge\, The Vault. \nThe National\n120 N Robinson Ave\nOklahoma-City\, Oklahoma\, 73102
URL:https://downtownokc.com/event/live-music-the-vault-at-the-national/2026-03-20/
LOCATION:The National\, Autograph Collection Downtown OKC\, 120 N Robinson Ave\, Oklahoma City\, OK\, 73102\, United States
CATEGORIES:City Center,Downtown OKC
ATTACH;FMTTYPE=image/png:https://downtownokc.com/wp-content/uploads/2026/03/Screenshot-2026-03-04-184830.png
END:VEVENT
BEGIN:VEVENT
DTSTART;TZID=UTC:20260321T190000
DTEND;TZID=UTC:20260321T213000
DTSTAMP:20260425T165920
CREATED:20260309T133358Z
LAST-MODIFIED:20260309T133358Z
UID:10039602-1774119600-1774128600@downtownokc.com
SUMMARY:Oklahoma Opry
DESCRIPTION:Weekly Saturday night Opry shows introduce talented new performers who share the stage with special guests\, Oklahoma City icons\, and the professional Opry house band in a family-friendly\, live music show proclaimed Oklahoma’s Official Country Music Show.
URL:https://downtownokc.com/event/oklahoma-opry-15/2026-03-21/
LOCATION:ACM@UCO\, 25 South Oklahoma Avenue\, Suite 400\, Okahoma City\, OK\, 73104
CATEGORIES:Bricktown,Downtown OKC
ATTACH;FMTTYPE=image/jpeg:https://downtownokc.com/wp-content/uploads/2026/03/9G8A7245-scaled.jpeg
ORGANIZER;CN="Oklahoma Opry":MAILTO:kelcie.lee@ohfo.org
GEO:35.4656614;-97.5109338
X-APPLE-STRUCTURED-LOCATION;VALUE=URI;X-ADDRESS=ACM@UCO 25 South Oklahoma Avenue Suite 400 Okahoma City OK 73104;X-APPLE-RADIUS=500;X-TITLE=25 South Oklahoma Avenue\, Suite 400:geo:-97.5109338,35.4656614
END:VEVENT
BEGIN:VEVENT
DTSTART;TZID=UTC:20260321T210000
DTEND;TZID=UTC:20260321T230000
DTSTAMP:20260425T165920
CREATED:20260309T133601Z
LAST-MODIFIED:20260309T133601Z
UID:10039675-1774126800-1774134000@downtownokc.com
SUMMARY:Live Music - The Vault at The National
DESCRIPTION:Enjoy live music in The National\, Autograph Collection Downtown OKC’s former bank vault turned swanky lounge\, The Vault. \nThe National\n120 N Robinson Ave\nOklahoma-City\, Oklahoma\, 73102
URL:https://downtownokc.com/event/live-music-the-vault-at-the-national/2026-03-21/
LOCATION:The National\, Autograph Collection Downtown OKC\, 120 N Robinson Ave\, Oklahoma City\, OK\, 73102\, United States
CATEGORIES:City Center,Downtown OKC
ATTACH;FMTTYPE=image/png:https://downtownokc.com/wp-content/uploads/2026/03/Screenshot-2026-03-04-184830.png
END:VEVENT
BEGIN:VEVENT
DTSTART;TZID=UTC:20260327T210000
DTEND;TZID=UTC:20260327T230000
DTSTAMP:20260425T165920
CREATED:20260309T133601Z
LAST-MODIFIED:20260309T133601Z
UID:10039676-1774645200-1774652400@downtownokc.com
SUMMARY:Live Music - The Vault at The National
DESCRIPTION:Enjoy live music in The National\, Autograph Collection Downtown OKC’s former bank vault turned swanky lounge\, The Vault. \nThe National\n120 N Robinson Ave\nOklahoma-City\, Oklahoma\, 73102
URL:https://downtownokc.com/event/live-music-the-vault-at-the-national/2026-03-27/
LOCATION:The National\, Autograph Collection Downtown OKC\, 120 N Robinson Ave\, Oklahoma City\, OK\, 73102\, United States
CATEGORIES:City Center,Downtown OKC
ATTACH;FMTTYPE=image/png:https://downtownokc.com/wp-content/uploads/2026/03/Screenshot-2026-03-04-184830.png
END:VEVENT
BEGIN:VEVENT
DTSTART;TZID=UTC:20260328T093000
DTEND;TZID=UTC:20260328T210000
DTSTAMP:20260425T165920
CREATED:20260324T215650Z
LAST-MODIFIED:20260324T215650Z
UID:10040782-1774690200-1774731600@downtownokc.com
SUMMARY:Paint and Sip in Bricktown!
DESCRIPTION:From set up to shutdown our artists are constantly on the move to make sure you paint\, drink and have fun!! We teach you step by step how to create all of the paintings we offer! \n✨Enhance your experience with our new DIY candle add-on for only $25! Simply arrive 30 minutes before class to pour your own all-natural soy candle in your favorite scent. It cures while you paint\, so you’ll leave with both your masterpiece and your very own custom hand-poured candle. 🔔Please note that late arrival may result in forfeiting the opportunity to create your candle. Bricktown parking can be unpredictable and busy\, so we encourage guests to plan accordingly.
URL:https://downtownokc.com/event/paint-and-sip-in-bricktown/2026-03-28/
LOCATION:Pinots Palette\, 115 E California Ave.\, Oklahoma City\, OK\, 73104\, United States
CATEGORIES:Bricktown,Downtown OKC
ATTACH;FMTTYPE=image/jpeg:https://downtownokc.com/wp-content/uploads/2026/03/Willowbrook_Edited-21-2-scaled.jpg
END:VEVENT
BEGIN:VEVENT
DTSTART;TZID=UTC:20260328T190000
DTEND;TZID=UTC:20260328T213000
DTSTAMP:20260425T165920
CREATED:20260309T133358Z
LAST-MODIFIED:20260309T133358Z
UID:10039603-1774724400-1774733400@downtownokc.com
SUMMARY:Oklahoma Opry
DESCRIPTION:Weekly Saturday night Opry shows introduce talented new performers who share the stage with special guests\, Oklahoma City icons\, and the professional Opry house band in a family-friendly\, live music show proclaimed Oklahoma’s Official Country Music Show.
URL:https://downtownokc.com/event/oklahoma-opry-15/2026-03-28/
LOCATION:ACM@UCO\, 25 South Oklahoma Avenue\, Suite 400\, Okahoma City\, OK\, 73104
CATEGORIES:Bricktown,Downtown OKC
ATTACH;FMTTYPE=image/jpeg:https://downtownokc.com/wp-content/uploads/2026/03/9G8A7245-scaled.jpeg
ORGANIZER;CN="Oklahoma Opry":MAILTO:kelcie.lee@ohfo.org
GEO:35.4656614;-97.5109338
X-APPLE-STRUCTURED-LOCATION;VALUE=URI;X-ADDRESS=ACM@UCO 25 South Oklahoma Avenue Suite 400 Okahoma City OK 73104;X-APPLE-RADIUS=500;X-TITLE=25 South Oklahoma Avenue\, Suite 400:geo:-97.5109338,35.4656614
END:VEVENT
BEGIN:VEVENT
DTSTART;TZID=UTC:20260328T210000
DTEND;TZID=UTC:20260328T230000
DTSTAMP:20260425T165920
CREATED:20260309T133601Z
LAST-MODIFIED:20260309T133601Z
UID:10039677-1774731600-1774738800@downtownokc.com
SUMMARY:Live Music - The Vault at The National
DESCRIPTION:Enjoy live music in The National\, Autograph Collection Downtown OKC’s former bank vault turned swanky lounge\, The Vault. \nThe National\n120 N Robinson Ave\nOklahoma-City\, Oklahoma\, 73102
URL:https://downtownokc.com/event/live-music-the-vault-at-the-national/2026-03-28/
LOCATION:The National\, Autograph Collection Downtown OKC\, 120 N Robinson Ave\, Oklahoma City\, OK\, 73102\, United States
CATEGORIES:City Center,Downtown OKC
ATTACH;FMTTYPE=image/png:https://downtownokc.com/wp-content/uploads/2026/03/Screenshot-2026-03-04-184830.png
END:VEVENT
END:VCALENDAR