BEGIN:VCALENDAR
VERSION:2.0
PRODID:-//Downtown OKC - ECPv6.15.20//NONSGML v1.0//EN
CALSCALE:GREGORIAN
METHOD:PUBLISH
X-ORIGINAL-URL:https://downtownokc.com
X-WR-CALDESC:Events for Downtown OKC
REFRESH-INTERVAL;VALUE=DURATION:PT1H
X-Robots-Tag:noindex
X-PUBLISHED-TTL:PT1H
BEGIN:VTIMEZONE
TZID:UTC
BEGIN:STANDARD
TZOFFSETFROM:+0000
TZOFFSETTO:+0000
TZNAME:UTC
DTSTART:20250101T000000
END:STANDARD
END:VTIMEZONE
BEGIN:VEVENT
DTSTART;TZID=UTC:20260704T093000
DTEND;TZID=UTC:20260704T113000
DTSTAMP:20260421T183851
CREATED:20251103T180611Z
LAST-MODIFIED:20251103T180611Z
UID:10037867-1783157400-1783164600@downtownokc.com
SUMMARY:Downtown Walking Tour
DESCRIPTION:Enjoy fascinating stories about OKC from its pioneering past to modern day. Learn about the city’s quirky geography\, historic skyscrapers\, and colorful characters on this entertaining downtown walking tour.
URL:https://downtownokc.com/event/downtown-walking-tour/2026-07-04/
LOCATION:First National Center\, 120 N Robinson Ave. \, Oklahoma City \, OK\, 73102\, United States
CATEGORIES:City Center,Downtown OKC
ATTACH;FMTTYPE=image/jpeg:https://downtownokc.com/wp-content/uploads/2025/08/okc-tours-downtown.jpg
ORGANIZER;CN="OKC Tours":MAILTO:tours.okc@gmail.com
GEO:35.468503;-97.5162395
X-APPLE-STRUCTURED-LOCATION;VALUE=URI;X-ADDRESS=First National Center 120 N Robinson Ave.  Oklahoma City  OK 73102 United States;X-APPLE-RADIUS=500;X-TITLE=120 N Robinson Ave.:geo:-97.5162395,35.468503
END:VEVENT
BEGIN:VEVENT
DTSTART;TZID=UTC:20260711T093000
DTEND;TZID=UTC:20260711T113000
DTSTAMP:20260421T183851
CREATED:20251103T180611Z
LAST-MODIFIED:20251103T180611Z
UID:10037868-1783762200-1783769400@downtownokc.com
SUMMARY:Downtown Walking Tour
DESCRIPTION:Enjoy fascinating stories about OKC from its pioneering past to modern day. Learn about the city’s quirky geography\, historic skyscrapers\, and colorful characters on this entertaining downtown walking tour.
URL:https://downtownokc.com/event/downtown-walking-tour/2026-07-11/
LOCATION:First National Center\, 120 N Robinson Ave. \, Oklahoma City \, OK\, 73102\, United States
CATEGORIES:City Center,Downtown OKC
ATTACH;FMTTYPE=image/jpeg:https://downtownokc.com/wp-content/uploads/2025/08/okc-tours-downtown.jpg
ORGANIZER;CN="OKC Tours":MAILTO:tours.okc@gmail.com
GEO:35.468503;-97.5162395
X-APPLE-STRUCTURED-LOCATION;VALUE=URI;X-ADDRESS=First National Center 120 N Robinson Ave.  Oklahoma City  OK 73102 United States;X-APPLE-RADIUS=500;X-TITLE=120 N Robinson Ave.:geo:-97.5162395,35.468503
END:VEVENT
BEGIN:VEVENT
DTSTART;TZID=UTC:20260718T093000
DTEND;TZID=UTC:20260718T113000
DTSTAMP:20260421T183851
CREATED:20251103T180611Z
LAST-MODIFIED:20251103T180611Z
UID:10037869-1784367000-1784374200@downtownokc.com
SUMMARY:Downtown Walking Tour
DESCRIPTION:Enjoy fascinating stories about OKC from its pioneering past to modern day. Learn about the city’s quirky geography\, historic skyscrapers\, and colorful characters on this entertaining downtown walking tour.
URL:https://downtownokc.com/event/downtown-walking-tour/2026-07-18/
LOCATION:First National Center\, 120 N Robinson Ave. \, Oklahoma City \, OK\, 73102\, United States
CATEGORIES:City Center,Downtown OKC
ATTACH;FMTTYPE=image/jpeg:https://downtownokc.com/wp-content/uploads/2025/08/okc-tours-downtown.jpg
ORGANIZER;CN="OKC Tours":MAILTO:tours.okc@gmail.com
GEO:35.468503;-97.5162395
X-APPLE-STRUCTURED-LOCATION;VALUE=URI;X-ADDRESS=First National Center 120 N Robinson Ave.  Oklahoma City  OK 73102 United States;X-APPLE-RADIUS=500;X-TITLE=120 N Robinson Ave.:geo:-97.5162395,35.468503
END:VEVENT
BEGIN:VEVENT
DTSTART;TZID=UTC:20260725T093000
DTEND;TZID=UTC:20260725T113000
DTSTAMP:20260421T183851
CREATED:20251103T180611Z
LAST-MODIFIED:20251103T180611Z
UID:10037870-1784971800-1784979000@downtownokc.com
SUMMARY:Downtown Walking Tour
DESCRIPTION:Enjoy fascinating stories about OKC from its pioneering past to modern day. Learn about the city’s quirky geography\, historic skyscrapers\, and colorful characters on this entertaining downtown walking tour.
URL:https://downtownokc.com/event/downtown-walking-tour/2026-07-25/
LOCATION:First National Center\, 120 N Robinson Ave. \, Oklahoma City \, OK\, 73102\, United States
CATEGORIES:City Center,Downtown OKC
ATTACH;FMTTYPE=image/jpeg:https://downtownokc.com/wp-content/uploads/2025/08/okc-tours-downtown.jpg
ORGANIZER;CN="OKC Tours":MAILTO:tours.okc@gmail.com
GEO:35.468503;-97.5162395
X-APPLE-STRUCTURED-LOCATION;VALUE=URI;X-ADDRESS=First National Center 120 N Robinson Ave.  Oklahoma City  OK 73102 United States;X-APPLE-RADIUS=500;X-TITLE=120 N Robinson Ave.:geo:-97.5162395,35.468503
END:VEVENT
END:VCALENDAR