BEGIN:VCALENDAR
VERSION:2.0
PRODID:-//Downtown OKC - ECPv6.15.20//NONSGML v1.0//EN
CALSCALE:GREGORIAN
METHOD:PUBLISH
X-WR-CALNAME:Downtown OKC
X-ORIGINAL-URL:https://downtownokc.com
X-WR-CALDESC:Events for Downtown OKC
REFRESH-INTERVAL;VALUE=DURATION:PT1H
X-Robots-Tag:noindex
X-PUBLISHED-TTL:PT1H
BEGIN:VTIMEZONE
TZID:UTC
BEGIN:STANDARD
TZOFFSETFROM:+0000
TZOFFSETTO:+0000
TZNAME:UTC
DTSTART:20250101T000000
END:STANDARD
END:VTIMEZONE
BEGIN:VEVENT
DTSTART;TZID=UTC:20260606T093000
DTEND;TZID=UTC:20260606T113000
DTSTAMP:20260423T114521
CREATED:20251103T180611Z
LAST-MODIFIED:20251103T180611Z
UID:10037863-1780738200-1780745400@downtownokc.com
SUMMARY:Downtown Walking Tour
DESCRIPTION:Enjoy fascinating stories about OKC from its pioneering past to modern day. Learn about the city’s quirky geography\, historic skyscrapers\, and colorful characters on this entertaining downtown walking tour.
URL:https://downtownokc.com/event/downtown-walking-tour/2026-06-06/
LOCATION:First National Center\, 120 N Robinson Ave. \, Oklahoma City \, OK\, 73102\, United States
CATEGORIES:City Center,Downtown OKC
ATTACH;FMTTYPE=image/jpeg:https://downtownokc.com/wp-content/uploads/2025/08/okc-tours-downtown.jpg
ORGANIZER;CN="OKC Tours":MAILTO:tours.okc@gmail.com
GEO:35.468503;-97.5162395
X-APPLE-STRUCTURED-LOCATION;VALUE=URI;X-ADDRESS=First National Center 120 N Robinson Ave.  Oklahoma City  OK 73102 United States;X-APPLE-RADIUS=500;X-TITLE=120 N Robinson Ave.:geo:-97.5162395,35.468503
END:VEVENT
BEGIN:VEVENT
DTSTART;TZID=UTC:20260611T183000
DTEND;TZID=UTC:20260611T223000
DTSTAMP:20260423T114521
CREATED:20260324T215757Z
LAST-MODIFIED:20260324T215757Z
UID:10041303-1781202600-1781217000@downtownokc.com
SUMMARY:Josh Abbott Band with Special Guest Cam Allen
DESCRIPTION:For nearly two decades\, Josh Abbott Band (JAB) have held strong as one of the most potent and vital forces in Texas country music. Fronted by singer/songwriter/guitarist Josh Abbott\, the band has built an ardent following on the strengths of their fiery live show\, wide-ranging instrumentation\, relentless touring schedule\, and seven acclaimed studio albums spotlighting their unique sound and honest songwriting. With three RIAA gold-certified singles\, JAB has found success while staying true to their independent spirit.
URL:https://downtownokc.com/event/josh-abbott-band-with-special-guest-cam-allen/
LOCATION:The Jones Assembly\, 901 W Sheridan Ave\, Oklahoma City\, OK\, 73106\, United States
CATEGORIES:Downtown OKC,West Village
ATTACH;FMTTYPE=image/png:https://downtownokc.com/wp-content/uploads/2026/03/Concert-Announce-Images.png
GEO:35.466874;-97.5277
X-APPLE-STRUCTURED-LOCATION;VALUE=URI;X-ADDRESS=The Jones Assembly 901 W Sheridan Ave Oklahoma City OK 73106 United States;X-APPLE-RADIUS=500;X-TITLE=901 W Sheridan Ave:geo:-97.5277,35.466874
END:VEVENT
BEGIN:VEVENT
DTSTART;TZID=UTC:20260613T093000
DTEND;TZID=UTC:20260613T113000
DTSTAMP:20260423T114521
CREATED:20251103T180611Z
LAST-MODIFIED:20251103T180611Z
UID:10037864-1781343000-1781350200@downtownokc.com
SUMMARY:Downtown Walking Tour
DESCRIPTION:Enjoy fascinating stories about OKC from its pioneering past to modern day. Learn about the city’s quirky geography\, historic skyscrapers\, and colorful characters on this entertaining downtown walking tour.
URL:https://downtownokc.com/event/downtown-walking-tour/2026-06-13/
LOCATION:First National Center\, 120 N Robinson Ave. \, Oklahoma City \, OK\, 73102\, United States
CATEGORIES:City Center,Downtown OKC
ATTACH;FMTTYPE=image/jpeg:https://downtownokc.com/wp-content/uploads/2025/08/okc-tours-downtown.jpg
ORGANIZER;CN="OKC Tours":MAILTO:tours.okc@gmail.com
GEO:35.468503;-97.5162395
X-APPLE-STRUCTURED-LOCATION;VALUE=URI;X-ADDRESS=First National Center 120 N Robinson Ave.  Oklahoma City  OK 73102 United States;X-APPLE-RADIUS=500;X-TITLE=120 N Robinson Ave.:geo:-97.5162395,35.468503
END:VEVENT
BEGIN:VEVENT
DTSTART;TZID=UTC:20260620T093000
DTEND;TZID=UTC:20260620T113000
DTSTAMP:20260423T114521
CREATED:20251103T180611Z
LAST-MODIFIED:20251103T180611Z
UID:10037865-1781947800-1781955000@downtownokc.com
SUMMARY:Downtown Walking Tour
DESCRIPTION:Enjoy fascinating stories about OKC from its pioneering past to modern day. Learn about the city’s quirky geography\, historic skyscrapers\, and colorful characters on this entertaining downtown walking tour.
URL:https://downtownokc.com/event/downtown-walking-tour/2026-06-20/
LOCATION:First National Center\, 120 N Robinson Ave. \, Oklahoma City \, OK\, 73102\, United States
CATEGORIES:City Center,Downtown OKC
ATTACH;FMTTYPE=image/jpeg:https://downtownokc.com/wp-content/uploads/2025/08/okc-tours-downtown.jpg
ORGANIZER;CN="OKC Tours":MAILTO:tours.okc@gmail.com
GEO:35.468503;-97.5162395
X-APPLE-STRUCTURED-LOCATION;VALUE=URI;X-ADDRESS=First National Center 120 N Robinson Ave.  Oklahoma City  OK 73102 United States;X-APPLE-RADIUS=500;X-TITLE=120 N Robinson Ave.:geo:-97.5162395,35.468503
END:VEVENT
BEGIN:VEVENT
DTSTART;TZID=UTC:20260627T093000
DTEND;TZID=UTC:20260627T113000
DTSTAMP:20260423T114521
CREATED:20251103T180611Z
LAST-MODIFIED:20251103T180611Z
UID:10037866-1782552600-1782559800@downtownokc.com
SUMMARY:Downtown Walking Tour
DESCRIPTION:Enjoy fascinating stories about OKC from its pioneering past to modern day. Learn about the city’s quirky geography\, historic skyscrapers\, and colorful characters on this entertaining downtown walking tour.
URL:https://downtownokc.com/event/downtown-walking-tour/2026-06-27/
LOCATION:First National Center\, 120 N Robinson Ave. \, Oklahoma City \, OK\, 73102\, United States
CATEGORIES:City Center,Downtown OKC
ATTACH;FMTTYPE=image/jpeg:https://downtownokc.com/wp-content/uploads/2025/08/okc-tours-downtown.jpg
ORGANIZER;CN="OKC Tours":MAILTO:tours.okc@gmail.com
GEO:35.468503;-97.5162395
X-APPLE-STRUCTURED-LOCATION;VALUE=URI;X-ADDRESS=First National Center 120 N Robinson Ave.  Oklahoma City  OK 73102 United States;X-APPLE-RADIUS=500;X-TITLE=120 N Robinson Ave.:geo:-97.5162395,35.468503
END:VEVENT
END:VCALENDAR